BEGIN:VCALENDAR
VERSION:2.0
PRODID:-//Pearl River County Library System - ECPv6.15.20//NONSGML v1.0//EN
CALSCALE:GREGORIAN
METHOD:PUBLISH
X-WR-CALNAME:Pearl River County Library System
X-ORIGINAL-URL:https://pearlriver.lib.ms.us
X-WR-CALDESC:Events for Pearl River County Library System
REFRESH-INTERVAL;VALUE=DURATION:PT1H
X-Robots-Tag:noindex
X-PUBLISHED-TTL:PT1H
BEGIN:VTIMEZONE
TZID:UTC
BEGIN:STANDARD
TZOFFSETFROM:+0000
TZOFFSETTO:+0000
TZNAME:UTC
DTSTART:20220101T000000
END:STANDARD
END:VTIMEZONE
BEGIN:VEVENT
DTSTART;TZID=UTC:20231109T100000
DTEND;TZID=UTC:20231109T120000
DTSTAMP:20260419T173532
CREATED:20230628T003845Z
LAST-MODIFIED:20230722T000253Z
UID:10001216-1699524000-1699531200@pearlriver.lib.ms.us
SUMMARY:2nd Thursday Book Club PPL
DESCRIPTION:
URL:https://pearlriver.lib.ms.us/event/ppl-book-club-6/
CATEGORIES:Adults,Poplarville Public Library
END:VEVENT
BEGIN:VEVENT
DTSTART;TZID=UTC:20231109T170000
DTEND;TZID=UTC:20231109T200000
DTSTAMP:20260419T173532
CREATED:20230708T201724Z
LAST-MODIFIED:20230729T235237Z
UID:10001307-1699549200-1699560000@pearlriver.lib.ms.us
SUMMARY:Exodus Project 21
DESCRIPTION:Non-Library Event\nExodus Project 21 was established to wage a war against the perils of substance abuse. They aim to bridge all the gaps that recovering addicts experience that result in recidivism through a faith-based approach. Exodus Project 21 is a tax-exempt 501(c)3 created to facilitate an uninterrupted path from jail or rehab release to full societal re-entry complete with sobriety\, health\, housing\, transportation\, and employment for addicts seeking recovery.
URL:https://pearlriver.lib.ms.us/event/exodus-project-21/2023-11-09/
LOCATION:Margaret Reed Crosby Memorial Library\, 900 Goodyear Boulevard\, Picayune\, MS\, 39466\, United States
CATEGORIES:Adults,Crosby Memorial Library
ATTACH;FMTTYPE=image/jpeg:https://pearlriver.lib.ms.us/wp-content/uploads/2023/05/exodus-logo-grey.jpg
END:VEVENT
BEGIN:VEVENT
DTSTART;TZID=UTC:20231109T170000
DTEND;TZID=UTC:20231109T200000
DTSTAMP:20260419T173532
CREATED:20231012T192745Z
LAST-MODIFIED:20231012T192745Z
UID:10001739-1699549200-1699560000@pearlriver.lib.ms.us
SUMMARY:Department of Human Services
DESCRIPTION:
URL:https://pearlriver.lib.ms.us/event/department-of-human-services/
LOCATION:Poplarville Public Library\, 202 W Beers St\, Poplarville\, MS\, 39470\, United States
CATEGORIES:Adults,Poplarville Public Library
END:VEVENT
END:VCALENDAR