BEGIN:VCALENDAR
VERSION:2.0
PRODID:-//Pearl River County Library System - ECPv6.15.20//NONSGML v1.0//EN
CALSCALE:GREGORIAN
METHOD:PUBLISH
X-ORIGINAL-URL:https://pearlriver.lib.ms.us
X-WR-CALDESC:Events for Pearl River County Library System
REFRESH-INTERVAL;VALUE=DURATION:PT1H
X-Robots-Tag:noindex
X-PUBLISHED-TTL:PT1H
BEGIN:VTIMEZONE
TZID:UTC
BEGIN:STANDARD
TZOFFSETFROM:+0000
TZOFFSETTO:+0000
TZNAME:UTC
DTSTART:20220101T000000
END:STANDARD
END:VTIMEZONE
BEGIN:VEVENT
DTSTART;VALUE=DATE:20231110
DTEND;VALUE=DATE:20231112
DTSTAMP:20260419T194218
CREATED:20230624T000327Z
LAST-MODIFIED:20231127T202758Z
UID:10001076-1699574400-1699747199@pearlriver.lib.ms.us
SUMMARY:Library Closed!
DESCRIPTION:  \nRegular Library hours will resume November 13th!
URL:https://pearlriver.lib.ms.us/event/library-closed-3/
CATEGORIES:Library Closure
ATTACH;FMTTYPE=image/png:https://pearlriver.lib.ms.us/wp-content/uploads/2023/06/veterans-day.png
END:VEVENT
END:VCALENDAR