BEGIN:VCALENDAR
VERSION:2.0
PRODID:-//Pearl River County Library System - ECPv6.15.20//NONSGML v1.0//EN
CALSCALE:GREGORIAN
METHOD:PUBLISH
X-ORIGINAL-URL:https://pearlriver.lib.ms.us
X-WR-CALDESC:Events for Pearl River County Library System
REFRESH-INTERVAL;VALUE=DURATION:PT1H
X-Robots-Tag:noindex
X-PUBLISHED-TTL:PT1H
BEGIN:VTIMEZONE
TZID:UTC
BEGIN:STANDARD
TZOFFSETFROM:+0000
TZOFFSETTO:+0000
TZNAME:UTC
DTSTART:20220101T000000
END:STANDARD
END:VTIMEZONE
BEGIN:VEVENT
DTSTART;TZID=UTC:20231114T103000
DTEND;TZID=UTC:20231114T113000
DTSTAMP:20260419T193542
CREATED:20230628T005538Z
LAST-MODIFIED:20230628T005538Z
UID:10001228-1699957800-1699961400@pearlriver.lib.ms.us
SUMMARY:Fall Story Time
DESCRIPTION:
URL:https://pearlriver.lib.ms.us/event/fall-story-time-10/
CATEGORIES:Children,Poplarville Public Library
END:VEVENT
BEGIN:VEVENT
DTSTART;TZID=UTC:20231114T130000
DTEND;TZID=UTC:20231114T140000
DTSTAMP:20260419T193542
CREATED:20231010T235318Z
LAST-MODIFIED:20231010T235318Z
UID:10001736-1699966800-1699970400@pearlriver.lib.ms.us
SUMMARY:PRCCHEA Debate Club
DESCRIPTION:
URL:https://pearlriver.lib.ms.us/event/prcchea-debate-club-4/
CATEGORIES:Children,Poplarville Public Library
END:VEVENT
BEGIN:VEVENT
DTSTART;TZID=UTC:20231114T133000
DTEND;TZID=UTC:20231114T143000
DTSTAMP:20260419T193542
CREATED:20231031T212108Z
LAST-MODIFIED:20231118T025120Z
UID:10001753-1699968600-1699972200@pearlriver.lib.ms.us
SUMMARY:Random Readers' Book Club
DESCRIPTION:
URL:https://pearlriver.lib.ms.us/event/random-readers-book-club-8/
LOCATION:Margaret Reed Crosby Memorial Library\, 900 Goodyear Boulevard\, Picayune\, MS\, 39466\, United States
CATEGORIES:Adults,Crosby Memorial Library
ORGANIZER;CN="Melissa Whitfield":MAILTO:mwhitfield@pearlriver.lib.ms.us
END:VEVENT
BEGIN:VEVENT
DTSTART;TZID=UTC:20231114T160000
DTEND;TZID=UTC:20231114T170000
DTSTAMP:20260419T193542
CREATED:20230628T005609Z
LAST-MODIFIED:20230628T005609Z
UID:10001229-1699977600-1699981200@pearlriver.lib.ms.us
SUMMARY:Fall Story Time
DESCRIPTION:
URL:https://pearlriver.lib.ms.us/event/fall-story-time-11/
CATEGORIES:Children,Poplarville Public Library
END:VEVENT
BEGIN:VEVENT
DTSTART;TZID=UTC:20231114T170000
DTEND;TZID=UTC:20231114T190000
DTSTAMP:20260419T193542
CREATED:20230823T015334Z
LAST-MODIFIED:20231118T025308Z
UID:10001455-1699981200-1699988400@pearlriver.lib.ms.us
SUMMARY:Gather Your Party!
DESCRIPTION:Campaign Two \nAdventurers! Come one\, come all to experience quests and feats of your wildest imagination! \nNew to DnD? No problem! We will teach you the ins and outs of this fantasy role-playing classic. You can use our dice or bring your own. All you need to bring is your thirst for adventure! Refreshments will be provided during sessions. We hope to see you there\, Adventurer! \n 
URL:https://pearlriver.lib.ms.us/event/gather-your-party-3/2023-11-14/
LOCATION:Margaret Reed Crosby Memorial Library\, 900 Goodyear Boulevard\, Picayune\, MS\, 39466\, United States
CATEGORIES:Adults,Crosby Memorial Library,Teens
ATTACH;FMTTYPE=image/png:https://pearlriver.lib.ms.us/wp-content/uploads/2023/05/DND-Website.png
END:VEVENT
END:VCALENDAR