BEGIN:VCALENDAR
VERSION:2.0
PRODID:-//Pearl River County Library System - ECPv6.15.20//NONSGML v1.0//EN
CALSCALE:GREGORIAN
METHOD:PUBLISH
X-ORIGINAL-URL:https://pearlriver.lib.ms.us
X-WR-CALDESC:Events for Pearl River County Library System
REFRESH-INTERVAL;VALUE=DURATION:PT1H
X-Robots-Tag:noindex
X-PUBLISHED-TTL:PT1H
BEGIN:VTIMEZONE
TZID:UTC
BEGIN:STANDARD
TZOFFSETFROM:+0000
TZOFFSETTO:+0000
TZNAME:UTC
DTSTART:20230101T000000
END:STANDARD
END:VTIMEZONE
BEGIN:VEVENT
DTSTART;TZID=UTC:20240618T103000
DTEND;TZID=UTC:20240618T113000
DTSTAMP:20260420T055844
CREATED:20231222T031028Z
LAST-MODIFIED:20231222T032308Z
UID:10001905-1718706600-1718710200@pearlriver.lib.ms.us
SUMMARY:Dorian Lachance\, Magician - Summer Reading Program
DESCRIPTION:
URL:https://pearlriver.lib.ms.us/event/dorian-lachance-magician-summer-reading-program/
LOCATION:Poplarville Public Library\, 202 W Beers St\, Poplarville\, MS\, 39470\, United States
CATEGORIES:Children,General,Poplarville Public Library
END:VEVENT
BEGIN:VEVENT
DTSTART;TZID=UTC:20240618T140000
DTEND;TZID=UTC:20240618T153000
DTSTAMP:20260420T055844
CREATED:20240425T025344Z
LAST-MODIFIED:20240425T030309Z
UID:10002471-1718719200-1718724600@pearlriver.lib.ms.us
SUMMARY:SRP Activity Day!
DESCRIPTION:Magic Show!\nCome and see Mr. Lachance as he performs magical feats beyond your wildest imaginations! \nMake sure you sign up for PRCLS 2024 Summer Reading Program to join in on all the fun!
URL:https://pearlriver.lib.ms.us/event/srp-activity-day-3/
LOCATION:Holland Hall @ CML\, 900 Goodyear Boulevard\, Picayune\, MS\, 39466\, United States
CATEGORIES:Children,Crosby Memorial Library
ATTACH;FMTTYPE=image/png:https://pearlriver.lib.ms.us/wp-content/uploads/2024/04/SRP-24.png
ORGANIZER;CN="Megan Miller":MAILTO:childrens@pearlriver.lib.ms.us
END:VEVENT
BEGIN:VEVENT
DTSTART;TZID=UTC:20240618T170000
DTEND;TZID=UTC:20240618T190000
DTSTAMP:20260420T055844
CREATED:20231223T014738Z
LAST-MODIFIED:20240530T160252Z
UID:10002561-1718730000-1718737200@pearlriver.lib.ms.us
SUMMARY:Gather Your Party!
DESCRIPTION:Campaign Three\n\n\n \n\n\nAdventurers! Come one\, come all to experience quests and feats of your wildest imagination!\n\n\n \n\n\nNew to Dungeons & Dragons? No problem! We will teach you the ins and outs of this fantasy role-playing classic. You can use our dice or bring your own. All you need to bring is your thirst for adventure! Refreshments will be provided during sessions. We hope to see you there\, Adventurer!\n\n\n \n\n\nThere are a limited number of spots available for this campaign\, sign up is first come first served.
URL:https://pearlriver.lib.ms.us/event/gather-your-party-4/2024-06-18/
CATEGORIES:Adults,Crosby Memorial Library,Teens
ATTACH;FMTTYPE=image/png:https://pearlriver.lib.ms.us/wp-content/uploads/2023/05/DND-Website.png
END:VEVENT
END:VCALENDAR