BEGIN:VCALENDAR
VERSION:2.0
PRODID:-//Pearl River County Library System - ECPv6.15.20//NONSGML v1.0//EN
CALSCALE:GREGORIAN
METHOD:PUBLISH
X-WR-CALNAME:Pearl River County Library System
X-ORIGINAL-URL:https://pearlriver.lib.ms.us
X-WR-CALDESC:Events for Pearl River County Library System
REFRESH-INTERVAL;VALUE=DURATION:PT1H
X-Robots-Tag:noindex
X-PUBLISHED-TTL:PT1H
BEGIN:VTIMEZONE
TZID:America/Chicago
BEGIN:DAYLIGHT
TZOFFSETFROM:-0600
TZOFFSETTO:-0500
TZNAME:CDT
DTSTART:20230312T080000
END:DAYLIGHT
BEGIN:STANDARD
TZOFFSETFROM:-0500
TZOFFSETTO:-0600
TZNAME:CST
DTSTART:20231105T070000
END:STANDARD
BEGIN:DAYLIGHT
TZOFFSETFROM:-0600
TZOFFSETTO:-0500
TZNAME:CDT
DTSTART:20240310T080000
END:DAYLIGHT
BEGIN:STANDARD
TZOFFSETFROM:-0500
TZOFFSETTO:-0600
TZNAME:CST
DTSTART:20241103T070000
END:STANDARD
BEGIN:DAYLIGHT
TZOFFSETFROM:-0600
TZOFFSETTO:-0500
TZNAME:CDT
DTSTART:20250309T080000
END:DAYLIGHT
BEGIN:STANDARD
TZOFFSETFROM:-0500
TZOFFSETTO:-0600
TZNAME:CST
DTSTART:20251102T070000
END:STANDARD
END:VTIMEZONE
BEGIN:VTIMEZONE
TZID:UTC
BEGIN:STANDARD
TZOFFSETFROM:+0000
TZOFFSETTO:+0000
TZNAME:UTC
DTSTART:20230101T000000
END:STANDARD
END:VTIMEZONE
BEGIN:VEVENT
DTSTART;TZID=America/Chicago:20240813T130000
DTEND;TZID=America/Chicago:20240813T140000
DTSTAMP:20260420T073933
CREATED:20240805T141051Z
LAST-MODIFIED:20240805T141814Z
UID:10002611-1723554000-1723557600@pearlriver.lib.ms.us
SUMMARY:Homeschool Junior Book Club
DESCRIPTION:
URL:https://pearlriver.lib.ms.us/event/homeschool-junior-book-club/
LOCATION:Poplarville Public Library\, 202 W Beers St\, Poplarville\, MS\, 39470\, United States
CATEGORIES:Poplarville Public Library,Teens
END:VEVENT
BEGIN:VEVENT
DTSTART;TZID=UTC:20240813T170000
DTEND;TZID=UTC:20240813T190000
DTSTAMP:20260420T073933
CREATED:20231223T015327Z
LAST-MODIFIED:20240816T201211Z
UID:10001944-1723568400-1723575600@pearlriver.lib.ms.us
SUMMARY:Gather Your Party!
DESCRIPTION:Campaign Four\n\n\n \n\n\nAdventurers! Come one\, come all to experience quests and feats of your wildest imagination!\n\n\n \n\n\nNew to Dungeons & Dragons? No problem! We will teach you the ins and outs of this fantasy role-playing classic. You can use our dice or bring your own. All you need to bring is your thirst for adventure! Refreshments will be provided during sessions. We hope to see you there\, Adventurer!\n\n\n \n\n\nThere are a limited number of spots available for this campaign\, sign up is first come first served.
URL:https://pearlriver.lib.ms.us/event/gather-your-party-5/
CATEGORIES:Adults,Crosby Memorial Library,Teens
ATTACH;FMTTYPE=image/png:https://pearlriver.lib.ms.us/wp-content/uploads/2023/05/DND-Website.png
END:VEVENT
END:VCALENDAR