BEGIN:VCALENDAR
VERSION:2.0
PRODID:-//Pearl River County Library System - ECPv6.15.20//NONSGML v1.0//EN
CALSCALE:GREGORIAN
METHOD:PUBLISH
X-ORIGINAL-URL:https://pearlriver.lib.ms.us
X-WR-CALDESC:Events for Pearl River County Library System
REFRESH-INTERVAL;VALUE=DURATION:PT1H
X-Robots-Tag:noindex
X-PUBLISHED-TTL:PT1H
BEGIN:VTIMEZONE
TZID:America/Chicago
BEGIN:DAYLIGHT
TZOFFSETFROM:-0600
TZOFFSETTO:-0500
TZNAME:CDT
DTSTART:20230312T080000
END:DAYLIGHT
BEGIN:STANDARD
TZOFFSETFROM:-0500
TZOFFSETTO:-0600
TZNAME:CST
DTSTART:20231105T070000
END:STANDARD
BEGIN:DAYLIGHT
TZOFFSETFROM:-0600
TZOFFSETTO:-0500
TZNAME:CDT
DTSTART:20240310T080000
END:DAYLIGHT
BEGIN:STANDARD
TZOFFSETFROM:-0500
TZOFFSETTO:-0600
TZNAME:CST
DTSTART:20241103T070000
END:STANDARD
BEGIN:DAYLIGHT
TZOFFSETFROM:-0600
TZOFFSETTO:-0500
TZNAME:CDT
DTSTART:20250309T080000
END:DAYLIGHT
BEGIN:STANDARD
TZOFFSETFROM:-0500
TZOFFSETTO:-0600
TZNAME:CST
DTSTART:20251102T070000
END:STANDARD
END:VTIMEZONE
BEGIN:VTIMEZONE
TZID:UTC
BEGIN:STANDARD
TZOFFSETFROM:+0000
TZOFFSETTO:+0000
TZNAME:UTC
DTSTART:20230101T000000
END:STANDARD
END:VTIMEZONE
BEGIN:VEVENT
DTSTART;TZID=America/Chicago:20240819T140000
DTEND;TZID=America/Chicago:20240819T170000
DTSTAMP:20260420T074150
CREATED:20240819T191006Z
LAST-MODIFIED:20240819T191006Z
UID:10002762-1724076000-1724086800@pearlriver.lib.ms.us
SUMMARY:PPL Garden Club
DESCRIPTION:
URL:https://pearlriver.lib.ms.us/event/ppl-garden-club/
LOCATION:Meeting Room @PPL
CATEGORIES:Poplarville Public Library
END:VEVENT
BEGIN:VEVENT
DTSTART;TZID=UTC:20240819T170000
DTEND;TZID=UTC:20240819T190000
DTSTAMP:20260420T074150
CREATED:20240530T020745Z
LAST-MODIFIED:20240530T020745Z
UID:10002560-1724086800-1724094000@pearlriver.lib.ms.us
SUMMARY:MDHS Childcare Training
DESCRIPTION:
URL:https://pearlriver.lib.ms.us/event/mdhs-childcare-training/2024-08-19/
LOCATION:Holland Hall @ CML\, 900 Goodyear Boulevard\, Picayune\, MS\, 39466\, United States
CATEGORIES:Crosby Memorial Library
ATTACH;FMTTYPE=image/png:https://pearlriver.lib.ms.us/wp-content/uploads/2024/01/6.png
END:VEVENT
BEGIN:VEVENT
DTSTART;TZID=America/Chicago:20240819T170000
DTEND;TZID=America/Chicago:20240819T190000
DTSTAMP:20260420T074150
CREATED:20240819T192750Z
LAST-MODIFIED:20240819T192750Z
UID:10002764-1724086800-1724094000@pearlriver.lib.ms.us
SUMMARY:MDHS - Daphne Stevens
DESCRIPTION:
URL:https://pearlriver.lib.ms.us/event/mdhs-daphne-stevens/
LOCATION:Meeting Room @PPL
CATEGORIES:Poplarville Public Library
END:VEVENT
END:VCALENDAR