BEGIN:VCALENDAR
VERSION:2.0
PRODID:-//Pearl River County Library System - ECPv6.15.20//NONSGML v1.0//EN
CALSCALE:GREGORIAN
METHOD:PUBLISH
X-WR-CALNAME:Pearl River County Library System
X-ORIGINAL-URL:https://pearlriver.lib.ms.us
X-WR-CALDESC:Events for Pearl River County Library System
REFRESH-INTERVAL;VALUE=DURATION:PT1H
X-Robots-Tag:noindex
X-PUBLISHED-TTL:PT1H
BEGIN:VTIMEZONE
TZID:America/Chicago
BEGIN:DAYLIGHT
TZOFFSETFROM:-0600
TZOFFSETTO:-0500
TZNAME:CDT
DTSTART:20230312T080000
END:DAYLIGHT
BEGIN:STANDARD
TZOFFSETFROM:-0500
TZOFFSETTO:-0600
TZNAME:CST
DTSTART:20231105T070000
END:STANDARD
BEGIN:DAYLIGHT
TZOFFSETFROM:-0600
TZOFFSETTO:-0500
TZNAME:CDT
DTSTART:20240310T080000
END:DAYLIGHT
BEGIN:STANDARD
TZOFFSETFROM:-0500
TZOFFSETTO:-0600
TZNAME:CST
DTSTART:20241103T070000
END:STANDARD
BEGIN:DAYLIGHT
TZOFFSETFROM:-0600
TZOFFSETTO:-0500
TZNAME:CDT
DTSTART:20250309T080000
END:DAYLIGHT
BEGIN:STANDARD
TZOFFSETFROM:-0500
TZOFFSETTO:-0600
TZNAME:CST
DTSTART:20251102T070000
END:STANDARD
END:VTIMEZONE
BEGIN:VTIMEZONE
TZID:UTC
BEGIN:STANDARD
TZOFFSETFROM:+0000
TZOFFSETTO:+0000
TZNAME:UTC
DTSTART:20230101T000000
END:STANDARD
END:VTIMEZONE
BEGIN:VEVENT
DTSTART;VALUE=DATE:20240911
DTEND;VALUE=DATE:20240913
DTSTAMP:20260420T110129
CREATED:20240911T202825Z
LAST-MODIFIED:20240911T202825Z
UID:10002841-1726012800-1726185599@pearlriver.lib.ms.us
SUMMARY:Libraries Closed Due to Weather
DESCRIPTION:Both branches of the Pearl River County Library System will be closed due to inclement weather caused by Hurricane Francine. All scheduled events on these days will be cancelled. Please check back for rescheduled times. \nWe hope everyone stays safe!
URL:https://pearlriver.lib.ms.us/event/libraries-closed-due-to-weather/
CATEGORIES:Library Closure
ATTACH;FMTTYPE=image/png:https://pearlriver.lib.ms.us/wp-content/uploads/2024/01/Closed.png
END:VEVENT
BEGIN:VEVENT
DTSTART;TZID=UTC:20240911T110000
DTEND;TZID=UTC:20240911T130000
DTSTAMP:20260420T110129
CREATED:20240402T011043Z
LAST-MODIFIED:20240917T213406Z
UID:10001811-1726052400-1726059600@pearlriver.lib.ms.us
SUMMARY:PRC Historical Society Meeting
DESCRIPTION:Topic\nSunken Cities of Basile \nGuest Speaker\nRod Lincoln
URL:https://pearlriver.lib.ms.us/event/prc-historical-society-meeting-3-7/
LOCATION:Holland Hall @ CML\, 900 Goodyear Boulevard\, Picayune\, MS\, 39466\, United States
CATEGORIES:Crosby Memorial Library,General
ATTACH;FMTTYPE=image/png:https://pearlriver.lib.ms.us/wp-content/uploads/2024/01/6.png
END:VEVENT
END:VCALENDAR