BEGIN:VCALENDAR
VERSION:2.0
PRODID:-//Pearl River County Library System - ECPv6.15.20//NONSGML v1.0//EN
CALSCALE:GREGORIAN
METHOD:PUBLISH
X-WR-CALNAME:Pearl River County Library System
X-ORIGINAL-URL:https://pearlriver.lib.ms.us
X-WR-CALDESC:Events for Pearl River County Library System
REFRESH-INTERVAL;VALUE=DURATION:PT1H
X-Robots-Tag:noindex
X-PUBLISHED-TTL:PT1H
BEGIN:VTIMEZONE
TZID:America/Chicago
BEGIN:DAYLIGHT
TZOFFSETFROM:-0600
TZOFFSETTO:-0500
TZNAME:CDT
DTSTART:20230312T080000
END:DAYLIGHT
BEGIN:STANDARD
TZOFFSETFROM:-0500
TZOFFSETTO:-0600
TZNAME:CST
DTSTART:20231105T070000
END:STANDARD
BEGIN:DAYLIGHT
TZOFFSETFROM:-0600
TZOFFSETTO:-0500
TZNAME:CDT
DTSTART:20240310T080000
END:DAYLIGHT
BEGIN:STANDARD
TZOFFSETFROM:-0500
TZOFFSETTO:-0600
TZNAME:CST
DTSTART:20241103T070000
END:STANDARD
BEGIN:DAYLIGHT
TZOFFSETFROM:-0600
TZOFFSETTO:-0500
TZNAME:CDT
DTSTART:20250309T080000
END:DAYLIGHT
BEGIN:STANDARD
TZOFFSETFROM:-0500
TZOFFSETTO:-0600
TZNAME:CST
DTSTART:20251102T070000
END:STANDARD
END:VTIMEZONE
BEGIN:VTIMEZONE
TZID:UTC
BEGIN:STANDARD
TZOFFSETFROM:+0000
TZOFFSETTO:+0000
TZNAME:UTC
DTSTART:20230101T000000
END:STANDARD
END:VTIMEZONE
BEGIN:VEVENT
DTSTART;TZID=America/Chicago:20240917T130000
DTEND;TZID=America/Chicago:20240917T150000
DTSTAMP:20260420T125734
CREATED:20240805T185923Z
LAST-MODIFIED:20240819T190832Z
UID:10002681-1726578000-1726585200@pearlriver.lib.ms.us
SUMMARY:Home School Debate Club
DESCRIPTION:
URL:https://pearlriver.lib.ms.us/event/home-school-debate-club/
LOCATION:Meeting Room @PPL
CATEGORIES:Poplarville Public Library
END:VEVENT
BEGIN:VEVENT
DTSTART;TZID=America/Chicago:20240917T170000
DTEND;TZID=America/Chicago:20240917T190000
DTSTAMP:20260420T125734
CREATED:20240823T212604Z
LAST-MODIFIED:20240924T185154Z
UID:10002789-1726592400-1726599600@pearlriver.lib.ms.us
SUMMARY:CANCELED -- MDHS - Daphne Stevens
DESCRIPTION:
URL:https://pearlriver.lib.ms.us/event/mdhs-daphne-stevens-2/
LOCATION:Meeting Room @PPL
CATEGORIES:Poplarville Public Library
END:VEVENT
BEGIN:VEVENT
DTSTART;TZID=UTC:20240917T170000
DTEND;TZID=UTC:20240917T190000
DTSTAMP:20260420T125734
CREATED:20240905T181413Z
LAST-MODIFIED:20240905T181413Z
UID:10002071-1726592400-1726599600@pearlriver.lib.ms.us
SUMMARY:PRCLS Board of Trustees Meeting
DESCRIPTION:
URL:https://pearlriver.lib.ms.us/event/prcls-board-of-trustees-meeting-2-3/
LOCATION:Holland Hall @ CML\, 900 Goodyear Boulevard\, Picayune\, MS\, 39466\, United States
CATEGORIES:Crosby Memorial Library
END:VEVENT
END:VCALENDAR