BEGIN:VCALENDAR
VERSION:2.0
PRODID:-//Pearl River County Library System - ECPv6.15.20//NONSGML v1.0//EN
CALSCALE:GREGORIAN
METHOD:PUBLISH
X-ORIGINAL-URL:https://pearlriver.lib.ms.us
X-WR-CALDESC:Events for Pearl River County Library System
REFRESH-INTERVAL;VALUE=DURATION:PT1H
X-Robots-Tag:noindex
X-PUBLISHED-TTL:PT1H
BEGIN:VTIMEZONE
TZID:America/Chicago
BEGIN:DAYLIGHT
TZOFFSETFROM:-0600
TZOFFSETTO:-0500
TZNAME:CDT
DTSTART:20230312T080000
END:DAYLIGHT
BEGIN:STANDARD
TZOFFSETFROM:-0500
TZOFFSETTO:-0600
TZNAME:CST
DTSTART:20231105T070000
END:STANDARD
BEGIN:DAYLIGHT
TZOFFSETFROM:-0600
TZOFFSETTO:-0500
TZNAME:CDT
DTSTART:20240310T080000
END:DAYLIGHT
BEGIN:STANDARD
TZOFFSETFROM:-0500
TZOFFSETTO:-0600
TZNAME:CST
DTSTART:20241103T070000
END:STANDARD
BEGIN:DAYLIGHT
TZOFFSETFROM:-0600
TZOFFSETTO:-0500
TZNAME:CDT
DTSTART:20250309T080000
END:DAYLIGHT
BEGIN:STANDARD
TZOFFSETFROM:-0500
TZOFFSETTO:-0600
TZNAME:CST
DTSTART:20251102T070000
END:STANDARD
END:VTIMEZONE
BEGIN:VEVENT
DTSTART;TZID=America/Chicago:20241007T100000
DTEND;TZID=America/Chicago:20241007T110000
DTSTAMP:20260420T144626
CREATED:20240924T184045Z
LAST-MODIFIED:20240924T184653Z
UID:10002863-1728295200-1728298800@pearlriver.lib.ms.us
SUMMARY:Special Needs Support Group for Parents
DESCRIPTION:Contact Megan LaBorde Saucier or Glenda Lee Breland through Facebook. \n 
URL:https://pearlriver.lib.ms.us/event/special-needs-support-group-for-parents/
LOCATION:Meeting Room @PPL
CATEGORIES:Adults,Poplarville Public Library
END:VEVENT
BEGIN:VEVENT
DTSTART;TZID=America/Chicago:20241007T100000
DTEND;TZID=America/Chicago:20241007T230000
DTSTAMP:20260420T144626
CREATED:20240917T151308Z
LAST-MODIFIED:20240917T151308Z
UID:10002855-1728295200-1728342000@pearlriver.lib.ms.us
SUMMARY:Literary Lounge
DESCRIPTION:CML invites you to come enjoy a cup of coffee and connect with others while exploring different themes each month designed to spark curiosity and creativity! \nThis month’s theme is… \nGardening!\nWhether you’re a seasoned green thumb or just starting out\, this is the perfect place to share your love for gardening! Come swap tips\, pointers\, and even seeds/cuttings with fellow garden enthusiasts. It’s a great opportunity to learn new techniques\, discover helpful gardening tools\, and discuss the latest in horticulture. Bring all your gardening questions\, your favorite gardening stories\, and a smile! \nLight refreshments will be provided by the library.
URL:https://pearlriver.lib.ms.us/event/literary-lounge/
LOCATION:Holland Hall @ CML\, 900 Goodyear Boulevard\, Picayune\, MS\, 39466\, United States
CATEGORIES:Adults,Crosby Memorial Library
ATTACH;FMTTYPE=image/png:https://pearlriver.lib.ms.us/wp-content/uploads/2024/07/Literary-Lounge.png
ORGANIZER;CN="Victoria Kingrey":MAILTO:cmlteens@outlook.com
END:VEVENT
END:VCALENDAR