BEGIN:VCALENDAR
VERSION:2.0
PRODID:-//Pearl River County Library System - ECPv6.15.20//NONSGML v1.0//EN
CALSCALE:GREGORIAN
METHOD:PUBLISH
X-WR-CALNAME:Pearl River County Library System
X-ORIGINAL-URL:https://pearlriver.lib.ms.us
X-WR-CALDESC:Events for Pearl River County Library System
REFRESH-INTERVAL;VALUE=DURATION:PT1H
X-Robots-Tag:noindex
X-PUBLISHED-TTL:PT1H
BEGIN:VTIMEZONE
TZID:America/Chicago
BEGIN:DAYLIGHT
TZOFFSETFROM:-0600
TZOFFSETTO:-0500
TZNAME:CDT
DTSTART:20230312T080000
END:DAYLIGHT
BEGIN:STANDARD
TZOFFSETFROM:-0500
TZOFFSETTO:-0600
TZNAME:CST
DTSTART:20231105T070000
END:STANDARD
BEGIN:DAYLIGHT
TZOFFSETFROM:-0600
TZOFFSETTO:-0500
TZNAME:CDT
DTSTART:20240310T080000
END:DAYLIGHT
BEGIN:STANDARD
TZOFFSETFROM:-0500
TZOFFSETTO:-0600
TZNAME:CST
DTSTART:20241103T070000
END:STANDARD
BEGIN:DAYLIGHT
TZOFFSETFROM:-0600
TZOFFSETTO:-0500
TZNAME:CDT
DTSTART:20250309T080000
END:DAYLIGHT
BEGIN:STANDARD
TZOFFSETFROM:-0500
TZOFFSETTO:-0600
TZNAME:CST
DTSTART:20251102T070000
END:STANDARD
END:VTIMEZONE
BEGIN:VTIMEZONE
TZID:UTC
BEGIN:STANDARD
TZOFFSETFROM:+0000
TZOFFSETTO:+0000
TZNAME:UTC
DTSTART:20230101T000000
END:STANDARD
END:VTIMEZONE
BEGIN:VEVENT
DTSTART;TZID=America/Chicago:20241011T100000
DTEND;TZID=America/Chicago:20241011T110000
DTSTAMP:20260420T125735
CREATED:20240816T203320Z
LAST-MODIFIED:20240816T203320Z
UID:10002755-1728640800-1728644400@pearlriver.lib.ms.us
SUMMARY:Fall Storytime!
DESCRIPTION:This week’s theme is… \nNational Spread Joy Day!\nOur morning Storytime is perfect for little ones ages 0-5. Families are welcome!
URL:https://pearlriver.lib.ms.us/event/fall-storytime-3/
LOCATION:Holland Hall @ CML\, 900 Goodyear Boulevard\, Picayune\, MS\, 39466\, United States
CATEGORIES:Children,Crosby Memorial Library
ATTACH;FMTTYPE=image/png:https://pearlriver.lib.ms.us/wp-content/uploads/2024/01/5.png
ORGANIZER;CN="Megan Miller":MAILTO:childrens@pearlriver.lib.ms.us
END:VEVENT
BEGIN:VEVENT
DTSTART;TZID=America/Chicago:20241011T103000
DTEND;TZID=America/Chicago:20241011T110000
DTSTAMP:20260420T125735
CREATED:20240904T131513Z
LAST-MODIFIED:20240924T155531Z
UID:10002820-1728642600-1728644400@pearlriver.lib.ms.us
SUMMARY:Tiny Tots with Ms. Angela
DESCRIPTION:Ages 0 – 4 years old. \n  \n 
URL:https://pearlriver.lib.ms.us/event/tiny-tots/2024-10-11/
LOCATION:Meeting Room @PPL
CATEGORIES:Children,Poplarville Public Library
END:VEVENT
BEGIN:VEVENT
DTSTART;TZID=America/Chicago:20241011T140000
DTEND;TZID=America/Chicago:20241011T153000
DTSTAMP:20260420T125735
CREATED:20240904T150259Z
LAST-MODIFIED:20240924T202029Z
UID:10002835-1728655200-1728660600@pearlriver.lib.ms.us
SUMMARY:PPL Garden Club
DESCRIPTION:
URL:https://pearlriver.lib.ms.us/event/ppl-garden-club-3/
LOCATION:Meeting Room @PPL
CATEGORIES:Adults,General,Poplarville Public Library
ATTACH;FMTTYPE=image/png:https://pearlriver.lib.ms.us/wp-content/uploads/2024/01/6.png
END:VEVENT
BEGIN:VEVENT
DTSTART;TZID=UTC:20241011T150000
DTEND;TZID=UTC:20241011T170000
DTSTAMP:20260420T125735
CREATED:20240402T210103Z
LAST-MODIFIED:20240816T201854Z
UID:10002438-1728658800-1728666000@pearlriver.lib.ms.us
SUMMARY:Teen Activity Night!
DESCRIPTION:Video Games!\nLet’s play: Halloween Jeopardy! \nDo you enjoy video games with friends? Want to show off your gaming skills? Come join us for a night of digital fun a the Crosby Memorial Library! You can use our consoles or bring your own! Snacks will be served! \nDon’t forget to bring your mobile device (phone\, tablet\, or laptop) so you can participate!
URL:https://pearlriver.lib.ms.us/event/teen-activity-night-11/
LOCATION:Holland Hall @ CML\, 900 Goodyear Boulevard\, Picayune\, MS\, 39466\, United States
CATEGORIES:Crosby Memorial Library,Teens
ORGANIZER;CN="Victoria Kingrey":MAILTO:cmlteens@outlook.com
END:VEVENT
END:VCALENDAR