BEGIN:VCALENDAR
VERSION:2.0
PRODID:-//Pearl River County Library System - ECPv6.15.20//NONSGML v1.0//EN
CALSCALE:GREGORIAN
METHOD:PUBLISH
X-ORIGINAL-URL:https://pearlriver.lib.ms.us
X-WR-CALDESC:Events for Pearl River County Library System
REFRESH-INTERVAL;VALUE=DURATION:PT1H
X-Robots-Tag:noindex
X-PUBLISHED-TTL:PT1H
BEGIN:VTIMEZONE
TZID:America/Chicago
BEGIN:DAYLIGHT
TZOFFSETFROM:-0600
TZOFFSETTO:-0500
TZNAME:CDT
DTSTART:20230312T080000
END:DAYLIGHT
BEGIN:STANDARD
TZOFFSETFROM:-0500
TZOFFSETTO:-0600
TZNAME:CST
DTSTART:20231105T070000
END:STANDARD
BEGIN:DAYLIGHT
TZOFFSETFROM:-0600
TZOFFSETTO:-0500
TZNAME:CDT
DTSTART:20240310T080000
END:DAYLIGHT
BEGIN:STANDARD
TZOFFSETFROM:-0500
TZOFFSETTO:-0600
TZNAME:CST
DTSTART:20241103T070000
END:STANDARD
BEGIN:DAYLIGHT
TZOFFSETFROM:-0600
TZOFFSETTO:-0500
TZNAME:CDT
DTSTART:20250309T080000
END:DAYLIGHT
BEGIN:STANDARD
TZOFFSETFROM:-0500
TZOFFSETTO:-0600
TZNAME:CST
DTSTART:20251102T070000
END:STANDARD
END:VTIMEZONE
BEGIN:VTIMEZONE
TZID:UTC
BEGIN:STANDARD
TZOFFSETFROM:+0000
TZOFFSETTO:+0000
TZNAME:UTC
DTSTART:20230101T000000
END:STANDARD
END:VTIMEZONE
BEGIN:VEVENT
DTSTART;TZID=America/Chicago:20241025T100000
DTEND;TZID=America/Chicago:20241025T110000
DTSTAMP:20260420T110529
CREATED:20240816T203408Z
LAST-MODIFIED:20240816T203408Z
UID:10002757-1729850400-1729854000@pearlriver.lib.ms.us
SUMMARY:Fall Storytime!
DESCRIPTION:This week’s theme is… \nHalloween Storytime!\nOur morning Storytime is perfect for little ones ages 0-5. Families are welcome!
URL:https://pearlriver.lib.ms.us/event/fall-storytime-5/
LOCATION:Holland Hall @ CML\, 900 Goodyear Boulevard\, Picayune\, MS\, 39466\, United States
CATEGORIES:Children,Crosby Memorial Library
ATTACH;FMTTYPE=image/png:https://pearlriver.lib.ms.us/wp-content/uploads/2024/01/5.png
ORGANIZER;CN="Megan Miller":MAILTO:childrens@pearlriver.lib.ms.us
END:VEVENT
BEGIN:VEVENT
DTSTART;TZID=America/Chicago:20241025T103000
DTEND;TZID=America/Chicago:20241025T110000
DTSTAMP:20260420T110529
CREATED:20240904T131513Z
LAST-MODIFIED:20240924T155531Z
UID:10002822-1729852200-1729854000@pearlriver.lib.ms.us
SUMMARY:Tiny Tots with Ms. Angela
DESCRIPTION:Ages 0 – 4 years old. \n  \n 
URL:https://pearlriver.lib.ms.us/event/tiny-tots/2024-10-25/
LOCATION:Meeting Room @PPL
CATEGORIES:Children,Poplarville Public Library
END:VEVENT
BEGIN:VEVENT
DTSTART;TZID=America/Chicago:20241025T130000
DTEND;TZID=America/Chicago:20241025T140000
DTSTAMP:20260420T110529
CREATED:20240904T151513Z
LAST-MODIFIED:20240924T160111Z
UID:10002839-1729861200-1729864800@pearlriver.lib.ms.us
SUMMARY:Pokemon Club
DESCRIPTION:
URL:https://pearlriver.lib.ms.us/event/pokemon-club-2/
LOCATION:Meeting Room @PPL
CATEGORIES:Children,General,Poplarville Public Library
END:VEVENT
BEGIN:VEVENT
DTSTART;TZID=UTC:20241025T150000
DTEND;TZID=UTC:20241025T170000
DTSTAMP:20260420T110529
CREATED:20240410T024817Z
LAST-MODIFIED:20241023T002031Z
UID:10002454-1729868400-1729875600@pearlriver.lib.ms.us
SUMMARY:Teen Activity Night!
DESCRIPTION:Teen Halloween Bash!\nA spoooky good time! \nStop by and have a spooky fun time at CML’s Teen Halloween Bash! We’ve got party games\, crafts\, and snacks for all the cool ghouls! And don’t forget to wear your costume to be entered in our scare-tacular costume contest. Winners get a prize! \nTo ensure that we have enough supplies for everyone\, please call or visit the Crosby Library to sign up for this event!
URL:https://pearlriver.lib.ms.us/event/teen-activity-night-14/
LOCATION:Holland Hall @ CML\, 900 Goodyear Boulevard\, Picayune\, MS\, 39466\, United States
CATEGORIES:Crosby Memorial Library,Teens
ATTACH;FMTTYPE=image/png:https://pearlriver.lib.ms.us/wp-content/uploads/2024/04/Teen-Halloween.png
ORGANIZER;CN="Victoria Kingrey":MAILTO:cmlteens@outlook.com
END:VEVENT
END:VCALENDAR