BEGIN:VCALENDAR
VERSION:2.0
PRODID:-//Pearl River County Library System - ECPv6.15.20//NONSGML v1.0//EN
CALSCALE:GREGORIAN
METHOD:PUBLISH
X-WR-CALNAME:Pearl River County Library System
X-ORIGINAL-URL:https://pearlriver.lib.ms.us
X-WR-CALDESC:Events for Pearl River County Library System
REFRESH-INTERVAL;VALUE=DURATION:PT1H
X-Robots-Tag:noindex
X-PUBLISHED-TTL:PT1H
BEGIN:VTIMEZONE
TZID:America/Chicago
BEGIN:DAYLIGHT
TZOFFSETFROM:-0600
TZOFFSETTO:-0500
TZNAME:CDT
DTSTART:20230312T080000
END:DAYLIGHT
BEGIN:STANDARD
TZOFFSETFROM:-0500
TZOFFSETTO:-0600
TZNAME:CST
DTSTART:20231105T070000
END:STANDARD
BEGIN:DAYLIGHT
TZOFFSETFROM:-0600
TZOFFSETTO:-0500
TZNAME:CDT
DTSTART:20240310T080000
END:DAYLIGHT
BEGIN:STANDARD
TZOFFSETFROM:-0500
TZOFFSETTO:-0600
TZNAME:CST
DTSTART:20241103T070000
END:STANDARD
BEGIN:DAYLIGHT
TZOFFSETFROM:-0600
TZOFFSETTO:-0500
TZNAME:CDT
DTSTART:20250309T080000
END:DAYLIGHT
BEGIN:STANDARD
TZOFFSETFROM:-0500
TZOFFSETTO:-0600
TZNAME:CST
DTSTART:20251102T070000
END:STANDARD
END:VTIMEZONE
BEGIN:VEVENT
DTSTART;TZID=America/Chicago:20241101T100000
DTEND;TZID=America/Chicago:20241101T110000
DTSTAMP:20260420T162429
CREATED:20240816T203433Z
LAST-MODIFIED:20240816T203433Z
UID:10002758-1730455200-1730458800@pearlriver.lib.ms.us
SUMMARY:Fall Storytime!
DESCRIPTION:This week’s theme is… \nWe are thankful for _____!\nOur morning Storytime is perfect for little ones ages 0-5. Families are welcome!
URL:https://pearlriver.lib.ms.us/event/fall-storytime-6/
LOCATION:Holland Hall @ CML\, 900 Goodyear Boulevard\, Picayune\, MS\, 39466\, United States
CATEGORIES:Children,Crosby Memorial Library
ATTACH;FMTTYPE=image/png:https://pearlriver.lib.ms.us/wp-content/uploads/2024/01/5.png
ORGANIZER;CN="Megan Miller":MAILTO:childrens@pearlriver.lib.ms.us
END:VEVENT
BEGIN:VEVENT
DTSTART;TZID=America/Chicago:20241101T103000
DTEND;TZID=America/Chicago:20241101T110000
DTSTAMP:20260420T162429
CREATED:20240924T193041Z
LAST-MODIFIED:20240924T193129Z
UID:10002880-1730457000-1730458800@pearlriver.lib.ms.us
SUMMARY:Tiny Tots with Mrs. Angela
DESCRIPTION:Programs are free to the public.
URL:https://pearlriver.lib.ms.us/event/tiny-tots-2/
LOCATION:Meeting Room @PPL
CATEGORIES:Children,Poplarville Public Library
END:VEVENT
BEGIN:VEVENT
DTSTART;TZID=America/Chicago:20241101T160000
DTEND;TZID=America/Chicago:20241101T180000
DTSTAMP:20260420T162429
CREATED:20240821T210329Z
LAST-MODIFIED:20240821T210329Z
UID:10002772-1730476800-1730484000@pearlriver.lib.ms.us
SUMMARY:Family Fun Night!
DESCRIPTION:It’s fun for the whole family! \nJoin us for… LEGOS!\nFamilies of all ages are encouraged attend! \n 
URL:https://pearlriver.lib.ms.us/event/family-fun-night-3/
LOCATION:MS
CATEGORIES:Children,Crosby Memorial Library
END:VEVENT
END:VCALENDAR