BEGIN:VCALENDAR
VERSION:2.0
PRODID:-//Pearl River County Library System - ECPv6.15.20//NONSGML v1.0//EN
CALSCALE:GREGORIAN
METHOD:PUBLISH
X-ORIGINAL-URL:https://pearlriver.lib.ms.us
X-WR-CALDESC:Events for Pearl River County Library System
REFRESH-INTERVAL;VALUE=DURATION:PT1H
X-Robots-Tag:noindex
X-PUBLISHED-TTL:PT1H
BEGIN:VTIMEZONE
TZID:UTC
BEGIN:STANDARD
TZOFFSETFROM:+0000
TZOFFSETTO:+0000
TZNAME:UTC
DTSTART:20230101T000000
END:STANDARD
END:VTIMEZONE
BEGIN:VTIMEZONE
TZID:America/Chicago
BEGIN:DAYLIGHT
TZOFFSETFROM:-0600
TZOFFSETTO:-0500
TZNAME:CDT
DTSTART:20230312T080000
END:DAYLIGHT
BEGIN:STANDARD
TZOFFSETFROM:-0500
TZOFFSETTO:-0600
TZNAME:CST
DTSTART:20231105T070000
END:STANDARD
BEGIN:DAYLIGHT
TZOFFSETFROM:-0600
TZOFFSETTO:-0500
TZNAME:CDT
DTSTART:20240310T080000
END:DAYLIGHT
BEGIN:STANDARD
TZOFFSETFROM:-0500
TZOFFSETTO:-0600
TZNAME:CST
DTSTART:20241103T070000
END:STANDARD
BEGIN:DAYLIGHT
TZOFFSETFROM:-0600
TZOFFSETTO:-0500
TZNAME:CDT
DTSTART:20250309T080000
END:DAYLIGHT
BEGIN:STANDARD
TZOFFSETFROM:-0500
TZOFFSETTO:-0600
TZNAME:CST
DTSTART:20251102T070000
END:STANDARD
END:VTIMEZONE
BEGIN:VEVENT
DTSTART;VALUE=DATE:20241104
DTEND;VALUE=DATE:20241107
DTSTAMP:20260420T220049
CREATED:20240131T205944Z
LAST-MODIFIED:20240131T210139Z
UID:10002118-1730678400-1730937599@pearlriver.lib.ms.us
SUMMARY:General Election
DESCRIPTION:Non-Library Event
URL:https://pearlriver.lib.ms.us/event/possible-primary-run-off/
LOCATION:Holland Hall @ CML\, 900 Goodyear Boulevard\, Picayune\, MS\, 39466\, United States
CATEGORIES:Crosby Memorial Library,General
END:VEVENT
BEGIN:VEVENT
DTSTART;TZID=America/Chicago:20241105T130000
DTEND;TZID=America/Chicago:20241105T150000
DTSTAMP:20260420T220049
CREATED:20240924T190823Z
LAST-MODIFIED:20240924T190823Z
UID:10002872-1730811600-1730818800@pearlriver.lib.ms.us
SUMMARY:Homeschool Debate Club
DESCRIPTION:
URL:https://pearlriver.lib.ms.us/event/homeschool-debate-club-4/
LOCATION:Meeting Room @PPL
CATEGORIES:Poplarville Public Library
ATTACH;FMTTYPE=image/png:https://pearlriver.lib.ms.us/wp-content/uploads/2024/08/PPL-Homeschool.png
END:VEVENT
BEGIN:VEVENT
DTSTART;TZID=America/Chicago:20241105T150000
DTEND;TZID=America/Chicago:20241105T160000
DTSTAMP:20260420T220049
CREATED:20240924T190946Z
LAST-MODIFIED:20240924T192624Z
UID:10002874-1730818800-1730822400@pearlriver.lib.ms.us
SUMMARY:Homeschool Crochet Club
DESCRIPTION:
URL:https://pearlriver.lib.ms.us/event/homeschool-crochet-club-3/
LOCATION:Meeting Room @PPL
CATEGORIES:Poplarville Public Library
ATTACH;FMTTYPE=image/png:https://pearlriver.lib.ms.us/wp-content/uploads/2024/08/PPL-Homeschool.png
END:VEVENT
END:VCALENDAR