BEGIN:VCALENDAR
VERSION:2.0
PRODID:-//Pearl River County Library System - ECPv6.15.20//NONSGML v1.0//EN
CALSCALE:GREGORIAN
METHOD:PUBLISH
X-WR-CALNAME:Pearl River County Library System
X-ORIGINAL-URL:https://pearlriver.lib.ms.us
X-WR-CALDESC:Events for Pearl River County Library System
REFRESH-INTERVAL;VALUE=DURATION:PT1H
X-Robots-Tag:noindex
X-PUBLISHED-TTL:PT1H
BEGIN:VTIMEZONE
TZID:UTC
BEGIN:STANDARD
TZOFFSETFROM:+0000
TZOFFSETTO:+0000
TZNAME:UTC
DTSTART:20230101T000000
END:STANDARD
END:VTIMEZONE
BEGIN:VTIMEZONE
TZID:America/Chicago
BEGIN:DAYLIGHT
TZOFFSETFROM:-0600
TZOFFSETTO:-0500
TZNAME:CDT
DTSTART:20230312T080000
END:DAYLIGHT
BEGIN:STANDARD
TZOFFSETFROM:-0500
TZOFFSETTO:-0600
TZNAME:CST
DTSTART:20231105T070000
END:STANDARD
BEGIN:DAYLIGHT
TZOFFSETFROM:-0600
TZOFFSETTO:-0500
TZNAME:CDT
DTSTART:20240310T080000
END:DAYLIGHT
BEGIN:STANDARD
TZOFFSETFROM:-0500
TZOFFSETTO:-0600
TZNAME:CST
DTSTART:20241103T070000
END:STANDARD
BEGIN:DAYLIGHT
TZOFFSETFROM:-0600
TZOFFSETTO:-0500
TZNAME:CDT
DTSTART:20250309T080000
END:DAYLIGHT
BEGIN:STANDARD
TZOFFSETFROM:-0500
TZOFFSETTO:-0600
TZNAME:CST
DTSTART:20251102T070000
END:STANDARD
END:VTIMEZONE
BEGIN:VEVENT
DTSTART;TZID=UTC:20241220T030000
DTEND;TZID=UTC:20241220T170000
DTSTAMP:20260420T233400
CREATED:20240410T024925Z
LAST-MODIFIED:20241112T221946Z
UID:10002455-1734663600-1734714000@pearlriver.lib.ms.us
SUMMARY:Teen's Winter Bash!
DESCRIPTION:Teen Winter Bash!\nIt’s the most wonderful bash of the year! \nThere are a limited number of spots available for this event. Call or visit us today to sign up! \nCome on down and have a tree-mendously good time at CML’s Teen Winter Bash! We’ll have party games\, crafts\, and snacks for all the good teens! There will be prizes for games as well as presents provided for Sneaky Santa! Happy Holidays\, everyone! \n 
URL:https://pearlriver.lib.ms.us/event/teen-activity-night-15/
LOCATION:Holland Hall @ CML\, 900 Goodyear Boulevard\, Picayune\, MS\, 39466\, United States
CATEGORIES:Crosby Memorial Library,Teens
ATTACH;FMTTYPE=image/png:https://pearlriver.lib.ms.us/wp-content/uploads/2024/04/Teen-Winter.png
ORGANIZER;CN="Victoria Kingrey":MAILTO:cmlteens@outlook.com
END:VEVENT
BEGIN:VEVENT
DTSTART;TZID=America/Chicago:20241220T103000
DTEND;TZID=America/Chicago:20241220T120000
DTSTAMP:20260420T233400
CREATED:20241204T172538Z
LAST-MODIFIED:20241204T172538Z
UID:10003214-1734690600-1734696000@pearlriver.lib.ms.us
SUMMARY:Kids Annual Christmas Party
DESCRIPTION:
URL:https://pearlriver.lib.ms.us/event/kids-annual-christmas-party/
LOCATION:Meeting Room @PPL\, 202 West Beers Street\, Poplarville\, MS\, 39470\, United States
CATEGORIES:Children,General,Poplarville Public Library
END:VEVENT
END:VCALENDAR