BEGIN:VCALENDAR
VERSION:2.0
PRODID:-//Pearl River County Library System - ECPv6.15.20//NONSGML v1.0//EN
CALSCALE:GREGORIAN
METHOD:PUBLISH
X-ORIGINAL-URL:https://pearlriver.lib.ms.us
X-WR-CALDESC:Events for Pearl River County Library System
REFRESH-INTERVAL;VALUE=DURATION:PT1H
X-Robots-Tag:noindex
X-PUBLISHED-TTL:PT1H
BEGIN:VTIMEZONE
TZID:America/Chicago
BEGIN:DAYLIGHT
TZOFFSETFROM:-0600
TZOFFSETTO:-0500
TZNAME:CDT
DTSTART:20240310T080000
END:DAYLIGHT
BEGIN:STANDARD
TZOFFSETFROM:-0500
TZOFFSETTO:-0600
TZNAME:CST
DTSTART:20241103T070000
END:STANDARD
BEGIN:DAYLIGHT
TZOFFSETFROM:-0600
TZOFFSETTO:-0500
TZNAME:CDT
DTSTART:20250309T080000
END:DAYLIGHT
BEGIN:STANDARD
TZOFFSETFROM:-0500
TZOFFSETTO:-0600
TZNAME:CST
DTSTART:20251102T070000
END:STANDARD
BEGIN:DAYLIGHT
TZOFFSETFROM:-0600
TZOFFSETTO:-0500
TZNAME:CDT
DTSTART:20260308T080000
END:DAYLIGHT
BEGIN:STANDARD
TZOFFSETFROM:-0500
TZOFFSETTO:-0600
TZNAME:CST
DTSTART:20261101T070000
END:STANDARD
END:VTIMEZONE
BEGIN:VEVENT
DTSTART;VALUE=DATE:20250121
DTEND;VALUE=DATE:20250125
DTSTAMP:20260421T044416
CREATED:20250123T003343Z
LAST-MODIFIED:20250127T153838Z
UID:10003338-1737417600-1737763199@pearlriver.lib.ms.us
SUMMARY:Closed - weather
DESCRIPTION:Both branches of PRCLS are closed due to inclement weather.
URL:https://pearlriver.lib.ms.us/event/closed-weather/
LOCATION:MS
CATEGORIES:Library Closure
ATTACH;FMTTYPE=image/png:https://pearlriver.lib.ms.us/wp-content/uploads/2024/01/Closed.png
END:VEVENT
BEGIN:VEVENT
DTSTART;TZID=America/Chicago:20250121T130000
DTEND;TZID=America/Chicago:20250121T143000
DTSTAMP:20260421T044416
CREATED:20241106T152442Z
LAST-MODIFIED:20250116T164111Z
UID:10003076-1737464400-1737469800@pearlriver.lib.ms.us
SUMMARY:Raising Arrows Debate Club
DESCRIPTION:
URL:https://pearlriver.lib.ms.us/event/raising-arrows-debate-club-2/
LOCATION:Meeting Room @PPL\, 202 West Beers Street\, Poplarville\, MS\, 39470\, United States
CATEGORIES:Poplarville Public Library
ATTACH;FMTTYPE=image/png:https://pearlriver.lib.ms.us/wp-content/uploads/2024/08/PPL-Homeschool.png
ORGANIZER;CN="Emmy Gallodoro":MAILTO:Emmygallodoro@yahoo.com
END:VEVENT
BEGIN:VEVENT
DTSTART;TZID=America/Chicago:20250121T143000
DTEND;TZID=America/Chicago:20250121T153000
DTSTAMP:20260421T044416
CREATED:20250106T144559Z
LAST-MODIFIED:20250106T144559Z
UID:10003276-1737469800-1737473400@pearlriver.lib.ms.us
SUMMARY:Twisted Stitches
DESCRIPTION:Homeschool Crochet Group  \nStephanie Byrd \ngrady_byrd@bellsouth.net \n 
URL:https://pearlriver.lib.ms.us/event/twisted-stitches-3/
LOCATION:Meeting Room @PPL\, 202 West Beers Street\, Poplarville\, MS\, 39470\, United States
CATEGORIES:Poplarville Public Library
ATTACH;FMTTYPE=image/png:https://pearlriver.lib.ms.us/wp-content/uploads/2024/08/PPL-Homeschool.png
ORGANIZER;CN="Raising Arrows Homeschoolers":MAILTO:Raisingarrowshomeschoolers@yahoo.com
END:VEVENT
BEGIN:VEVENT
DTSTART;TZID=America/Chicago:20250121T170000
DTEND;TZID=America/Chicago:20250121T183000
DTSTAMP:20260421T044416
CREATED:20250117T200407Z
LAST-MODIFIED:20250117T200407Z
UID:10003313-1737478800-1737484200@pearlriver.lib.ms.us
SUMMARY:PRCLS Board of Trustees Meeting
DESCRIPTION:
URL:https://pearlriver.lib.ms.us/event/prcls-board-of-trustees-meeting-6-2/
LOCATION:Holland Hall @ CML\, 900 Goodyear Boulevard\, Picayune\, MS\, 39466\, United States
CATEGORIES:Crosby Memorial Library
ATTACH;FMTTYPE=image/png:https://pearlriver.lib.ms.us/wp-content/uploads/2024/01/BOT.png
END:VEVENT
END:VCALENDAR