BEGIN:VCALENDAR
VERSION:2.0
PRODID:-//Pearl River County Library System - ECPv6.15.20//NONSGML v1.0//EN
CALSCALE:GREGORIAN
METHOD:PUBLISH
X-WR-CALNAME:Pearl River County Library System
X-ORIGINAL-URL:https://pearlriver.lib.ms.us
X-WR-CALDESC:Events for Pearl River County Library System
REFRESH-INTERVAL;VALUE=DURATION:PT1H
X-Robots-Tag:noindex
X-PUBLISHED-TTL:PT1H
BEGIN:VTIMEZONE
TZID:America/Chicago
BEGIN:DAYLIGHT
TZOFFSETFROM:-0600
TZOFFSETTO:-0500
TZNAME:CDT
DTSTART:20240310T080000
END:DAYLIGHT
BEGIN:STANDARD
TZOFFSETFROM:-0500
TZOFFSETTO:-0600
TZNAME:CST
DTSTART:20241103T070000
END:STANDARD
BEGIN:DAYLIGHT
TZOFFSETFROM:-0600
TZOFFSETTO:-0500
TZNAME:CDT
DTSTART:20250309T080000
END:DAYLIGHT
BEGIN:STANDARD
TZOFFSETFROM:-0500
TZOFFSETTO:-0600
TZNAME:CST
DTSTART:20251102T070000
END:STANDARD
BEGIN:DAYLIGHT
TZOFFSETFROM:-0600
TZOFFSETTO:-0500
TZNAME:CDT
DTSTART:20260308T080000
END:DAYLIGHT
BEGIN:STANDARD
TZOFFSETFROM:-0500
TZOFFSETTO:-0600
TZNAME:CST
DTSTART:20261101T070000
END:STANDARD
END:VTIMEZONE
BEGIN:VEVENT
DTSTART;TZID=America/Chicago:20250310T100000
DTEND;TZID=America/Chicago:20250310T120000
DTSTAMP:20260421T212020
CREATED:20250207T205051Z
LAST-MODIFIED:20250221T210025Z
UID:10003457-1741600800-1741608000@pearlriver.lib.ms.us
SUMMARY:Domino
DESCRIPTION:Everyone is welcome! \nCome out and play Domino!
URL:https://pearlriver.lib.ms.us/event/domino/2025-03-10/
LOCATION:Poplarville Public Library\, 202 W Beers St\, Poplarville\, MS\, 39470\, United States
CATEGORIES:Adults,Poplarville Public Library
END:VEVENT
BEGIN:VEVENT
DTSTART;TZID=America/Chicago:20250310T100000
DTEND;TZID=America/Chicago:20250310T230000
DTSTAMP:20260421T212020
CREATED:20250213T182235Z
LAST-MODIFIED:20250213T182235Z
UID:10003445-1741600800-1741647600@pearlriver.lib.ms.us
SUMMARY:Literary Lounge
DESCRIPTION:CML invites you to come enjoy a cup of coffee and connect with others while exploring different themes each month designed to spark curiosity and creativity! \nThis month’s theme is… \nColoring and Coffee!\nCome make new friends while also making something beautiful! Light refreshments will be provided by the library.
URL:https://pearlriver.lib.ms.us/event/literary-lounge-5/
LOCATION:Holland Hall @ CML\, 900 Goodyear Boulevard\, Picayune\, MS\, 39466\, United States
CATEGORIES:Adults,Crosby Memorial Library
ATTACH;FMTTYPE=image/png:https://pearlriver.lib.ms.us/wp-content/uploads/2024/07/Literary-Lounge.png
ORGANIZER;CN="Victoria Kingrey":MAILTO:cmlteens@outlook.com
END:VEVENT
BEGIN:VEVENT
DTSTART;TZID=America/Chicago:20250310T130000
DTEND;TZID=America/Chicago:20250310T150000
DTSTAMP:20260421T212020
CREATED:20250127T190207Z
LAST-MODIFIED:20250225T144057Z
UID:10003339-1741611600-1741618800@pearlriver.lib.ms.us
SUMMARY:"We're Sketchy" Drawing Club
DESCRIPTION:
URL:https://pearlriver.lib.ms.us/event/were-sketchy-drawing-club/
LOCATION:Meeting Room @PPL\, 202 West Beers Street\, Poplarville\, MS\, 39470\, United States
CATEGORIES:Poplarville Public Library
ATTACH;FMTTYPE=image/png:https://pearlriver.lib.ms.us/wp-content/uploads/2024/08/PPL-Homeschool.png
END:VEVENT
BEGIN:VEVENT
DTSTART;TZID=America/Chicago:20250310T133000
DTEND;TZID=America/Chicago:20250310T150000
DTSTAMP:20260421T212020
CREATED:20250304T011450Z
LAST-MODIFIED:20250304T011450Z
UID:10003559-1741613400-1741618800@pearlriver.lib.ms.us
SUMMARY:CML Friends Board Meeting
DESCRIPTION:
URL:https://pearlriver.lib.ms.us/event/cml-friends-board-meeting-6/
LOCATION:MS
CATEGORIES:Crosby Memorial Library
ATTACH;FMTTYPE=image/png:https://pearlriver.lib.ms.us/wp-content/uploads/2024/02/CML-Friends.png
END:VEVENT
END:VCALENDAR