BEGIN:VCALENDAR
VERSION:2.0
PRODID:-//Pearl River County Library System - ECPv6.15.20//NONSGML v1.0//EN
CALSCALE:GREGORIAN
METHOD:PUBLISH
X-ORIGINAL-URL:https://pearlriver.lib.ms.us
X-WR-CALDESC:Events for Pearl River County Library System
REFRESH-INTERVAL;VALUE=DURATION:PT1H
X-Robots-Tag:noindex
X-PUBLISHED-TTL:PT1H
BEGIN:VTIMEZONE
TZID:UTC
BEGIN:STANDARD
TZOFFSETFROM:+0000
TZOFFSETTO:+0000
TZNAME:UTC
DTSTART:20230101T000000
END:STANDARD
END:VTIMEZONE
BEGIN:VTIMEZONE
TZID:America/Chicago
BEGIN:DAYLIGHT
TZOFFSETFROM:-0600
TZOFFSETTO:-0500
TZNAME:CDT
DTSTART:20230312T080000
END:DAYLIGHT
BEGIN:STANDARD
TZOFFSETFROM:-0500
TZOFFSETTO:-0600
TZNAME:CST
DTSTART:20231105T070000
END:STANDARD
BEGIN:DAYLIGHT
TZOFFSETFROM:-0600
TZOFFSETTO:-0500
TZNAME:CDT
DTSTART:20240310T080000
END:DAYLIGHT
BEGIN:STANDARD
TZOFFSETFROM:-0500
TZOFFSETTO:-0600
TZNAME:CST
DTSTART:20241103T070000
END:STANDARD
BEGIN:DAYLIGHT
TZOFFSETFROM:-0600
TZOFFSETTO:-0500
TZNAME:CDT
DTSTART:20250309T080000
END:DAYLIGHT
BEGIN:STANDARD
TZOFFSETFROM:-0500
TZOFFSETTO:-0600
TZNAME:CST
DTSTART:20251102T070000
END:STANDARD
END:VTIMEZONE
BEGIN:VEVENT
DTSTART;TZID=UTC:20240904T100000
DTEND;TZID=UTC:20240904T120000
DTSTAMP:20260422T225231
CREATED:20230908T003817Z
LAST-MODIFIED:20240308T220220Z
UID:10001539-1725444000-1725451200@pearlriver.lib.ms.us
SUMMARY:Garden Club of Picayune Meeting
DESCRIPTION:
URL:https://pearlriver.lib.ms.us/event/garden-club-of-picayune-meeting/2024-09-04/
LOCATION:Holland Hall @ CML\, 900 Goodyear Boulevard\, Picayune\, MS\, 39466\, United States
CATEGORIES:Adults,Crosby Memorial Library
ATTACH;FMTTYPE=image/png:https://pearlriver.lib.ms.us/wp-content/uploads/2024/01/6.png
END:VEVENT
BEGIN:VEVENT
DTSTART;TZID=UTC:20240904T143000
DTEND;TZID=UTC:20240904T160000
DTSTAMP:20260422T225231
CREATED:20240821T185444Z
LAST-MODIFIED:20240829T214240Z
UID:10002766-1725460200-1725465600@pearlriver.lib.ms.us
SUMMARY:PRC Board of Realtors
DESCRIPTION:Non-Library Event
URL:https://pearlriver.lib.ms.us/event/prc-board-of-realtors-20/
LOCATION:Holland Hall @ CML\, 900 Goodyear Boulevard\, Picayune\, MS\, 39466\, United States
CATEGORIES:Adults,Crosby Memorial Library
END:VEVENT
BEGIN:VEVENT
DTSTART;TZID=UTC:20240905T170000
DTEND;TZID=UTC:20240905T200000
DTSTAMP:20260422T225231
CREATED:20240214T062720Z
LAST-MODIFIED:20240214T062720Z
UID:10002346-1725555600-1725566400@pearlriver.lib.ms.us
SUMMARY:Exodus Project 21
DESCRIPTION:Non-Library Event\nExodus Project 21 was established to wage a war against the perils of substance abuse. They aim to bridge all the gaps that recovering addicts experience that result in recidivism through a faith-based approach. Exodus Project 21 is a tax-exempt 501(c)3 created to facilitate an uninterrupted path from jail or rehab release to full societal re-entry complete with sobriety\, health\, housing\, transportation\, and employment for addicts seeking recovery.
URL:https://pearlriver.lib.ms.us/event/exodus-project-21-3/2024-09-05/
LOCATION:Holland Hall @ CML\, 900 Goodyear Boulevard\, Picayune\, MS\, 39466\, United States
CATEGORIES:Adults,Crosby Memorial Library
ATTACH;FMTTYPE=image/jpeg:https://pearlriver.lib.ms.us/wp-content/uploads/2023/05/exodus-logo-grey.jpg
END:VEVENT
BEGIN:VEVENT
DTSTART;TZID=America/Chicago:20240909T100000
DTEND;TZID=America/Chicago:20240909T230000
DTSTAMP:20260422T225231
CREATED:20240723T184708Z
LAST-MODIFIED:20240905T163613Z
UID:10002590-1725876000-1725922800@pearlriver.lib.ms.us
SUMMARY:Literary Lounge
DESCRIPTION:CML invites you to come enjoy a cup of coffee and connect with others while exploring different themes each month designed to spark curiosity and creativity! \nThis month’s theme is… \nCookbooks!\nBring your favorite cookbook or recipe to share with new friends! But what’s better than sharing recipes… trying them! We encourage everyone to bring a sample of their recipe to share as well! Recipe cards will be provided for jotting down recipes that you learn! \nLight refreshments will be provided by the library.
URL:https://pearlriver.lib.ms.us/event/adult-programming-coming-soon-2/
LOCATION:Holland Hall @ CML\, 900 Goodyear Boulevard\, Picayune\, MS\, 39466\, United States
CATEGORIES:Adults,Crosby Memorial Library
ATTACH;FMTTYPE=image/png:https://pearlriver.lib.ms.us/wp-content/uploads/2024/07/Literary-Lounge.png
ORGANIZER;CN="Victoria Kingrey":MAILTO:cmlteens@outlook.com
END:VEVENT
BEGIN:VEVENT
DTSTART;TZID=America/Chicago:20240912T100000
DTEND;TZID=America/Chicago:20240912T120000
DTSTAMP:20260422T225231
CREATED:20240819T190540Z
LAST-MODIFIED:20240911T202950Z
UID:10002760-1726135200-1726142400@pearlriver.lib.ms.us
SUMMARY:CANCELED: 2nd Thursday Book Club @PPL
DESCRIPTION:September book choice is Crooked letter\, Crooked letter by Tom Franklin.
URL:https://pearlriver.lib.ms.us/event/2nd-thursday-book-club-ppl/
LOCATION:Meeting Room @PPL
CATEGORIES:Adults,Poplarville Public Library
END:VEVENT
BEGIN:VEVENT
DTSTART;TZID=UTC:20240912T170000
DTEND;TZID=UTC:20240912T200000
DTSTAMP:20260422T225231
CREATED:20240214T062720Z
LAST-MODIFIED:20240214T062720Z
UID:10002347-1726160400-1726171200@pearlriver.lib.ms.us
SUMMARY:Exodus Project 21
DESCRIPTION:Non-Library Event\nExodus Project 21 was established to wage a war against the perils of substance abuse. They aim to bridge all the gaps that recovering addicts experience that result in recidivism through a faith-based approach. Exodus Project 21 is a tax-exempt 501(c)3 created to facilitate an uninterrupted path from jail or rehab release to full societal re-entry complete with sobriety\, health\, housing\, transportation\, and employment for addicts seeking recovery.
URL:https://pearlriver.lib.ms.us/event/exodus-project-21-3/2024-09-12/
LOCATION:Holland Hall @ CML\, 900 Goodyear Boulevard\, Picayune\, MS\, 39466\, United States
CATEGORIES:Adults,Crosby Memorial Library
ATTACH;FMTTYPE=image/jpeg:https://pearlriver.lib.ms.us/wp-content/uploads/2023/05/exodus-logo-grey.jpg
END:VEVENT
BEGIN:VEVENT
DTSTART;TZID=UTC:20240919T170000
DTEND;TZID=UTC:20240919T200000
DTSTAMP:20260422T225231
CREATED:20240214T062720Z
LAST-MODIFIED:20240214T062720Z
UID:10002348-1726765200-1726776000@pearlriver.lib.ms.us
SUMMARY:Exodus Project 21
DESCRIPTION:Non-Library Event\nExodus Project 21 was established to wage a war against the perils of substance abuse. They aim to bridge all the gaps that recovering addicts experience that result in recidivism through a faith-based approach. Exodus Project 21 is a tax-exempt 501(c)3 created to facilitate an uninterrupted path from jail or rehab release to full societal re-entry complete with sobriety\, health\, housing\, transportation\, and employment for addicts seeking recovery.
URL:https://pearlriver.lib.ms.us/event/exodus-project-21-3/2024-09-19/
LOCATION:Holland Hall @ CML\, 900 Goodyear Boulevard\, Picayune\, MS\, 39466\, United States
CATEGORIES:Adults,Crosby Memorial Library
ATTACH;FMTTYPE=image/jpeg:https://pearlriver.lib.ms.us/wp-content/uploads/2023/05/exodus-logo-grey.jpg
END:VEVENT
BEGIN:VEVENT
DTSTART;TZID=America/Chicago:20240921T130000
DTEND;TZID=America/Chicago:20240921T170000
DTSTAMP:20260422T225231
CREATED:20240816T200508Z
LAST-MODIFIED:20241230T154504Z
UID:10002749-1726923600-1726938000@pearlriver.lib.ms.us
SUMMARY:Gather Your Party!
DESCRIPTION:Campaign Four\n\n\n \n\n\nAdventurers! Come one\, come all to experience quests and feats of your wildest imagination!\n\n\n \n\n\nGather with fellow adventurers in a welcoming and inclusive atmosphere\, where imagination knows no bounds. Whether you’re a seasoned player or new to the game\, our friendly Dungeon Masters will guide you through thrilling quests\, mysterious realms\, and captivating stories.\n\n\n \n\n\nInterested in joining the adventure? \nSign up at CML’s front desk for the next Gather Your Party – Session Zero or call us at 601-798-5081. We hope to see you soon\, adventurer!
URL:https://pearlriver.lib.ms.us/event/gather-your-party-6/2024-09-21/
LOCATION:Holland Hall @ CML\, 900 Goodyear Boulevard\, Picayune\, MS\, 39466\, United States
CATEGORIES:Adults,Crosby Memorial Library,Teens
ATTACH;FMTTYPE=image/png:https://pearlriver.lib.ms.us/wp-content/uploads/2023/05/DND-Website.png
ORGANIZER;CN="Victoria Kingrey":MAILTO:cmlteens@outlook.com
END:VEVENT
BEGIN:VEVENT
DTSTART;TZID=America/Chicago:20240923T160000
DTEND;TZID=America/Chicago:20240923T170000
DTSTAMP:20260422T225231
CREATED:20240723T184753Z
LAST-MODIFIED:20240907T163755Z
UID:10002591-1727107200-1727110800@pearlriver.lib.ms.us
SUMMARY:Beyond the Page
DESCRIPTION:Beyond the Page is an adult program designed for adults with a passion for all things nerdy! Each month\, we’ll explore a new theme and provide a space for like minded enthusiasts to come together\, share interests\, and dive into exciting discussions and activities. \nThis month’s theme is… \nTabletop Games!\nJoin us at CML for an evening of tabletop gaming excitement! Whether you’re a seasoned player or new to the world of board games and role-playing adventures\, this is your chance to connect with new people\, discover interesting games\, and enjoy some friendly competition. Bring your favorite games or explore what other’s have brought. \nLight refreshments will be provided by the library.
URL:https://pearlriver.lib.ms.us/event/adult-programming-coming-soon-3/
LOCATION:Holland Hall @ CML\, 900 Goodyear Boulevard\, Picayune\, MS\, 39466\, United States
CATEGORIES:Adults,Crosby Memorial Library
ATTACH;FMTTYPE=image/png:https://pearlriver.lib.ms.us/wp-content/uploads/2024/09/Beyond-the-Page-2.png
ORGANIZER;CN="Victoria Kingrey":MAILTO:cmlteens@outlook.com
END:VEVENT
BEGIN:VEVENT
DTSTART;TZID=America/Chicago:20240923T180000
DTEND;TZID=America/Chicago:20240923T190000
DTSTAMP:20260422T225231
CREATED:20240827T154351Z
LAST-MODIFIED:20240924T185041Z
UID:10002790-1727114400-1727118000@pearlriver.lib.ms.us
SUMMARY:Special Needs Parents Support Group
DESCRIPTION:Contact Megan Saucier or Glenda Breland on Facebook for more information.
URL:https://pearlriver.lib.ms.us/event/special-needs-parents-support-group/
LOCATION:Meeting Room @PPL
CATEGORIES:Adults,Poplarville Public Library
END:VEVENT
BEGIN:VEVENT
DTSTART;TZID=America/Chicago:20240926T103000
DTEND;TZID=America/Chicago:20240926T120000
DTSTAMP:20260422T225231
CREATED:20240904T144045Z
LAST-MODIFIED:20240904T144045Z
UID:10002823-1727346600-1727352000@pearlriver.lib.ms.us
SUMMARY:Adult Painting Class with Kay Kammer
DESCRIPTION:
URL:https://pearlriver.lib.ms.us/event/adult-painting-class-with-kay-kammer/
LOCATION:Meeting Room @PPL
CATEGORIES:Adults,Poplarville Public Library
END:VEVENT
BEGIN:VEVENT
DTSTART;TZID=America/Chicago:20240926T133000
DTEND;TZID=America/Chicago:20240926T143000
DTSTAMP:20260422T225231
CREATED:20240802T140500Z
LAST-MODIFIED:20240917T153334Z
UID:10002607-1727357400-1727361000@pearlriver.lib.ms.us
SUMMARY:Random Readers' Book Club!
DESCRIPTION:This month’s title is: \nEleanor Oliphant is Completely Fine by Gail Honeyman\nThe Random Readers’ Book Club will be discussing “Eleanor Oliphant is Completely Fine’ by Gail Honeyman. Make sure to pick up your reserved copy a the Circulation Desk! Refreshments will be served. \nIf you’re new to the Random Readers’ Book Club and are interested in joining\, give us a call or stop by the Crosby Memorial Library to be added to the reserve lists!
URL:https://pearlriver.lib.ms.us/event/random-readers-book-club-17/
LOCATION:Holland Hall @ CML\, 900 Goodyear Boulevard\, Picayune\, MS\, 39466\, United States
CATEGORIES:Adults,Crosby Memorial Library
ATTACH;FMTTYPE=image/png:https://pearlriver.lib.ms.us/wp-content/uploads/2024/01/3.png
END:VEVENT
BEGIN:VEVENT
DTSTART;TZID=UTC:20240926T170000
DTEND;TZID=UTC:20240926T200000
DTSTAMP:20260422T225231
CREATED:20240214T062720Z
LAST-MODIFIED:20240214T062720Z
UID:10002349-1727370000-1727380800@pearlriver.lib.ms.us
SUMMARY:Exodus Project 21
DESCRIPTION:Non-Library Event\nExodus Project 21 was established to wage a war against the perils of substance abuse. They aim to bridge all the gaps that recovering addicts experience that result in recidivism through a faith-based approach. Exodus Project 21 is a tax-exempt 501(c)3 created to facilitate an uninterrupted path from jail or rehab release to full societal re-entry complete with sobriety\, health\, housing\, transportation\, and employment for addicts seeking recovery.
URL:https://pearlriver.lib.ms.us/event/exodus-project-21-3/2024-09-26/
LOCATION:Holland Hall @ CML\, 900 Goodyear Boulevard\, Picayune\, MS\, 39466\, United States
CATEGORIES:Adults,Crosby Memorial Library
ATTACH;FMTTYPE=image/jpeg:https://pearlriver.lib.ms.us/wp-content/uploads/2023/05/exodus-logo-grey.jpg
END:VEVENT
END:VCALENDAR