BEGIN:VCALENDAR
VERSION:2.0
PRODID:-//Pearl River County Library System - ECPv6.15.20//NONSGML v1.0//EN
CALSCALE:GREGORIAN
METHOD:PUBLISH
X-WR-CALNAME:Pearl River County Library System
X-ORIGINAL-URL:https://pearlriver.lib.ms.us
X-WR-CALDESC:Events for Pearl River County Library System
REFRESH-INTERVAL;VALUE=DURATION:PT1H
X-Robots-Tag:noindex
X-PUBLISHED-TTL:PT1H
BEGIN:VTIMEZONE
TZID:America/Chicago
BEGIN:DAYLIGHT
TZOFFSETFROM:-0600
TZOFFSETTO:-0500
TZNAME:CDT
DTSTART:20240310T080000
END:DAYLIGHT
BEGIN:STANDARD
TZOFFSETFROM:-0500
TZOFFSETTO:-0600
TZNAME:CST
DTSTART:20241103T070000
END:STANDARD
BEGIN:DAYLIGHT
TZOFFSETFROM:-0600
TZOFFSETTO:-0500
TZNAME:CDT
DTSTART:20250309T080000
END:DAYLIGHT
BEGIN:STANDARD
TZOFFSETFROM:-0500
TZOFFSETTO:-0600
TZNAME:CST
DTSTART:20251102T070000
END:STANDARD
BEGIN:DAYLIGHT
TZOFFSETFROM:-0600
TZOFFSETTO:-0500
TZNAME:CDT
DTSTART:20260308T080000
END:DAYLIGHT
BEGIN:STANDARD
TZOFFSETFROM:-0500
TZOFFSETTO:-0600
TZNAME:CST
DTSTART:20261101T070000
END:STANDARD
END:VTIMEZONE
BEGIN:VTIMEZONE
TZID:UTC
BEGIN:STANDARD
TZOFFSETFROM:+0000
TZOFFSETTO:+0000
TZNAME:UTC
DTSTART:20240101T000000
END:STANDARD
END:VTIMEZONE
BEGIN:VEVENT
DTSTART;TZID=America/Chicago:20251002T100000
DTEND;TZID=America/Chicago:20251002T230000
DTSTAMP:20260421T125802
CREATED:20250709T191032Z
LAST-MODIFIED:20250905T170019Z
UID:10003871-1759399200-1759446000@pearlriver.lib.ms.us
SUMMARY:Smash Books - Week 2 - Complete Book. 
DESCRIPTION:  \n  \n \nSmash books are a space for expressing creativity through a mix of journaling\, scrapbooking\, and art journaling where you can combine various elements like photos\, tickets\, and other mementos. \n They are characterized by their loose\, unstructured style\, encouraging experimentation and personalization. Create a theme for your smash book\, such as travel\, food\, or personal reflections\, to guide your creative process. \n  \n 
URL:https://pearlriver.lib.ms.us/event/smash-books-week-2-complete-book/
LOCATION:Meeting Room @PPL\, 202 West Beers Street\, Poplarville\, MS\, 39470\, United States
CATEGORIES:Adults,Poplarville Public Library
ATTACH;FMTTYPE=image/jpeg:https://pearlriver.lib.ms.us/wp-content/uploads/2025/09/Meet-Greet-Facebook-Cover-Made-with-PosterMyWall.jpg
ORGANIZER;CN="Donna Taylor":MAILTO:ppladults@pearlriver.lib.ms.us
END:VEVENT
BEGIN:VEVENT
DTSTART;TZID=America/Chicago:20251002T140000
DTEND;TZID=America/Chicago:20251002T150000
DTSTAMP:20260421T125802
CREATED:20250819T205736Z
LAST-MODIFIED:20250819T205736Z
UID:10004021-1759413600-1759417200@pearlriver.lib.ms.us
SUMMARY:Get Lean with Jolene!
DESCRIPTION:Join us at Crosby Memorial Library for “Get Lean with Jolene!”\, a rejuvenating summer wellness program designed for anyone needing a physical\, emotional\, and/or mental reset. \nThis engaging session will include: \n🌿 A guided wellness class with video support and expert advice \n📄 Take-home handouts to help you apply what you’ve learned \n💪 Seated HIIT (High Intensity Interval Training) for safe and effective movement \nWhether you’re a wellness enthusiast or just starting your journey\, Jolene’s class is supportive\, energizing\, and tailored for all levels. \n\n📞 Spots Are Limited – Reserve Yours Today!\nPlease call Crosby Memorial Library at 601-798-5081 or Jolene DeCourcy at 504-314-6429 to sign up.Registration is required to ensure we have space and materials for everyone. \n\n💬 Meet the Instructor: Jolene DeCourcy\n“Hi! I’m Jolene! I’m a certified personal trainer and wellness coach with over 15 years of experience helping people feel stronger\, more confident\, and empowered in their bodies. I’m passionate about promoting a healthy body image and helping my clients build confidence—no matter where they’re starting from. \nI’ve worked with everyone from complete beginners to elites\, and I’ve seen firsthand how strength training\, HIIT\, good nutrition\, and a supportive mindset can truly transform lives. As someone who has trained countless women (including myself!)\, and who’s navigated scoliosis\, spinal fusion\, and pregnancy\, I’m especially passionate about pre- and postnatal fitness and supporting those with special physical considerations. \nI believe wellness should be accessible\, realistic\, and rewarding—and I can’t wait to help you discover what your body is capable of!” \nCertifications: \n\nACE-Certified Personal Trainer\nACE-Certified Nutrition Counselor\nACE-Certified Health and Wellness Coach
URL:https://pearlriver.lib.ms.us/event/get-lean-with-jolene/2025-10-02/
LOCATION:Holland Hall @ CML\, 900 Goodyear Boulevard\, Picayune\, MS\, 39466\, United States
CATEGORIES:Adults,Crosby Memorial Library
END:VEVENT
BEGIN:VEVENT
DTSTART;TZID=America/Chicago:20251002T163000
DTEND;TZID=America/Chicago:20251002T190000
DTSTAMP:20260421T125802
CREATED:20250819T141632Z
LAST-MODIFIED:20250819T141632Z
UID:10004002-1759422600-1759431600@pearlriver.lib.ms.us
SUMMARY:Poplarville Woman's Club
DESCRIPTION:The Woman’s Club will meet in the meeting room of the Poplarville Public Library.
URL:https://pearlriver.lib.ms.us/event/poplarville-womans-club-3/
LOCATION:Meeting Room @PPL\, 202 West Beers Street\, Poplarville\, MS\, 39470\, United States
CATEGORIES:Adults,Poplarville Public Library
ATTACH;FMTTYPE=image/png:https://pearlriver.lib.ms.us/wp-content/uploads/2024/01/6.png
ORGANIZER;CN="Poplarville Woman's Club":MAILTO:deborahpwarren@gmail.com
END:VEVENT
BEGIN:VEVENT
DTSTART;TZID=America/Chicago:20251006T100000
DTEND;TZID=America/Chicago:20251006T120000
DTSTAMP:20260421T125802
CREATED:20250911T185816Z
LAST-MODIFIED:20250911T192601Z
UID:10004104-1759744800-1759752000@pearlriver.lib.ms.us
SUMMARY:DOMINOS
DESCRIPTION:LQQK\, what is happening at the Poplarville Public Library! Come and play Dominos with us…..
URL:https://pearlriver.lib.ms.us/event/dominos-3/
LOCATION:Meeting Room @PPL\, 202 West Beers Street\, Poplarville\, MS\, 39470\, United States
CATEGORIES:Adults,Poplarville Public Library
END:VEVENT
BEGIN:VEVENT
DTSTART;TZID=UTC:20251009T100000
DTEND;TZID=UTC:20251009T120000
DTSTAMP:20260421T125802
CREATED:20250508T220921Z
LAST-MODIFIED:20250508T220922Z
UID:10003711-1760004000-1760011200@pearlriver.lib.ms.us
SUMMARY:2nd Thursday Book Club
DESCRIPTION:
URL:https://pearlriver.lib.ms.us/event/2nd-thursday-book-club-5-2-2/2025-10-09/
LOCATION:Poplarville Public Library\, 202 W Beers St\, Poplarville\, MS\, 39470\, United States
CATEGORIES:Adults,General,Poplarville Public Library
ATTACH;FMTTYPE=image/png:https://pearlriver.lib.ms.us/wp-content/uploads/2024/08/PPL-Bookclub.png
END:VEVENT
BEGIN:VEVENT
DTSTART;TZID=America/Chicago:20251009T140000
DTEND;TZID=America/Chicago:20251009T150000
DTSTAMP:20260421T125802
CREATED:20250819T205736Z
LAST-MODIFIED:20250819T205736Z
UID:10004022-1760018400-1760022000@pearlriver.lib.ms.us
SUMMARY:Get Lean with Jolene!
DESCRIPTION:Join us at Crosby Memorial Library for “Get Lean with Jolene!”\, a rejuvenating summer wellness program designed for anyone needing a physical\, emotional\, and/or mental reset. \nThis engaging session will include: \n🌿 A guided wellness class with video support and expert advice \n📄 Take-home handouts to help you apply what you’ve learned \n💪 Seated HIIT (High Intensity Interval Training) for safe and effective movement \nWhether you’re a wellness enthusiast or just starting your journey\, Jolene’s class is supportive\, energizing\, and tailored for all levels. \n\n📞 Spots Are Limited – Reserve Yours Today!\nPlease call Crosby Memorial Library at 601-798-5081 or Jolene DeCourcy at 504-314-6429 to sign up.Registration is required to ensure we have space and materials for everyone. \n\n💬 Meet the Instructor: Jolene DeCourcy\n“Hi! I’m Jolene! I’m a certified personal trainer and wellness coach with over 15 years of experience helping people feel stronger\, more confident\, and empowered in their bodies. I’m passionate about promoting a healthy body image and helping my clients build confidence—no matter where they’re starting from. \nI’ve worked with everyone from complete beginners to elites\, and I’ve seen firsthand how strength training\, HIIT\, good nutrition\, and a supportive mindset can truly transform lives. As someone who has trained countless women (including myself!)\, and who’s navigated scoliosis\, spinal fusion\, and pregnancy\, I’m especially passionate about pre- and postnatal fitness and supporting those with special physical considerations. \nI believe wellness should be accessible\, realistic\, and rewarding—and I can’t wait to help you discover what your body is capable of!” \nCertifications: \n\nACE-Certified Personal Trainer\nACE-Certified Nutrition Counselor\nACE-Certified Health and Wellness Coach
URL:https://pearlriver.lib.ms.us/event/get-lean-with-jolene/2025-10-09/
LOCATION:Holland Hall @ CML\, 900 Goodyear Boulevard\, Picayune\, MS\, 39466\, United States
CATEGORIES:Adults,Crosby Memorial Library
END:VEVENT
BEGIN:VEVENT
DTSTART;TZID=America/Chicago:20251013T170000
DTEND;TZID=America/Chicago:20251013T180000
DTSTAMP:20260421T125802
CREATED:20250821T213654Z
LAST-MODIFIED:20250827T163318Z
UID:10004071-1760374800-1760378400@pearlriver.lib.ms.us
SUMMARY:Literary Lounge!
DESCRIPTION:Plant Swap \nSwap\, share\, and watch your garden grow! \nBring a plant\, take a plant! Share cuttings\, seedlings\, or potted favorites while connecting with other local plant enthusiasts. It’s the perfect way to grow your collection—and your community. 🌿 \nThis program is available to patrons 19+!
URL:https://pearlriver.lib.ms.us/event/literary-lounge-10/
LOCATION:Holland Hall @ CML\, 900 Goodyear Boulevard\, Picayune\, MS\, 39466\, United States
CATEGORIES:Adults,Crosby Memorial Library
ATTACH;FMTTYPE=image/png:https://pearlriver.lib.ms.us/wp-content/uploads/2024/07/Literary-Lounge.png
ORGANIZER;CN="Victoria Kingrey":MAILTO:cmlteens@outlook.com
END:VEVENT
BEGIN:VEVENT
DTSTART;TZID=America/Chicago:20251014T130000
DTEND;TZID=America/Chicago:20251014T140000
DTSTAMP:20260421T125802
CREATED:20250930T164213Z
LAST-MODIFIED:20250930T164213Z
UID:10004127-1760446800-1760450400@pearlriver.lib.ms.us
SUMMARY:Friends of Poplarville Public Library
DESCRIPTION:Meeting
URL:https://pearlriver.lib.ms.us/event/friends-of-poplarville-public-library-5/
LOCATION:Meeting Room @PPL\, 202 West Beers Street\, Poplarville\, MS\, 39470\, United States
CATEGORIES:Adults,General,Poplarville Public Library
ATTACH;FMTTYPE=image/png:https://pearlriver.lib.ms.us/wp-content/uploads/2023/07/Become-A-PPL-Friend-today.png
END:VEVENT
BEGIN:VEVENT
DTSTART;TZID=America/Chicago:20251016T140000
DTEND;TZID=America/Chicago:20251016T150000
DTSTAMP:20260421T125802
CREATED:20250819T205736Z
LAST-MODIFIED:20250819T205736Z
UID:10004023-1760623200-1760626800@pearlriver.lib.ms.us
SUMMARY:Get Lean with Jolene!
DESCRIPTION:Join us at Crosby Memorial Library for “Get Lean with Jolene!”\, a rejuvenating summer wellness program designed for anyone needing a physical\, emotional\, and/or mental reset. \nThis engaging session will include: \n🌿 A guided wellness class with video support and expert advice \n📄 Take-home handouts to help you apply what you’ve learned \n💪 Seated HIIT (High Intensity Interval Training) for safe and effective movement \nWhether you’re a wellness enthusiast or just starting your journey\, Jolene’s class is supportive\, energizing\, and tailored for all levels. \n\n📞 Spots Are Limited – Reserve Yours Today!\nPlease call Crosby Memorial Library at 601-798-5081 or Jolene DeCourcy at 504-314-6429 to sign up.Registration is required to ensure we have space and materials for everyone. \n\n💬 Meet the Instructor: Jolene DeCourcy\n“Hi! I’m Jolene! I’m a certified personal trainer and wellness coach with over 15 years of experience helping people feel stronger\, more confident\, and empowered in their bodies. I’m passionate about promoting a healthy body image and helping my clients build confidence—no matter where they’re starting from. \nI’ve worked with everyone from complete beginners to elites\, and I’ve seen firsthand how strength training\, HIIT\, good nutrition\, and a supportive mindset can truly transform lives. As someone who has trained countless women (including myself!)\, and who’s navigated scoliosis\, spinal fusion\, and pregnancy\, I’m especially passionate about pre- and postnatal fitness and supporting those with special physical considerations. \nI believe wellness should be accessible\, realistic\, and rewarding—and I can’t wait to help you discover what your body is capable of!” \nCertifications: \n\nACE-Certified Personal Trainer\nACE-Certified Nutrition Counselor\nACE-Certified Health and Wellness Coach
URL:https://pearlriver.lib.ms.us/event/get-lean-with-jolene/2025-10-16/
LOCATION:Holland Hall @ CML\, 900 Goodyear Boulevard\, Picayune\, MS\, 39466\, United States
CATEGORIES:Adults,Crosby Memorial Library
END:VEVENT
BEGIN:VEVENT
DTSTART;TZID=America/Chicago:20251023T103000
DTEND;TZID=America/Chicago:20251023T113000
DTSTAMP:20260421T125802
CREATED:20250821T220311Z
LAST-MODIFIED:20250821T220311Z
UID:10004078-1761215400-1761219000@pearlriver.lib.ms.us
SUMMARY:Random Readers' Book Club!
DESCRIPTION:This month’s title is: \nMystery Free Read!\nThe Random Readers’ Book Club will be discussing free read books! Read and discuss a book of your choosing about or in relation to a mystery. Refreshments will be served. \nIf you’re new to the Random Readers’ Book Club and are interested in joining\, give us a call or stop by the Crosby Memorial Library to be added to the reserve lists!
URL:https://pearlriver.lib.ms.us/event/random-readers-book-club-31/
LOCATION:Holland Hall @ CML\, 900 Goodyear Boulevard\, Picayune\, MS\, 39466\, United States
CATEGORIES:Adults,Crosby Memorial Library
ATTACH;FMTTYPE=image/png:https://pearlriver.lib.ms.us/wp-content/uploads/2024/01/3.png
END:VEVENT
BEGIN:VEVENT
DTSTART;TZID=America/Chicago:20251023T140000
DTEND;TZID=America/Chicago:20251023T150000
DTSTAMP:20260421T125802
CREATED:20250819T205736Z
LAST-MODIFIED:20250819T205736Z
UID:10004024-1761228000-1761231600@pearlriver.lib.ms.us
SUMMARY:Get Lean with Jolene!
DESCRIPTION:Join us at Crosby Memorial Library for “Get Lean with Jolene!”\, a rejuvenating summer wellness program designed for anyone needing a physical\, emotional\, and/or mental reset. \nThis engaging session will include: \n🌿 A guided wellness class with video support and expert advice \n📄 Take-home handouts to help you apply what you’ve learned \n💪 Seated HIIT (High Intensity Interval Training) for safe and effective movement \nWhether you’re a wellness enthusiast or just starting your journey\, Jolene’s class is supportive\, energizing\, and tailored for all levels. \n\n📞 Spots Are Limited – Reserve Yours Today!\nPlease call Crosby Memorial Library at 601-798-5081 or Jolene DeCourcy at 504-314-6429 to sign up.Registration is required to ensure we have space and materials for everyone. \n\n💬 Meet the Instructor: Jolene DeCourcy\n“Hi! I’m Jolene! I’m a certified personal trainer and wellness coach with over 15 years of experience helping people feel stronger\, more confident\, and empowered in their bodies. I’m passionate about promoting a healthy body image and helping my clients build confidence—no matter where they’re starting from. \nI’ve worked with everyone from complete beginners to elites\, and I’ve seen firsthand how strength training\, HIIT\, good nutrition\, and a supportive mindset can truly transform lives. As someone who has trained countless women (including myself!)\, and who’s navigated scoliosis\, spinal fusion\, and pregnancy\, I’m especially passionate about pre- and postnatal fitness and supporting those with special physical considerations. \nI believe wellness should be accessible\, realistic\, and rewarding—and I can’t wait to help you discover what your body is capable of!” \nCertifications: \n\nACE-Certified Personal Trainer\nACE-Certified Nutrition Counselor\nACE-Certified Health and Wellness Coach
URL:https://pearlriver.lib.ms.us/event/get-lean-with-jolene/2025-10-23/
LOCATION:Holland Hall @ CML\, 900 Goodyear Boulevard\, Picayune\, MS\, 39466\, United States
CATEGORIES:Adults,Crosby Memorial Library
END:VEVENT
BEGIN:VEVENT
DTSTART;TZID=America/Chicago:20251026T140000
DTEND;TZID=America/Chicago:20251026T150000
DTSTAMP:20260421T125802
CREATED:20250908T153928Z
LAST-MODIFIED:20251024T145104Z
UID:10004095-1761487200-1761490800@pearlriver.lib.ms.us
SUMMARY:Eric Sparks\, Ph. D - Microplastics
DESCRIPTION:Understanding Microplastics \nThe Friends of the Library invite you to a fascinating talk with Eric Sparks\, Ph.D.\, who will share insights on the growing issue of microplastics in our environment. Learn what microplastics are\, how they affect our daily lives\, and what current research tells us about their impact on ecosystems and human health. \nBring your curiosity and your questions for an engaging discussion on one of today’s most pressing environmental challenges. \nFree and open to the public.
URL:https://pearlriver.lib.ms.us/event/6221/
LOCATION:Holland Hall @ CML\, 900 Goodyear Boulevard\, Picayune\, MS\, 39466\, United States
CATEGORIES:Adults,Crosby Memorial Library
ATTACH;FMTTYPE=image/png:https://pearlriver.lib.ms.us/wp-content/uploads/2024/02/CML-Friends.png
END:VEVENT
BEGIN:VEVENT
DTSTART;TZID=America/Chicago:20251027T170000
DTEND;TZID=America/Chicago:20251027T180000
DTSTAMP:20260421T125802
CREATED:20250821T213738Z
LAST-MODIFIED:20251017T172443Z
UID:10004072-1761584400-1761588000@pearlriver.lib.ms.us
SUMMARY:Literary Lounge!
DESCRIPTION:Painting Pumpkins \nPumpkins made pretty\, your way! \nCelebrate the season with a creative twist on pumpkin decorating—no carving required! Paint\, design\, and embellish a pumpkin that matches your style\, from autumn elegance to playful whimsy. 🎃🎨 \nMake sure to come dressed to impress for our costume contest\, where prizes await the top three winners! 👻✨ \nThis program is available to patrons 19+!
URL:https://pearlriver.lib.ms.us/event/literary-lounge-11/
LOCATION:Holland Hall @ CML\, 900 Goodyear Boulevard\, Picayune\, MS\, 39466\, United States
CATEGORIES:Adults,Crosby Memorial Library
ATTACH;FMTTYPE=image/png:https://pearlriver.lib.ms.us/wp-content/uploads/2024/07/Literary-Lounge.png
ORGANIZER;CN="Victoria Kingrey":MAILTO:cmlteens@outlook.com
END:VEVENT
END:VCALENDAR