BEGIN:VCALENDAR
VERSION:2.0
PRODID:-//Pearl River County Library System - ECPv6.15.20//NONSGML v1.0//EN
CALSCALE:GREGORIAN
METHOD:PUBLISH
X-WR-CALNAME:Pearl River County Library System
X-ORIGINAL-URL:https://pearlriver.lib.ms.us
X-WR-CALDESC:Events for Pearl River County Library System
REFRESH-INTERVAL;VALUE=DURATION:PT1H
X-Robots-Tag:noindex
X-PUBLISHED-TTL:PT1H
BEGIN:VTIMEZONE
TZID:America/Chicago
BEGIN:DAYLIGHT
TZOFFSETFROM:-0600
TZOFFSETTO:-0500
TZNAME:CDT
DTSTART:20230312T080000
END:DAYLIGHT
BEGIN:STANDARD
TZOFFSETFROM:-0500
TZOFFSETTO:-0600
TZNAME:CST
DTSTART:20231105T070000
END:STANDARD
BEGIN:DAYLIGHT
TZOFFSETFROM:-0600
TZOFFSETTO:-0500
TZNAME:CDT
DTSTART:20240310T080000
END:DAYLIGHT
BEGIN:STANDARD
TZOFFSETFROM:-0500
TZOFFSETTO:-0600
TZNAME:CST
DTSTART:20241103T070000
END:STANDARD
BEGIN:DAYLIGHT
TZOFFSETFROM:-0600
TZOFFSETTO:-0500
TZNAME:CDT
DTSTART:20250309T080000
END:DAYLIGHT
BEGIN:STANDARD
TZOFFSETFROM:-0500
TZOFFSETTO:-0600
TZNAME:CST
DTSTART:20251102T070000
END:STANDARD
END:VTIMEZONE
BEGIN:VEVENT
DTSTART;TZID=America/Chicago:20240909T100000
DTEND;TZID=America/Chicago:20240909T230000
DTSTAMP:20260422T205319
CREATED:20240723T184708Z
LAST-MODIFIED:20240905T163613Z
UID:10002590-1725876000-1725922800@pearlriver.lib.ms.us
SUMMARY:Literary Lounge
DESCRIPTION:CML invites you to come enjoy a cup of coffee and connect with others while exploring different themes each month designed to spark curiosity and creativity! \nThis month’s theme is… \nCookbooks!\nBring your favorite cookbook or recipe to share with new friends! But what’s better than sharing recipes… trying them! We encourage everyone to bring a sample of their recipe to share as well! Recipe cards will be provided for jotting down recipes that you learn! \nLight refreshments will be provided by the library.
URL:https://pearlriver.lib.ms.us/event/adult-programming-coming-soon-2/
LOCATION:Holland Hall @ CML\, 900 Goodyear Boulevard\, Picayune\, MS\, 39466\, United States
CATEGORIES:Adults,Crosby Memorial Library
ATTACH;FMTTYPE=image/png:https://pearlriver.lib.ms.us/wp-content/uploads/2024/07/Literary-Lounge.png
ORGANIZER;CN="Victoria Kingrey":MAILTO:cmlteens@outlook.com
END:VEVENT
END:VCALENDAR