BEGIN:VCALENDAR
VERSION:2.0
PRODID:-//Pearl River County Library System - ECPv6.15.20//NONSGML v1.0//EN
CALSCALE:GREGORIAN
METHOD:PUBLISH
X-ORIGINAL-URL:https://pearlriver.lib.ms.us
X-WR-CALDESC:Events for Pearl River County Library System
REFRESH-INTERVAL;VALUE=DURATION:PT1H
X-Robots-Tag:noindex
X-PUBLISHED-TTL:PT1H
BEGIN:VTIMEZONE
TZID:UTC
BEGIN:STANDARD
TZOFFSETFROM:+0000
TZOFFSETTO:+0000
TZNAME:UTC
DTSTART:20230101T000000
END:STANDARD
END:VTIMEZONE
BEGIN:VEVENT
DTSTART;TZID=UTC:20241001T170000
DTEND;TZID=UTC:20241001T190000
DTSTAMP:20260422T213236
CREATED:20240123T043636Z
LAST-MODIFIED:20240123T043636Z
UID:10002065-1727802000-1727809200@pearlriver.lib.ms.us
SUMMARY:PRC Republican Woman's Meeting
DESCRIPTION:
URL:https://pearlriver.lib.ms.us/event/prc-republican-womans-meeting-6/
LOCATION:MS
CATEGORIES:Adults,Crosby Memorial Library
END:VEVENT
END:VCALENDAR