BEGIN:VCALENDAR
VERSION:2.0
PRODID:-//Pearl River County Library System - ECPv6.15.20//NONSGML v1.0//EN
CALSCALE:GREGORIAN
METHOD:PUBLISH
X-ORIGINAL-URL:https://pearlriver.lib.ms.us
X-WR-CALDESC:Events for Pearl River County Library System
REFRESH-INTERVAL;VALUE=DURATION:PT1H
X-Robots-Tag:noindex
X-PUBLISHED-TTL:PT1H
BEGIN:VTIMEZONE
TZID:America/Chicago
BEGIN:DAYLIGHT
TZOFFSETFROM:-0600
TZOFFSETTO:-0500
TZNAME:CDT
DTSTART:20240310T080000
END:DAYLIGHT
BEGIN:STANDARD
TZOFFSETFROM:-0500
TZOFFSETTO:-0600
TZNAME:CST
DTSTART:20241103T070000
END:STANDARD
BEGIN:DAYLIGHT
TZOFFSETFROM:-0600
TZOFFSETTO:-0500
TZNAME:CDT
DTSTART:20250309T080000
END:DAYLIGHT
BEGIN:STANDARD
TZOFFSETFROM:-0500
TZOFFSETTO:-0600
TZNAME:CST
DTSTART:20251102T070000
END:STANDARD
BEGIN:DAYLIGHT
TZOFFSETFROM:-0600
TZOFFSETTO:-0500
TZNAME:CDT
DTSTART:20260308T080000
END:DAYLIGHT
BEGIN:STANDARD
TZOFFSETFROM:-0500
TZOFFSETTO:-0600
TZNAME:CST
DTSTART:20261101T070000
END:STANDARD
END:VTIMEZONE
BEGIN:VEVENT
DTSTART;TZID=America/Chicago:20250527T170000
DTEND;TZID=America/Chicago:20250527T180000
DTSTAMP:20260421T145409
CREATED:20250213T184221Z
LAST-MODIFIED:20250213T184221Z
UID:10003450-1748365200-1748368800@pearlriver.lib.ms.us
SUMMARY:Adult's: Beyond the Page
DESCRIPTION:Beyond the Page is an adult program designed for adults with a passion for all things nerdy! Each month\, we’ll explore a new theme and provide a space for like minded enthusiasts to come together\, share interests\, and dive into exciting discussions and activities. \nThis month’s theme is… \nSuncatchers!\nJoin us at CML for an evening of creating beauty! Whether you’re a seasoned artist or picking up your tools for the first time\, this is your chance to connect with new people\, and maybe even discover a new hobby! \nLight refreshments will be provided by the library.
URL:https://pearlriver.lib.ms.us/event/adults-beyond-the-page-4/
LOCATION:Holland Hall @ CML\, 900 Goodyear Boulevard\, Picayune\, MS\, 39466\, United States
CATEGORIES:Adults,Crosby Memorial Library
ATTACH;FMTTYPE=image/png:https://pearlriver.lib.ms.us/wp-content/uploads/2024/09/Beyond-the-Page-2.png
ORGANIZER;CN="Victoria Kingrey":MAILTO:cmlteens@outlook.com
END:VEVENT
END:VCALENDAR