BEGIN:VCALENDAR
VERSION:2.0
PRODID:-//Pearl River County Library System - ECPv6.15.20//NONSGML v1.0//EN
CALSCALE:GREGORIAN
METHOD:PUBLISH
X-WR-CALNAME:Pearl River County Library System
X-ORIGINAL-URL:https://pearlriver.lib.ms.us
X-WR-CALDESC:Events for Pearl River County Library System
REFRESH-INTERVAL;VALUE=DURATION:PT1H
X-Robots-Tag:noindex
X-PUBLISHED-TTL:PT1H
BEGIN:VTIMEZONE
TZID:America/Chicago
BEGIN:DAYLIGHT
TZOFFSETFROM:-0600
TZOFFSETTO:-0500
TZNAME:CDT
DTSTART:20250309T080000
END:DAYLIGHT
BEGIN:STANDARD
TZOFFSETFROM:-0500
TZOFFSETTO:-0600
TZNAME:CST
DTSTART:20251102T070000
END:STANDARD
BEGIN:DAYLIGHT
TZOFFSETFROM:-0600
TZOFFSETTO:-0500
TZNAME:CDT
DTSTART:20260308T080000
END:DAYLIGHT
BEGIN:STANDARD
TZOFFSETFROM:-0500
TZOFFSETTO:-0600
TZNAME:CST
DTSTART:20261101T070000
END:STANDARD
BEGIN:DAYLIGHT
TZOFFSETFROM:-0600
TZOFFSETTO:-0500
TZNAME:CDT
DTSTART:20270314T080000
END:DAYLIGHT
BEGIN:STANDARD
TZOFFSETFROM:-0500
TZOFFSETTO:-0600
TZNAME:CST
DTSTART:20271107T070000
END:STANDARD
END:VTIMEZONE
BEGIN:VTIMEZONE
TZID:UTC
BEGIN:STANDARD
TZOFFSETFROM:+0000
TZOFFSETTO:+0000
TZNAME:UTC
DTSTART:20250101T000000
END:STANDARD
END:VTIMEZONE
BEGIN:VEVENT
DTSTART;TZID=America/Chicago:20260716T100000
DTEND;TZID=America/Chicago:20260716T113000
DTSTAMP:20260422T170213
CREATED:20260421T213900Z
LAST-MODIFIED:20260421T213900Z
UID:10004650-1784196000-1784201400@pearlriver.lib.ms.us
SUMMARY:SRP - US History Trivia- Adult Program
DESCRIPTION:Are you a history buff?  Come test your knowledge of US History and learn about key moments in history as well as a dynamic way to explore major events\, iconic moments\, and hidden stories that shaped the country. \nThe program is free to attend. \nBe sure to check out the Pearl River County Library Systems webpage @https://pearlriver.lib.ms.us/  and Poplarville Public Library’s Facebook page to stay informed of any upcoming programs @https://www.facebook.com/profile.php?id=61550585216976 \nIf you have any questions\, please feel free to reach out to Mrs. Donna Taylor @601-795-8411 or email her @ppladults@pearlriver.lib.ms.us.
URL:https://pearlriver.lib.ms.us/event/srp-us-history-trivia-adult-program/
LOCATION:Meeting Room @PPL\, 202 West Beers Street\, Poplarville\, MS\, 39470\, United States
CATEGORIES:Adults,Poplarville Public Library,Summer Reading Program 2026
ATTACH;FMTTYPE=image/jpeg:https://pearlriver.lib.ms.us/wp-content/uploads/2026/04/CSLP_Slogan_Graphic_Horizontal-2.jpg
END:VEVENT
BEGIN:VEVENT
DTSTART;TZID=UTC:20260813T100000
DTEND;TZID=UTC:20260813T120000
DTSTAMP:20260422T170213
CREATED:20250508T220921Z
LAST-MODIFIED:20250508T220922Z
UID:10003721-1786615200-1786622400@pearlriver.lib.ms.us
SUMMARY:2nd Thursday Book Club
DESCRIPTION:
URL:https://pearlriver.lib.ms.us/event/2nd-thursday-book-club-5-2-2/2026-08-13/
LOCATION:Poplarville Public Library\, 202 W Beers St\, Poplarville\, MS\, 39470\, United States
CATEGORIES:Adults,General,Poplarville Public Library
ATTACH;FMTTYPE=image/png:https://pearlriver.lib.ms.us/wp-content/uploads/2024/08/PPL-Bookclub.png
END:VEVENT
BEGIN:VEVENT
DTSTART;TZID=UTC:20260910T100000
DTEND;TZID=UTC:20260910T120000
DTSTAMP:20260422T170213
CREATED:20250508T220921Z
LAST-MODIFIED:20250508T220922Z
UID:10003722-1789034400-1789041600@pearlriver.lib.ms.us
SUMMARY:2nd Thursday Book Club
DESCRIPTION:
URL:https://pearlriver.lib.ms.us/event/2nd-thursday-book-club-5-2-2/2026-09-10/
LOCATION:Poplarville Public Library\, 202 W Beers St\, Poplarville\, MS\, 39470\, United States
CATEGORIES:Adults,General,Poplarville Public Library
ATTACH;FMTTYPE=image/png:https://pearlriver.lib.ms.us/wp-content/uploads/2024/08/PPL-Bookclub.png
END:VEVENT
BEGIN:VEVENT
DTSTART;TZID=UTC:20261008T100000
DTEND;TZID=UTC:20261008T120000
DTSTAMP:20260422T170213
CREATED:20250508T220921Z
LAST-MODIFIED:20250508T220922Z
UID:10003723-1791453600-1791460800@pearlriver.lib.ms.us
SUMMARY:2nd Thursday Book Club
DESCRIPTION:
URL:https://pearlriver.lib.ms.us/event/2nd-thursday-book-club-5-2-2/2026-10-08/
LOCATION:Poplarville Public Library\, 202 W Beers St\, Poplarville\, MS\, 39470\, United States
CATEGORIES:Adults,General,Poplarville Public Library
ATTACH;FMTTYPE=image/png:https://pearlriver.lib.ms.us/wp-content/uploads/2024/08/PPL-Bookclub.png
END:VEVENT
BEGIN:VEVENT
DTSTART;TZID=UTC:20261112T100000
DTEND;TZID=UTC:20261112T120000
DTSTAMP:20260422T170213
CREATED:20250508T220921Z
LAST-MODIFIED:20250508T220922Z
UID:10003724-1794477600-1794484800@pearlriver.lib.ms.us
SUMMARY:2nd Thursday Book Club
DESCRIPTION:
URL:https://pearlriver.lib.ms.us/event/2nd-thursday-book-club-5-2-2/2026-11-12/
LOCATION:Poplarville Public Library\, 202 W Beers St\, Poplarville\, MS\, 39470\, United States
CATEGORIES:Adults,General,Poplarville Public Library
ATTACH;FMTTYPE=image/png:https://pearlriver.lib.ms.us/wp-content/uploads/2024/08/PPL-Bookclub.png
END:VEVENT
BEGIN:VEVENT
DTSTART;TZID=UTC:20261210T100000
DTEND;TZID=UTC:20261210T120000
DTSTAMP:20260422T170213
CREATED:20250508T220921Z
LAST-MODIFIED:20250508T220922Z
UID:10003725-1796896800-1796904000@pearlriver.lib.ms.us
SUMMARY:2nd Thursday Book Club
DESCRIPTION:
URL:https://pearlriver.lib.ms.us/event/2nd-thursday-book-club-5-2-2/2026-12-10/
LOCATION:Poplarville Public Library\, 202 W Beers St\, Poplarville\, MS\, 39470\, United States
CATEGORIES:Adults,General,Poplarville Public Library
ATTACH;FMTTYPE=image/png:https://pearlriver.lib.ms.us/wp-content/uploads/2024/08/PPL-Bookclub.png
END:VEVENT
BEGIN:VEVENT
DTSTART;TZID=UTC:20270114T100000
DTEND;TZID=UTC:20270114T120000
DTSTAMP:20260422T170213
CREATED:20250508T220921Z
LAST-MODIFIED:20250508T220922Z
UID:10003726-1799920800-1799928000@pearlriver.lib.ms.us
SUMMARY:2nd Thursday Book Club
DESCRIPTION:
URL:https://pearlriver.lib.ms.us/event/2nd-thursday-book-club-5-2-2/2027-01-14/
LOCATION:Poplarville Public Library\, 202 W Beers St\, Poplarville\, MS\, 39470\, United States
CATEGORIES:Adults,General,Poplarville Public Library
ATTACH;FMTTYPE=image/png:https://pearlriver.lib.ms.us/wp-content/uploads/2024/08/PPL-Bookclub.png
END:VEVENT
BEGIN:VEVENT
DTSTART;TZID=UTC:20270211T100000
DTEND;TZID=UTC:20270211T120000
DTSTAMP:20260422T170213
CREATED:20250508T220921Z
LAST-MODIFIED:20250508T220922Z
UID:10003727-1802340000-1802347200@pearlriver.lib.ms.us
SUMMARY:2nd Thursday Book Club
DESCRIPTION:
URL:https://pearlriver.lib.ms.us/event/2nd-thursday-book-club-5-2-2/2027-02-11/
LOCATION:Poplarville Public Library\, 202 W Beers St\, Poplarville\, MS\, 39470\, United States
CATEGORIES:Adults,General,Poplarville Public Library
ATTACH;FMTTYPE=image/png:https://pearlriver.lib.ms.us/wp-content/uploads/2024/08/PPL-Bookclub.png
END:VEVENT
BEGIN:VEVENT
DTSTART;TZID=UTC:20270311T100000
DTEND;TZID=UTC:20270311T120000
DTSTAMP:20260422T170213
CREATED:20250508T220921Z
LAST-MODIFIED:20250508T220922Z
UID:10003728-1804759200-1804766400@pearlriver.lib.ms.us
SUMMARY:2nd Thursday Book Club
DESCRIPTION:
URL:https://pearlriver.lib.ms.us/event/2nd-thursday-book-club-5-2-2/2027-03-11/
LOCATION:Poplarville Public Library\, 202 W Beers St\, Poplarville\, MS\, 39470\, United States
CATEGORIES:Adults,General,Poplarville Public Library
ATTACH;FMTTYPE=image/png:https://pearlriver.lib.ms.us/wp-content/uploads/2024/08/PPL-Bookclub.png
END:VEVENT
BEGIN:VEVENT
DTSTART;TZID=UTC:20270408T100000
DTEND;TZID=UTC:20270408T120000
DTSTAMP:20260422T170213
CREATED:20250508T220921Z
LAST-MODIFIED:20250508T220922Z
UID:10003729-1807178400-1807185600@pearlriver.lib.ms.us
SUMMARY:2nd Thursday Book Club
DESCRIPTION:
URL:https://pearlriver.lib.ms.us/event/2nd-thursday-book-club-5-2-2/2027-04-08/
LOCATION:Poplarville Public Library\, 202 W Beers St\, Poplarville\, MS\, 39470\, United States
CATEGORIES:Adults,General,Poplarville Public Library
ATTACH;FMTTYPE=image/png:https://pearlriver.lib.ms.us/wp-content/uploads/2024/08/PPL-Bookclub.png
END:VEVENT
BEGIN:VEVENT
DTSTART;TZID=UTC:20270513T100000
DTEND;TZID=UTC:20270513T120000
DTSTAMP:20260422T170213
CREATED:20250508T220921Z
LAST-MODIFIED:20250508T220922Z
UID:10003730-1810202400-1810209600@pearlriver.lib.ms.us
SUMMARY:2nd Thursday Book Club
DESCRIPTION:
URL:https://pearlriver.lib.ms.us/event/2nd-thursday-book-club-5-2-2/2027-05-13/
LOCATION:Poplarville Public Library\, 202 W Beers St\, Poplarville\, MS\, 39470\, United States
CATEGORIES:Adults,General,Poplarville Public Library
ATTACH;FMTTYPE=image/png:https://pearlriver.lib.ms.us/wp-content/uploads/2024/08/PPL-Bookclub.png
END:VEVENT
BEGIN:VEVENT
DTSTART;TZID=UTC:20270610T100000
DTEND;TZID=UTC:20270610T120000
DTSTAMP:20260422T170213
CREATED:20250508T220921Z
LAST-MODIFIED:20250508T220922Z
UID:10003731-1812621600-1812628800@pearlriver.lib.ms.us
SUMMARY:2nd Thursday Book Club
DESCRIPTION:
URL:https://pearlriver.lib.ms.us/event/2nd-thursday-book-club-5-2-2/2027-06-10/
LOCATION:Poplarville Public Library\, 202 W Beers St\, Poplarville\, MS\, 39470\, United States
CATEGORIES:Adults,General,Poplarville Public Library
ATTACH;FMTTYPE=image/png:https://pearlriver.lib.ms.us/wp-content/uploads/2024/08/PPL-Bookclub.png
END:VEVENT
BEGIN:VEVENT
DTSTART;TZID=UTC:20270708T100000
DTEND;TZID=UTC:20270708T120000
DTSTAMP:20260422T170213
CREATED:20250508T220921Z
LAST-MODIFIED:20250508T220922Z
UID:10003732-1815040800-1815048000@pearlriver.lib.ms.us
SUMMARY:2nd Thursday Book Club
DESCRIPTION:
URL:https://pearlriver.lib.ms.us/event/2nd-thursday-book-club-5-2-2/2027-07-08/
LOCATION:Poplarville Public Library\, 202 W Beers St\, Poplarville\, MS\, 39470\, United States
CATEGORIES:Adults,General,Poplarville Public Library
ATTACH;FMTTYPE=image/png:https://pearlriver.lib.ms.us/wp-content/uploads/2024/08/PPL-Bookclub.png
END:VEVENT
BEGIN:VEVENT
DTSTART;TZID=UTC:20270812T100000
DTEND;TZID=UTC:20270812T120000
DTSTAMP:20260422T170213
CREATED:20250508T220921Z
LAST-MODIFIED:20250508T220922Z
UID:10003733-1818064800-1818072000@pearlriver.lib.ms.us
SUMMARY:2nd Thursday Book Club
DESCRIPTION:
URL:https://pearlriver.lib.ms.us/event/2nd-thursday-book-club-5-2-2/2027-08-12/
LOCATION:Poplarville Public Library\, 202 W Beers St\, Poplarville\, MS\, 39470\, United States
CATEGORIES:Adults,General,Poplarville Public Library
ATTACH;FMTTYPE=image/png:https://pearlriver.lib.ms.us/wp-content/uploads/2024/08/PPL-Bookclub.png
END:VEVENT
BEGIN:VEVENT
DTSTART;TZID=UTC:20270909T100000
DTEND;TZID=UTC:20270909T120000
DTSTAMP:20260422T170213
CREATED:20250508T220921Z
LAST-MODIFIED:20250508T220922Z
UID:10003734-1820484000-1820491200@pearlriver.lib.ms.us
SUMMARY:2nd Thursday Book Club
DESCRIPTION:
URL:https://pearlriver.lib.ms.us/event/2nd-thursday-book-club-5-2-2/2027-09-09/
LOCATION:Poplarville Public Library\, 202 W Beers St\, Poplarville\, MS\, 39470\, United States
CATEGORIES:Adults,General,Poplarville Public Library
ATTACH;FMTTYPE=image/png:https://pearlriver.lib.ms.us/wp-content/uploads/2024/08/PPL-Bookclub.png
END:VEVENT
BEGIN:VEVENT
DTSTART;TZID=UTC:20271014T100000
DTEND;TZID=UTC:20271014T120000
DTSTAMP:20260422T170213
CREATED:20250508T220921Z
LAST-MODIFIED:20250508T220922Z
UID:10003735-1823508000-1823515200@pearlriver.lib.ms.us
SUMMARY:2nd Thursday Book Club
DESCRIPTION:
URL:https://pearlriver.lib.ms.us/event/2nd-thursday-book-club-5-2-2/2027-10-14/
LOCATION:Poplarville Public Library\, 202 W Beers St\, Poplarville\, MS\, 39470\, United States
CATEGORIES:Adults,General,Poplarville Public Library
ATTACH;FMTTYPE=image/png:https://pearlriver.lib.ms.us/wp-content/uploads/2024/08/PPL-Bookclub.png
END:VEVENT
BEGIN:VEVENT
DTSTART;TZID=UTC:20271111T100000
DTEND;TZID=UTC:20271111T120000
DTSTAMP:20260422T170213
CREATED:20250508T220921Z
LAST-MODIFIED:20250508T220922Z
UID:10003736-1825927200-1825934400@pearlriver.lib.ms.us
SUMMARY:2nd Thursday Book Club
DESCRIPTION:
URL:https://pearlriver.lib.ms.us/event/2nd-thursday-book-club-5-2-2/2027-11-11/
LOCATION:Poplarville Public Library\, 202 W Beers St\, Poplarville\, MS\, 39470\, United States
CATEGORIES:Adults,General,Poplarville Public Library
ATTACH;FMTTYPE=image/png:https://pearlriver.lib.ms.us/wp-content/uploads/2024/08/PPL-Bookclub.png
END:VEVENT
BEGIN:VEVENT
DTSTART;TZID=UTC:20271209T100000
DTEND;TZID=UTC:20271209T120000
DTSTAMP:20260422T170213
CREATED:20250508T220921Z
LAST-MODIFIED:20250508T220922Z
UID:10003737-1828346400-1828353600@pearlriver.lib.ms.us
SUMMARY:2nd Thursday Book Club
DESCRIPTION:
URL:https://pearlriver.lib.ms.us/event/2nd-thursday-book-club-5-2-2/2027-12-09/
LOCATION:Poplarville Public Library\, 202 W Beers St\, Poplarville\, MS\, 39470\, United States
CATEGORIES:Adults,General,Poplarville Public Library
ATTACH;FMTTYPE=image/png:https://pearlriver.lib.ms.us/wp-content/uploads/2024/08/PPL-Bookclub.png
END:VEVENT
BEGIN:VEVENT
DTSTART;TZID=UTC:20280113T100000
DTEND;TZID=UTC:20280113T120000
DTSTAMP:20260422T170213
CREATED:20250508T220921Z
LAST-MODIFIED:20250508T220922Z
UID:10003738-1831370400-1831377600@pearlriver.lib.ms.us
SUMMARY:2nd Thursday Book Club
DESCRIPTION:
URL:https://pearlriver.lib.ms.us/event/2nd-thursday-book-club-5-2-2/2028-01-13/
LOCATION:Poplarville Public Library\, 202 W Beers St\, Poplarville\, MS\, 39470\, United States
CATEGORIES:Adults,General,Poplarville Public Library
ATTACH;FMTTYPE=image/png:https://pearlriver.lib.ms.us/wp-content/uploads/2024/08/PPL-Bookclub.png
END:VEVENT
BEGIN:VEVENT
DTSTART;TZID=UTC:20280210T100000
DTEND;TZID=UTC:20280210T120000
DTSTAMP:20260422T170213
CREATED:20250508T220921Z
LAST-MODIFIED:20250508T220922Z
UID:10003739-1833789600-1833796800@pearlriver.lib.ms.us
SUMMARY:2nd Thursday Book Club
DESCRIPTION:
URL:https://pearlriver.lib.ms.us/event/2nd-thursday-book-club-5-2-2/2028-02-10/
LOCATION:Poplarville Public Library\, 202 W Beers St\, Poplarville\, MS\, 39470\, United States
CATEGORIES:Adults,General,Poplarville Public Library
ATTACH;FMTTYPE=image/png:https://pearlriver.lib.ms.us/wp-content/uploads/2024/08/PPL-Bookclub.png
END:VEVENT
BEGIN:VEVENT
DTSTART;TZID=UTC:20280309T100000
DTEND;TZID=UTC:20280309T120000
DTSTAMP:20260422T170213
CREATED:20250508T220921Z
LAST-MODIFIED:20250508T220922Z
UID:10003740-1836208800-1836216000@pearlriver.lib.ms.us
SUMMARY:2nd Thursday Book Club
DESCRIPTION:
URL:https://pearlriver.lib.ms.us/event/2nd-thursday-book-club-5-2-2/2028-03-09/
LOCATION:Poplarville Public Library\, 202 W Beers St\, Poplarville\, MS\, 39470\, United States
CATEGORIES:Adults,General,Poplarville Public Library
ATTACH;FMTTYPE=image/png:https://pearlriver.lib.ms.us/wp-content/uploads/2024/08/PPL-Bookclub.png
END:VEVENT
BEGIN:VEVENT
DTSTART;TZID=UTC:20280413T100000
DTEND;TZID=UTC:20280413T120000
DTSTAMP:20260422T170213
CREATED:20250508T220921Z
LAST-MODIFIED:20250508T220922Z
UID:10003741-1839232800-1839240000@pearlriver.lib.ms.us
SUMMARY:2nd Thursday Book Club
DESCRIPTION:
URL:https://pearlriver.lib.ms.us/event/2nd-thursday-book-club-5-2-2/2028-04-13/
LOCATION:Poplarville Public Library\, 202 W Beers St\, Poplarville\, MS\, 39470\, United States
CATEGORIES:Adults,General,Poplarville Public Library
ATTACH;FMTTYPE=image/png:https://pearlriver.lib.ms.us/wp-content/uploads/2024/08/PPL-Bookclub.png
END:VEVENT
BEGIN:VEVENT
DTSTART;TZID=UTC:20280511T100000
DTEND;TZID=UTC:20280511T120000
DTSTAMP:20260422T170213
CREATED:20250508T220921Z
LAST-MODIFIED:20250508T220922Z
UID:10003742-1841652000-1841659200@pearlriver.lib.ms.us
SUMMARY:2nd Thursday Book Club
DESCRIPTION:
URL:https://pearlriver.lib.ms.us/event/2nd-thursday-book-club-5-2-2/2028-05-11/
LOCATION:Poplarville Public Library\, 202 W Beers St\, Poplarville\, MS\, 39470\, United States
CATEGORIES:Adults,General,Poplarville Public Library
ATTACH;FMTTYPE=image/png:https://pearlriver.lib.ms.us/wp-content/uploads/2024/08/PPL-Bookclub.png
END:VEVENT
BEGIN:VEVENT
DTSTART;TZID=UTC:20280608T100000
DTEND;TZID=UTC:20280608T120000
DTSTAMP:20260422T170213
CREATED:20250508T220921Z
LAST-MODIFIED:20250508T220922Z
UID:10003743-1844071200-1844078400@pearlriver.lib.ms.us
SUMMARY:2nd Thursday Book Club
DESCRIPTION:
URL:https://pearlriver.lib.ms.us/event/2nd-thursday-book-club-5-2-2/2028-06-08/
LOCATION:Poplarville Public Library\, 202 W Beers St\, Poplarville\, MS\, 39470\, United States
CATEGORIES:Adults,General,Poplarville Public Library
ATTACH;FMTTYPE=image/png:https://pearlriver.lib.ms.us/wp-content/uploads/2024/08/PPL-Bookclub.png
END:VEVENT
BEGIN:VEVENT
DTSTART;TZID=UTC:20280713T100000
DTEND;TZID=UTC:20280713T120000
DTSTAMP:20260422T170213
CREATED:20250508T220921Z
LAST-MODIFIED:20250508T220922Z
UID:10003744-1847095200-1847102400@pearlriver.lib.ms.us
SUMMARY:2nd Thursday Book Club
DESCRIPTION:
URL:https://pearlriver.lib.ms.us/event/2nd-thursday-book-club-5-2-2/2028-07-13/
LOCATION:Poplarville Public Library\, 202 W Beers St\, Poplarville\, MS\, 39470\, United States
CATEGORIES:Adults,General,Poplarville Public Library
ATTACH;FMTTYPE=image/png:https://pearlriver.lib.ms.us/wp-content/uploads/2024/08/PPL-Bookclub.png
END:VEVENT
BEGIN:VEVENT
DTSTART;TZID=UTC:20280810T100000
DTEND;TZID=UTC:20280810T120000
DTSTAMP:20260422T170213
CREATED:20250508T220921Z
LAST-MODIFIED:20250508T220922Z
UID:10003745-1849514400-1849521600@pearlriver.lib.ms.us
SUMMARY:2nd Thursday Book Club
DESCRIPTION:
URL:https://pearlriver.lib.ms.us/event/2nd-thursday-book-club-5-2-2/2028-08-10/
LOCATION:Poplarville Public Library\, 202 W Beers St\, Poplarville\, MS\, 39470\, United States
CATEGORIES:Adults,General,Poplarville Public Library
ATTACH;FMTTYPE=image/png:https://pearlriver.lib.ms.us/wp-content/uploads/2024/08/PPL-Bookclub.png
END:VEVENT
BEGIN:VEVENT
DTSTART;TZID=UTC:20280914T100000
DTEND;TZID=UTC:20280914T120000
DTSTAMP:20260422T170213
CREATED:20250508T220921Z
LAST-MODIFIED:20250508T220922Z
UID:10003746-1852538400-1852545600@pearlriver.lib.ms.us
SUMMARY:2nd Thursday Book Club
DESCRIPTION:
URL:https://pearlriver.lib.ms.us/event/2nd-thursday-book-club-5-2-2/2028-09-14/
LOCATION:Poplarville Public Library\, 202 W Beers St\, Poplarville\, MS\, 39470\, United States
CATEGORIES:Adults,General,Poplarville Public Library
ATTACH;FMTTYPE=image/png:https://pearlriver.lib.ms.us/wp-content/uploads/2024/08/PPL-Bookclub.png
END:VEVENT
BEGIN:VEVENT
DTSTART;TZID=UTC:20281012T100000
DTEND;TZID=UTC:20281012T120000
DTSTAMP:20260422T170213
CREATED:20250508T220921Z
LAST-MODIFIED:20250508T220922Z
UID:10003747-1854957600-1854964800@pearlriver.lib.ms.us
SUMMARY:2nd Thursday Book Club
DESCRIPTION:
URL:https://pearlriver.lib.ms.us/event/2nd-thursday-book-club-5-2-2/2028-10-12/
LOCATION:Poplarville Public Library\, 202 W Beers St\, Poplarville\, MS\, 39470\, United States
CATEGORIES:Adults,General,Poplarville Public Library
ATTACH;FMTTYPE=image/png:https://pearlriver.lib.ms.us/wp-content/uploads/2024/08/PPL-Bookclub.png
END:VEVENT
BEGIN:VEVENT
DTSTART;TZID=UTC:20281109T100000
DTEND;TZID=UTC:20281109T120000
DTSTAMP:20260422T170213
CREATED:20250508T220921Z
LAST-MODIFIED:20250508T220922Z
UID:10003748-1857376800-1857384000@pearlriver.lib.ms.us
SUMMARY:2nd Thursday Book Club
DESCRIPTION:
URL:https://pearlriver.lib.ms.us/event/2nd-thursday-book-club-5-2-2/2028-11-09/
LOCATION:Poplarville Public Library\, 202 W Beers St\, Poplarville\, MS\, 39470\, United States
CATEGORIES:Adults,General,Poplarville Public Library
ATTACH;FMTTYPE=image/png:https://pearlriver.lib.ms.us/wp-content/uploads/2024/08/PPL-Bookclub.png
END:VEVENT
BEGIN:VEVENT
DTSTART;TZID=UTC:20281214T100000
DTEND;TZID=UTC:20281214T120000
DTSTAMP:20260422T170213
CREATED:20250508T220921Z
LAST-MODIFIED:20250508T220922Z
UID:10003749-1860400800-1860408000@pearlriver.lib.ms.us
SUMMARY:2nd Thursday Book Club
DESCRIPTION:
URL:https://pearlriver.lib.ms.us/event/2nd-thursday-book-club-5-2-2/2028-12-14/
LOCATION:Poplarville Public Library\, 202 W Beers St\, Poplarville\, MS\, 39470\, United States
CATEGORIES:Adults,General,Poplarville Public Library
ATTACH;FMTTYPE=image/png:https://pearlriver.lib.ms.us/wp-content/uploads/2024/08/PPL-Bookclub.png
END:VEVENT
END:VCALENDAR