BEGIN:VCALENDAR
VERSION:2.0
PRODID:-//Pearl River County Library System - ECPv6.15.20//NONSGML v1.0//EN
CALSCALE:GREGORIAN
METHOD:PUBLISH
X-ORIGINAL-URL:https://pearlriver.lib.ms.us
X-WR-CALDESC:Events for Pearl River County Library System
REFRESH-INTERVAL;VALUE=DURATION:PT1H
X-Robots-Tag:noindex
X-PUBLISHED-TTL:PT1H
BEGIN:VTIMEZONE
TZID:UTC
BEGIN:STANDARD
TZOFFSETFROM:+0000
TZOFFSETTO:+0000
TZNAME:UTC
DTSTART:20220101T000000
END:STANDARD
END:VTIMEZONE
BEGIN:VEVENT
DTSTART;TZID=UTC:20230909T130000
DTEND;TZID=UTC:20230909T150000
DTSTAMP:20260420T154125
CREATED:20230814T201727Z
LAST-MODIFIED:20230814T201727Z
UID:10001391-1694264400-1694271600@pearlriver.lib.ms.us
SUMMARY:Card Games @ Crosby!
DESCRIPTION:
URL:https://pearlriver.lib.ms.us/event/card-games-crosby-2/
LOCATION:Holland Hall @ CML\, 900 Goodyear Boulevard\, Picayune\, MS\, 39466\, United States
CATEGORIES:All Ages,Crosby Memorial Library
ORGANIZER;CN="Victoria Kingrey":MAILTO:cmlteens@outlook.com
END:VEVENT
BEGIN:VEVENT
DTSTART;TZID=UTC:20230817T173000
DTEND;TZID=UTC:20230817T193000
DTSTAMP:20260420T154125
CREATED:20230613T023532Z
LAST-MODIFIED:20230730T001654Z
UID:10000726-1692293400-1692300600@pearlriver.lib.ms.us
SUMMARY:PRC 4-H Fair Exhibits Fun Day
DESCRIPTION:Non-Library Event\nCome make some exhibits for the fair! Six great opportunities are being offered for you to come and create some exhibits that can be entered in the Pearl River County Fair and could be selected for display in the 4-H Village at the Mississippi State Fair in Jackson. You will have the opportunity to make 3 exhibits at each workshop. Remember\, you will receive ribbons and cash money for quality fair exhibits! The items will also make great gifts for friends or family! \nYou must register and pay the registration fee for your supplies BEFORE the registration dates shown below for the workshops you plan to attend. If you do not register and pay\, it is not guaranteed there will be enough supplies for you. Register and pay at the Pearl River County Extension Service Office at 204 Julia Street in Poplarville. If you would like to see pictures of what you will be making\, Ms. Connie will be glad to show you. Please arrange to come by the 4-H Office and see what we have planned. Call 601-403-2280 if you have any questions. \nRegistration Fee: $10.00 per session (to cover supplies)\nMust be paid by check or money order payable to Pearl River County 4-H. \nRegistration for this workshop is due 8/10/23. \nThe exhibits being made at this workshop at Crosby Memorial Library: \n\nBeaded Suncatcher\nClothespin Trinket Box\nClothespin Cross\n\nFor more information regarding payment\, or additional workshop days\, click the link below to download the 4-H Fair Exhibits Fun Days Flyer. \n2023 4-H Fair Exhibits Fun Days.pdf
URL:https://pearlriver.lib.ms.us/event/prc-4-h-county-fair/
LOCATION:Holland Hall @ CML\, 900 Goodyear Boulevard\, Picayune\, MS\, 39466\, United States
CATEGORIES:All Ages,Crosby Memorial Library,General
END:VEVENT
BEGIN:VEVENT
DTSTART;TZID=UTC:20230729T130000
DTEND;TZID=UTC:20230729T150000
DTSTAMP:20260420T154125
CREATED:20230619T221534Z
LAST-MODIFIED:20230726T210442Z
UID:10001066-1690635600-1690642800@pearlriver.lib.ms.us
SUMMARY:Card Games @ Crosby
DESCRIPTION:Grab your cards and let’s play! Refreshments will be served!
URL:https://pearlriver.lib.ms.us/event/card-games-crosby/
LOCATION:Holland Hall @ CML\, 900 Goodyear Boulevard\, Picayune\, MS\, 39466\, United States
CATEGORIES:All Ages,Crosby Memorial Library,Teens
END:VEVENT
BEGIN:VEVENT
DTSTART;TZID=UTC:20230626T150000
DTEND;TZID=UTC:20230626T160000
DTSTAMP:20260420T154125
CREATED:20230609T022538Z
LAST-MODIFIED:20230609T022642Z
UID:10000444-1687791600-1687795200@pearlriver.lib.ms.us
SUMMARY:Mississippi Butterflies
DESCRIPTION:
URL:https://pearlriver.lib.ms.us/event/mississippi-butterflies/
LOCATION:Holland Hall @ CML\, 900 Goodyear Boulevard\, Picayune\, MS\, 39466\, United States
CATEGORIES:All Ages,Crosby Memorial Library,Teens
END:VEVENT
BEGIN:VEVENT
DTSTART;TZID=UTC:20230609T150000
DTEND;TZID=UTC:20230609T160000
DTSTAMP:20260420T154125
CREATED:20230609T022411Z
LAST-MODIFIED:20230609T022617Z
UID:10000443-1686322800-1686326400@pearlriver.lib.ms.us
SUMMARY:Reptile Presentation
DESCRIPTION:
URL:https://pearlriver.lib.ms.us/event/reptile-presentation/
LOCATION:Holland Hall @ CML\, 900 Goodyear Boulevard\, Picayune\, MS\, 39466\, United States
CATEGORIES:All Ages,Crosby Memorial Library,Teens
ATTACH;FMTTYPE=image/png:https://pearlriver.lib.ms.us/wp-content/uploads/2023/05/Teen-Programming-FB-Promotion-Reptile-Day.png
END:VEVENT
END:VCALENDAR