BEGIN:VCALENDAR
VERSION:2.0
PRODID:-//Pearl River County Library System - ECPv6.15.20//NONSGML v1.0//EN
CALSCALE:GREGORIAN
METHOD:PUBLISH
X-WR-CALNAME:Pearl River County Library System
X-ORIGINAL-URL:https://pearlriver.lib.ms.us
X-WR-CALDESC:Events for Pearl River County Library System
REFRESH-INTERVAL;VALUE=DURATION:PT1H
X-Robots-Tag:noindex
X-PUBLISHED-TTL:PT1H
BEGIN:VTIMEZONE
TZID:UTC
BEGIN:STANDARD
TZOFFSETFROM:+0000
TZOFFSETTO:+0000
TZNAME:UTC
DTSTART:20220101T000000
END:STANDARD
END:VTIMEZONE
BEGIN:VEVENT
DTSTART;TZID=UTC:20230602T150000
DTEND;TZID=UTC:20230602T163000
DTSTAMP:20260420T055711
CREATED:20230516T215359Z
LAST-MODIFIED:20230517T052617Z
UID:10000416-1685718000-1685723400@pearlriver.lib.ms.us
SUMMARY:Ice Cream Social
DESCRIPTION:Let’s kick off this year’s Summer Reading Program with the sweetest treat: ICE CREAM! Bring the whole family!
URL:https://pearlriver.lib.ms.us/event/ice-cream-social/
LOCATION:Margaret Reed Crosby Memorial Library\, 900 Goodyear Boulevard\, Picayune\, MS\, 39466\, United States
CATEGORIES:Children,Crosby Memorial Library
END:VEVENT
BEGIN:VEVENT
DTSTART;TZID=UTC:20230606T140000
DTEND;TZID=UTC:20230606T153000
DTSTAMP:20260420T055711
CREATED:20230619T223054Z
LAST-MODIFIED:20230619T223054Z
UID:10001069-1686060000-1686065400@pearlriver.lib.ms.us
SUMMARY:Activity Day @ CML
DESCRIPTION:“Let’s Meet at the River”\nwith Mr. Jerry Jenkins \nMr. Jenkins will be putting on an interactive play and will be teaching us about West African drums. Program supported by MS Humanities Council.
URL:https://pearlriver.lib.ms.us/event/activity-day-cml-2/
LOCATION:Margaret Reed Crosby Memorial Library\, 900 Goodyear Boulevard\, Picayune\, MS\, 39466\, United States
CATEGORIES:Children,Crosby Memorial Library
END:VEVENT
BEGIN:VEVENT
DTSTART;TZID=UTC:20230609T100000
DTEND;TZID=UTC:20230609T230000
DTSTAMP:20260420T055711
CREATED:20230619T222624Z
LAST-MODIFIED:20230619T222624Z
UID:10001067-1686304800-1686351600@pearlriver.lib.ms.us
SUMMARY:Story Time w/ Mrs. Megan
DESCRIPTION:Be Kind to Others!\nStory Time & Craft: Seeds and Flowerpots!
URL:https://pearlriver.lib.ms.us/event/story-time-w-mrs-megan-5/
LOCATION:Margaret Reed Crosby Memorial Library\, 900 Goodyear Boulevard\, Picayune\, MS\, 39466\, United States
CATEGORIES:Children,Crosby Memorial Library
END:VEVENT
BEGIN:VEVENT
DTSTART;TZID=UTC:20230613T103000
DTEND;TZID=UTC:20230613T113000
DTSTAMP:20260420T055711
CREATED:20230609T202210Z
LAST-MODIFIED:20230609T202210Z
UID:10000446-1686652200-1686655800@pearlriver.lib.ms.us
SUMMARY:Summer Reading Program Activity
DESCRIPTION:Nature Sketching with Robin Veerkamp
URL:https://pearlriver.lib.ms.us/event/summer-reading-program-activity/
LOCATION:Poplarville Public Library\, 202 W Beers St\, Poplarville\, MS\, 39470\, United States
CATEGORIES:Children,Poplarville Public Library
END:VEVENT
BEGIN:VEVENT
DTSTART;TZID=UTC:20230613T140000
DTEND;TZID=UTC:20230613T153000
DTSTAMP:20260420T055711
CREATED:20230619T223149Z
LAST-MODIFIED:20230619T223149Z
UID:10001070-1686664800-1686670200@pearlriver.lib.ms.us
SUMMARY:Activity Day @ CML
DESCRIPTION:Nature Sketching\nwith Mrs. Robin Veerkamp \nLocal art instructor\, Mrs. Veerkamp will be teaching us about sketching nature.
URL:https://pearlriver.lib.ms.us/event/activity-day-cml-3/
LOCATION:Margaret Reed Crosby Memorial Library\, 900 Goodyear Boulevard\, Picayune\, MS\, 39466\, United States
CATEGORIES:Children,Crosby Memorial Library
END:VEVENT
BEGIN:VEVENT
DTSTART;TZID=UTC:20230616T100000
DTEND;TZID=UTC:20230616T230000
DTSTAMP:20260420T055711
CREATED:20230616T024740Z
LAST-MODIFIED:20230617T002716Z
UID:10000432-1686909600-1686956400@pearlriver.lib.ms.us
SUMMARY:Story Time w/ Mrs. Megan
DESCRIPTION:Be Kind to Yourself!\nStory Time & Craft: Self Portraits and Slap Bracelets!
URL:https://pearlriver.lib.ms.us/event/story-time-2/
LOCATION:Margaret Reed Crosby Memorial Library\, 900 Goodyear Boulevard\, Picayune\, MS\, 39466\, United States
CATEGORIES:Children,Crosby Memorial Library
END:VEVENT
BEGIN:VEVENT
DTSTART;TZID=UTC:20230620T103000
DTEND;TZID=UTC:20230620T233000
DTSTAMP:20260420T055711
CREATED:20230609T202835Z
LAST-MODIFIED:20230609T202835Z
UID:10000447-1687257000-1687303800@pearlriver.lib.ms.us
SUMMARY:Summer Reading Program Activity
DESCRIPTION:“Planting Seeds of Kindness” with Donna Porter
URL:https://pearlriver.lib.ms.us/event/summer-reading-program-activity-2/
CATEGORIES:Children,Poplarville Public Library
END:VEVENT
BEGIN:VEVENT
DTSTART;TZID=UTC:20230620T140000
DTEND;TZID=UTC:20230620T153000
DTSTAMP:20260420T055711
CREATED:20230620T101257Z
LAST-MODIFIED:20230620T101257Z
UID:10001073-1687269600-1687275000@pearlriver.lib.ms.us
SUMMARY:Activity Day @ CML
DESCRIPTION:Planting Seeds of Kindness\nFormer Picayune High teacher\, now motivational speaker discusses kindness.
URL:https://pearlriver.lib.ms.us/event/activity-day-cml-5/
LOCATION:Margaret Reed Crosby Memorial Library\, 900 Goodyear Boulevard\, Picayune\, MS\, 39466\, United States
CATEGORIES:Children,Crosby Memorial Library
END:VEVENT
BEGIN:VEVENT
DTSTART;TZID=UTC:20230623T100000
DTEND;TZID=UTC:20230623T230000
DTSTAMP:20260420T055711
CREATED:20230617T040355Z
LAST-MODIFIED:20230619T222604Z
UID:10000995-1687514400-1687561200@pearlriver.lib.ms.us
SUMMARY:Story Time w/ Mrs. Megan
DESCRIPTION:Be Kind to Nature!\nStory Time & Craft: Seeds and Flowerpots!
URL:https://pearlriver.lib.ms.us/event/story-time-w-mrs-megan/
LOCATION:Margaret Reed Crosby Memorial Library\, 900 Goodyear Boulevard\, Picayune\, MS\, 39466\, United States
CATEGORIES:Children,Crosby Memorial Library
END:VEVENT
BEGIN:VEVENT
DTSTART;TZID=UTC:20230627T103000
DTEND;TZID=UTC:20230627T233000
DTSTAMP:20260420T055711
CREATED:20230609T202945Z
LAST-MODIFIED:20230609T202945Z
UID:10000448-1687861800-1687908600@pearlriver.lib.ms.us
SUMMARY:Summer Reading Program Activity
DESCRIPTION:Science on the Geaux
URL:https://pearlriver.lib.ms.us/event/summer-reading-program-activity-3/
CATEGORIES:Children,Poplarville Public Library
END:VEVENT
BEGIN:VEVENT
DTSTART;TZID=UTC:20230627T140000
DTEND;TZID=UTC:20230627T153000
DTSTAMP:20260420T055711
CREATED:20230619T223257Z
LAST-MODIFIED:20230619T223345Z
UID:10001071-1687874400-1687879800@pearlriver.lib.ms.us
SUMMARY:Activity Day @ CML
DESCRIPTION:Science on the Geaux\nWatch science come to life with Science on the Geaux’s fun and interactive program.
URL:https://pearlriver.lib.ms.us/event/activity-day-cml-4/
LOCATION:Margaret Reed Crosby Memorial Library\, 900 Goodyear Boulevard\, Picayune\, MS\, 39466\, United States
CATEGORIES:Children,Crosby Memorial Library
END:VEVENT
BEGIN:VEVENT
DTSTART;TZID=UTC:20230630T100000
DTEND;TZID=UTC:20230630T230000
DTSTAMP:20260420T055711
CREATED:20230617T040436Z
LAST-MODIFIED:20230617T040436Z
UID:10000996-1688119200-1688166000@pearlriver.lib.ms.us
SUMMARY:Story Time w/ Mrs. Megan
DESCRIPTION:Be Kind to Animals!\nStory Time & Craft: Watercolor Portraits!
URL:https://pearlriver.lib.ms.us/event/story-time-w-mrs-megan-2/
LOCATION:Margaret Reed Crosby Memorial Library\, 900 Goodyear Boulevard\, Picayune\, MS\, 39466\, United States
CATEGORIES:Children,Crosby Memorial Library
END:VEVENT
END:VCALENDAR