BEGIN:VCALENDAR
VERSION:2.0
PRODID:-//Pearl River County Library System - ECPv6.15.20//NONSGML v1.0//EN
CALSCALE:GREGORIAN
METHOD:PUBLISH
X-ORIGINAL-URL:https://pearlriver.lib.ms.us
X-WR-CALDESC:Events for Pearl River County Library System
REFRESH-INTERVAL;VALUE=DURATION:PT1H
X-Robots-Tag:noindex
X-PUBLISHED-TTL:PT1H
BEGIN:VTIMEZONE
TZID:America/Chicago
BEGIN:DAYLIGHT
TZOFFSETFROM:-0600
TZOFFSETTO:-0500
TZNAME:CDT
DTSTART:20230312T080000
END:DAYLIGHT
BEGIN:STANDARD
TZOFFSETFROM:-0500
TZOFFSETTO:-0600
TZNAME:CST
DTSTART:20231105T070000
END:STANDARD
BEGIN:DAYLIGHT
TZOFFSETFROM:-0600
TZOFFSETTO:-0500
TZNAME:CDT
DTSTART:20240310T080000
END:DAYLIGHT
BEGIN:STANDARD
TZOFFSETFROM:-0500
TZOFFSETTO:-0600
TZNAME:CST
DTSTART:20241103T070000
END:STANDARD
BEGIN:DAYLIGHT
TZOFFSETFROM:-0600
TZOFFSETTO:-0500
TZNAME:CDT
DTSTART:20250309T080000
END:DAYLIGHT
BEGIN:STANDARD
TZOFFSETFROM:-0500
TZOFFSETTO:-0600
TZNAME:CST
DTSTART:20251102T070000
END:STANDARD
END:VTIMEZONE
BEGIN:VTIMEZONE
TZID:UTC
BEGIN:STANDARD
TZOFFSETFROM:+0000
TZOFFSETTO:+0000
TZNAME:UTC
DTSTART:20230101T000000
END:STANDARD
END:VTIMEZONE
BEGIN:VEVENT
DTSTART;TZID=America/Chicago:20241001T100000
DTEND;TZID=America/Chicago:20241001T113000
DTSTAMP:20260419T194431
CREATED:20240930T192756Z
LAST-MODIFIED:20241031T213957Z
UID:10002891-1727776800-1727782200@pearlriver.lib.ms.us
SUMMARY:Heaven Bound
DESCRIPTION:
URL:https://pearlriver.lib.ms.us/event/heaven-bound-8/2024-10-01/
LOCATION:MS
CATEGORIES:Crosby Memorial Library,General
ATTACH;FMTTYPE=image/png:https://pearlriver.lib.ms.us/wp-content/uploads/2024/01/6.png
END:VEVENT
BEGIN:VEVENT
DTSTART;TZID=UTC:20241001T170000
DTEND;TZID=UTC:20241001T190000
DTSTAMP:20260419T194431
CREATED:20240123T043636Z
LAST-MODIFIED:20240123T043636Z
UID:10002065-1727802000-1727809200@pearlriver.lib.ms.us
SUMMARY:PRC Republican Woman's Meeting
DESCRIPTION:
URL:https://pearlriver.lib.ms.us/event/prc-republican-womans-meeting-6/
LOCATION:MS
CATEGORIES:Adults,Crosby Memorial Library
END:VEVENT
BEGIN:VEVENT
DTSTART;TZID=UTC:20241003T170000
DTEND;TZID=UTC:20241003T200000
DTSTAMP:20260419T194431
CREATED:20240214T062720Z
LAST-MODIFIED:20240214T062720Z
UID:10002350-1727974800-1727985600@pearlriver.lib.ms.us
SUMMARY:Exodus Project 21
DESCRIPTION:Non-Library Event\nExodus Project 21 was established to wage a war against the perils of substance abuse. They aim to bridge all the gaps that recovering addicts experience that result in recidivism through a faith-based approach. Exodus Project 21 is a tax-exempt 501(c)3 created to facilitate an uninterrupted path from jail or rehab release to full societal re-entry complete with sobriety\, health\, housing\, transportation\, and employment for addicts seeking recovery.
URL:https://pearlriver.lib.ms.us/event/exodus-project-21-3/2024-10-03/
LOCATION:Holland Hall @ CML\, 900 Goodyear Boulevard\, Picayune\, MS\, 39466\, United States
CATEGORIES:Adults,Crosby Memorial Library
ATTACH;FMTTYPE=image/jpeg:https://pearlriver.lib.ms.us/wp-content/uploads/2023/05/exodus-logo-grey.jpg
END:VEVENT
BEGIN:VEVENT
DTSTART;TZID=America/Chicago:20241004T100000
DTEND;TZID=America/Chicago:20241004T110000
DTSTAMP:20260419T194431
CREATED:20240816T203259Z
LAST-MODIFIED:20240816T203259Z
UID:10002754-1728036000-1728039600@pearlriver.lib.ms.us
SUMMARY:Fall Storytime!
DESCRIPTION:This week’s theme is… \nKids Music Day!\nOur morning Storytime is perfect for little ones ages 0-5. Families are welcome!
URL:https://pearlriver.lib.ms.us/event/fall-storytime-2/
LOCATION:Holland Hall @ CML\, 900 Goodyear Boulevard\, Picayune\, MS\, 39466\, United States
CATEGORIES:Children,Crosby Memorial Library
ATTACH;FMTTYPE=image/png:https://pearlriver.lib.ms.us/wp-content/uploads/2024/01/5.png
ORGANIZER;CN="Megan Miller":MAILTO:childrens@pearlriver.lib.ms.us
END:VEVENT
BEGIN:VEVENT
DTSTART;TZID=America/Chicago:20241004T160000
DTEND;TZID=America/Chicago:20241004T180000
DTSTAMP:20260419T194431
CREATED:20240821T203316Z
LAST-MODIFIED:20240821T210301Z
UID:10002768-1728057600-1728064800@pearlriver.lib.ms.us
SUMMARY:Family Fun Night!
DESCRIPTION:It’s fun for the whole family! \nJoin us for… Board Games!\nFamilies of all ages are encouraged to attend!
URL:https://pearlriver.lib.ms.us/event/activity-day-2/
LOCATION:MS
CATEGORIES:Children,Crosby Memorial Library
END:VEVENT
BEGIN:VEVENT
DTSTART;TZID=America/Chicago:20241007T100000
DTEND;TZID=America/Chicago:20241007T230000
DTSTAMP:20260419T194431
CREATED:20240917T151308Z
LAST-MODIFIED:20240917T151308Z
UID:10002855-1728295200-1728342000@pearlriver.lib.ms.us
SUMMARY:Literary Lounge
DESCRIPTION:CML invites you to come enjoy a cup of coffee and connect with others while exploring different themes each month designed to spark curiosity and creativity! \nThis month’s theme is… \nGardening!\nWhether you’re a seasoned green thumb or just starting out\, this is the perfect place to share your love for gardening! Come swap tips\, pointers\, and even seeds/cuttings with fellow garden enthusiasts. It’s a great opportunity to learn new techniques\, discover helpful gardening tools\, and discuss the latest in horticulture. Bring all your gardening questions\, your favorite gardening stories\, and a smile! \nLight refreshments will be provided by the library.
URL:https://pearlriver.lib.ms.us/event/literary-lounge/
LOCATION:Holland Hall @ CML\, 900 Goodyear Boulevard\, Picayune\, MS\, 39466\, United States
CATEGORIES:Adults,Crosby Memorial Library
ATTACH;FMTTYPE=image/png:https://pearlriver.lib.ms.us/wp-content/uploads/2024/07/Literary-Lounge.png
ORGANIZER;CN="Victoria Kingrey":MAILTO:cmlteens@outlook.com
END:VEVENT
BEGIN:VEVENT
DTSTART;TZID=America/Chicago:20241008T100000
DTEND;TZID=America/Chicago:20241008T113000
DTSTAMP:20260419T194431
CREATED:20240930T192756Z
LAST-MODIFIED:20241031T213957Z
UID:10002892-1728381600-1728387000@pearlriver.lib.ms.us
SUMMARY:Heaven Bound
DESCRIPTION:
URL:https://pearlriver.lib.ms.us/event/heaven-bound-8/2024-10-08/
LOCATION:MS
CATEGORIES:Crosby Memorial Library,General
ATTACH;FMTTYPE=image/png:https://pearlriver.lib.ms.us/wp-content/uploads/2024/01/6.png
END:VEVENT
BEGIN:VEVENT
DTSTART;TZID=UTC:20241009T110000
DTEND;TZID=UTC:20241009T130000
DTSTAMP:20260419T194431
CREATED:20240402T011120Z
LAST-MODIFIED:20240402T011120Z
UID:10001812-1728471600-1728478800@pearlriver.lib.ms.us
SUMMARY:PRC Historical Society Meeting
DESCRIPTION:Topic\nTBA \nGuest Speaker\nTBA
URL:https://pearlriver.lib.ms.us/event/prc-historical-society-meeting-3-8/
LOCATION:Holland Hall @ CML\, 900 Goodyear Boulevard\, Picayune\, MS\, 39466\, United States
CATEGORIES:Crosby Memorial Library,General
ATTACH;FMTTYPE=image/png:https://pearlriver.lib.ms.us/wp-content/uploads/2024/01/6.png
END:VEVENT
BEGIN:VEVENT
DTSTART;TZID=UTC:20241010T170000
DTEND;TZID=UTC:20241010T200000
DTSTAMP:20260419T194431
CREATED:20240214T062720Z
LAST-MODIFIED:20240214T062720Z
UID:10002351-1728579600-1728590400@pearlriver.lib.ms.us
SUMMARY:Exodus Project 21
DESCRIPTION:Non-Library Event\nExodus Project 21 was established to wage a war against the perils of substance abuse. They aim to bridge all the gaps that recovering addicts experience that result in recidivism through a faith-based approach. Exodus Project 21 is a tax-exempt 501(c)3 created to facilitate an uninterrupted path from jail or rehab release to full societal re-entry complete with sobriety\, health\, housing\, transportation\, and employment for addicts seeking recovery.
URL:https://pearlriver.lib.ms.us/event/exodus-project-21-3/2024-10-10/
LOCATION:Holland Hall @ CML\, 900 Goodyear Boulevard\, Picayune\, MS\, 39466\, United States
CATEGORIES:Adults,Crosby Memorial Library
ATTACH;FMTTYPE=image/jpeg:https://pearlriver.lib.ms.us/wp-content/uploads/2023/05/exodus-logo-grey.jpg
END:VEVENT
BEGIN:VEVENT
DTSTART;TZID=America/Chicago:20241011T100000
DTEND;TZID=America/Chicago:20241011T110000
DTSTAMP:20260419T194431
CREATED:20240816T203320Z
LAST-MODIFIED:20240816T203320Z
UID:10002755-1728640800-1728644400@pearlriver.lib.ms.us
SUMMARY:Fall Storytime!
DESCRIPTION:This week’s theme is… \nNational Spread Joy Day!\nOur morning Storytime is perfect for little ones ages 0-5. Families are welcome!
URL:https://pearlriver.lib.ms.us/event/fall-storytime-3/
LOCATION:Holland Hall @ CML\, 900 Goodyear Boulevard\, Picayune\, MS\, 39466\, United States
CATEGORIES:Children,Crosby Memorial Library
ATTACH;FMTTYPE=image/png:https://pearlriver.lib.ms.us/wp-content/uploads/2024/01/5.png
ORGANIZER;CN="Megan Miller":MAILTO:childrens@pearlriver.lib.ms.us
END:VEVENT
BEGIN:VEVENT
DTSTART;TZID=UTC:20241011T150000
DTEND;TZID=UTC:20241011T170000
DTSTAMP:20260419T194431
CREATED:20240402T210103Z
LAST-MODIFIED:20240816T201854Z
UID:10002438-1728658800-1728666000@pearlriver.lib.ms.us
SUMMARY:Teen Activity Night!
DESCRIPTION:Video Games!\nLet’s play: Halloween Jeopardy! \nDo you enjoy video games with friends? Want to show off your gaming skills? Come join us for a night of digital fun a the Crosby Memorial Library! You can use our consoles or bring your own! Snacks will be served! \nDon’t forget to bring your mobile device (phone\, tablet\, or laptop) so you can participate!
URL:https://pearlriver.lib.ms.us/event/teen-activity-night-11/
LOCATION:Holland Hall @ CML\, 900 Goodyear Boulevard\, Picayune\, MS\, 39466\, United States
CATEGORIES:Crosby Memorial Library,Teens
ORGANIZER;CN="Victoria Kingrey":MAILTO:cmlteens@outlook.com
END:VEVENT
BEGIN:VEVENT
DTSTART;TZID=UTC:20241014T133000
DTEND;TZID=UTC:20241014T143000
DTSTAMP:20260419T194431
CREATED:20240213T003441Z
LAST-MODIFIED:20241112T170220Z
UID:10002264-1728912600-1728916200@pearlriver.lib.ms.us
SUMMARY:CML Friends Board Meeting
DESCRIPTION:Friends of the Libraries Event\n  \n 
URL:https://pearlriver.lib.ms.us/event/cml-friends-board-meeting-2-2/2024-10-14/
LOCATION:Holland Hall @ CML\, 900 Goodyear Boulevard\, Picayune\, MS\, 39466\, United States
CATEGORIES:Crosby Memorial Library,General
ATTACH;FMTTYPE=image/png:https://pearlriver.lib.ms.us/wp-content/uploads/2024/02/CML-Friends.png
END:VEVENT
BEGIN:VEVENT
DTSTART;TZID=America/Chicago:20241016T100000
DTEND;TZID=America/Chicago:20241016T110000
DTSTAMP:20260419T194431
CREATED:20240923T162637Z
LAST-MODIFIED:20241017T165624Z
UID:10002860-1729072800-1729076400@pearlriver.lib.ms.us
SUMMARY:Genealogy Club Meeting
DESCRIPTION:
URL:https://pearlriver.lib.ms.us/event/genealogy-club-meeting-4/2024-10-16/
LOCATION:Holland Hall @ CML\, 900 Goodyear Boulevard\, Picayune\, MS\, 39466\, United States
CATEGORIES:Crosby Memorial Library,General
ATTACH;FMTTYPE=image/png:https://pearlriver.lib.ms.us/wp-content/uploads/2024/01/6.png
END:VEVENT
BEGIN:VEVENT
DTSTART;TZID=America/Chicago:20241016T130000
DTEND;TZID=America/Chicago:20241016T150000
DTSTAMP:20260419T194431
CREATED:20240904T131850Z
LAST-MODIFIED:20240904T131850Z
UID:10002815-1729083600-1729090800@pearlriver.lib.ms.us
SUMMARY:Homeschool Marine Biology Class
DESCRIPTION:Hosted by the Pearl River County Homeschool Association!
URL:https://pearlriver.lib.ms.us/event/homeschool-marine-biology-class/2024-10-16/
LOCATION:Holland Hall @ CML\, 900 Goodyear Boulevard\, Picayune\, MS\, 39466\, United States
CATEGORIES:Crosby Memorial Library,General
ATTACH;FMTTYPE=image/png:https://pearlriver.lib.ms.us/wp-content/uploads/2024/01/6.png
END:VEVENT
BEGIN:VEVENT
DTSTART;TZID=UTC:20241017T170000
DTEND;TZID=UTC:20241017T200000
DTSTAMP:20260419T194431
CREATED:20240214T062720Z
LAST-MODIFIED:20240214T062720Z
UID:10002352-1729184400-1729195200@pearlriver.lib.ms.us
SUMMARY:Exodus Project 21
DESCRIPTION:Non-Library Event\nExodus Project 21 was established to wage a war against the perils of substance abuse. They aim to bridge all the gaps that recovering addicts experience that result in recidivism through a faith-based approach. Exodus Project 21 is a tax-exempt 501(c)3 created to facilitate an uninterrupted path from jail or rehab release to full societal re-entry complete with sobriety\, health\, housing\, transportation\, and employment for addicts seeking recovery.
URL:https://pearlriver.lib.ms.us/event/exodus-project-21-3/2024-10-17/
LOCATION:Holland Hall @ CML\, 900 Goodyear Boulevard\, Picayune\, MS\, 39466\, United States
CATEGORIES:Adults,Crosby Memorial Library
ATTACH;FMTTYPE=image/jpeg:https://pearlriver.lib.ms.us/wp-content/uploads/2023/05/exodus-logo-grey.jpg
END:VEVENT
BEGIN:VEVENT
DTSTART;TZID=America/Chicago:20241018T100000
DTEND;TZID=America/Chicago:20241018T110000
DTSTAMP:20260419T194431
CREATED:20240816T203352Z
LAST-MODIFIED:20240816T203352Z
UID:10002756-1729245600-1729249200@pearlriver.lib.ms.us
SUMMARY:Fall Storytime!
DESCRIPTION:This week’s theme is… \nOh\, the Things you Will Do!\nOur morning Storytime is perfect for little ones ages 0-5. Families are welcome!
URL:https://pearlriver.lib.ms.us/event/fall-storytime-4/
LOCATION:Holland Hall @ CML\, 900 Goodyear Boulevard\, Picayune\, MS\, 39466\, United States
CATEGORIES:Children,Crosby Memorial Library
ATTACH;FMTTYPE=image/png:https://pearlriver.lib.ms.us/wp-content/uploads/2024/01/5.png
ORGANIZER;CN="Megan Miller":MAILTO:childrens@pearlriver.lib.ms.us
END:VEVENT
BEGIN:VEVENT
DTSTART;TZID=America/Chicago:20241018T160000
DTEND;TZID=America/Chicago:20241018T180000
DTSTAMP:20260419T194431
CREATED:20240821T203348Z
LAST-MODIFIED:20240821T210538Z
UID:10002769-1729267200-1729274400@pearlriver.lib.ms.us
SUMMARY:Kids Craft!
DESCRIPTION:Join us for… \nPumpkin Painting!\nOur evening Activity Day programs are perfect for kiddos ages 6+! Families are welcome!
URL:https://pearlriver.lib.ms.us/event/activity-day-3/
LOCATION:MS
CATEGORIES:Children,Crosby Memorial Library
END:VEVENT
BEGIN:VEVENT
DTSTART;TZID=America/Chicago:20241022T170000
DTEND;TZID=America/Chicago:20241022T180000
DTSTAMP:20260419T194431
CREATED:20241007T195709Z
LAST-MODIFIED:20241007T195709Z
UID:10002894-1729616400-1729620000@pearlriver.lib.ms.us
SUMMARY:Beyond the Page
DESCRIPTION:Beyond the Page is an adult program designed for adults with a passion for all things nerdy! Each month\, we’ll explore a new theme and provide a space for like minded enthusiasts to come together\, share interests\, and dive into exciting discussions and activities. \nThis month’s theme is… \nPumpkin Painting!\nUnleash your creativity this fall at our exciting Pumpkin Painting Contest! Join us for an evening of fun\, friends\, and festive spirit as we transform ordinary pumpkins into works of art. Best in show wins a prize! Whether you’re a seasoned artist or just looking for a fun time\, this event is for you! Don’t miss out on this chance to celebrate the season and connect with fellow art enthusiasts. We can’t wait to see what you create! \nLight refreshments will be provided by the library.
URL:https://pearlriver.lib.ms.us/event/beyond-the-page-2/
LOCATION:Holland Hall @ CML\, 900 Goodyear Boulevard\, Picayune\, MS\, 39466\, United States
CATEGORIES:Adults,Crosby Memorial Library
ATTACH;FMTTYPE=image/png:https://pearlriver.lib.ms.us/wp-content/uploads/2024/09/Beyond-the-Page-2.png
ORGANIZER;CN="Victoria Kingrey":MAILTO:cmlteens@outlook.com
END:VEVENT
BEGIN:VEVENT
DTSTART;TZID=UTC:20241024T170000
DTEND;TZID=UTC:20241024T200000
DTSTAMP:20260419T194431
CREATED:20240214T062720Z
LAST-MODIFIED:20240214T062720Z
UID:10002353-1729789200-1729800000@pearlriver.lib.ms.us
SUMMARY:Exodus Project 21
DESCRIPTION:Non-Library Event\nExodus Project 21 was established to wage a war against the perils of substance abuse. They aim to bridge all the gaps that recovering addicts experience that result in recidivism through a faith-based approach. Exodus Project 21 is a tax-exempt 501(c)3 created to facilitate an uninterrupted path from jail or rehab release to full societal re-entry complete with sobriety\, health\, housing\, transportation\, and employment for addicts seeking recovery.
URL:https://pearlriver.lib.ms.us/event/exodus-project-21-3/2024-10-24/
LOCATION:Holland Hall @ CML\, 900 Goodyear Boulevard\, Picayune\, MS\, 39466\, United States
CATEGORIES:Adults,Crosby Memorial Library
ATTACH;FMTTYPE=image/jpeg:https://pearlriver.lib.ms.us/wp-content/uploads/2023/05/exodus-logo-grey.jpg
END:VEVENT
BEGIN:VEVENT
DTSTART;TZID=America/Chicago:20241025T100000
DTEND;TZID=America/Chicago:20241025T110000
DTSTAMP:20260419T194431
CREATED:20240816T203408Z
LAST-MODIFIED:20240816T203408Z
UID:10002757-1729850400-1729854000@pearlriver.lib.ms.us
SUMMARY:Fall Storytime!
DESCRIPTION:This week’s theme is… \nHalloween Storytime!\nOur morning Storytime is perfect for little ones ages 0-5. Families are welcome!
URL:https://pearlriver.lib.ms.us/event/fall-storytime-5/
LOCATION:Holland Hall @ CML\, 900 Goodyear Boulevard\, Picayune\, MS\, 39466\, United States
CATEGORIES:Children,Crosby Memorial Library
ATTACH;FMTTYPE=image/png:https://pearlriver.lib.ms.us/wp-content/uploads/2024/01/5.png
ORGANIZER;CN="Megan Miller":MAILTO:childrens@pearlriver.lib.ms.us
END:VEVENT
BEGIN:VEVENT
DTSTART;TZID=UTC:20241025T150000
DTEND;TZID=UTC:20241025T170000
DTSTAMP:20260419T194431
CREATED:20240410T024817Z
LAST-MODIFIED:20241023T002031Z
UID:10002454-1729868400-1729875600@pearlriver.lib.ms.us
SUMMARY:Teen Activity Night!
DESCRIPTION:Teen Halloween Bash!\nA spoooky good time! \nStop by and have a spooky fun time at CML’s Teen Halloween Bash! We’ve got party games\, crafts\, and snacks for all the cool ghouls! And don’t forget to wear your costume to be entered in our scare-tacular costume contest. Winners get a prize! \nTo ensure that we have enough supplies for everyone\, please call or visit the Crosby Library to sign up for this event!
URL:https://pearlriver.lib.ms.us/event/teen-activity-night-14/
LOCATION:Holland Hall @ CML\, 900 Goodyear Boulevard\, Picayune\, MS\, 39466\, United States
CATEGORIES:Crosby Memorial Library,Teens
ATTACH;FMTTYPE=image/png:https://pearlriver.lib.ms.us/wp-content/uploads/2024/04/Teen-Halloween.png
ORGANIZER;CN="Victoria Kingrey":MAILTO:cmlteens@outlook.com
END:VEVENT
BEGIN:VEVENT
DTSTART;TZID=America/Chicago:20241026T133000
DTEND;TZID=America/Chicago:20241026T163000
DTSTAMP:20260419T194431
CREATED:20240816T200508Z
LAST-MODIFIED:20241230T154504Z
UID:10002896-1729949400-1729960200@pearlriver.lib.ms.us
SUMMARY:Gather Your Party!
DESCRIPTION:Campaign Four\n\n\n \n\n\nAdventurers! Come one\, come all to experience quests and feats of your wildest imagination!\n\n\n \n\n\nGather with fellow adventurers in a welcoming and inclusive atmosphere\, where imagination knows no bounds. Whether you’re a seasoned player or new to the game\, our friendly Dungeon Masters will guide you through thrilling quests\, mysterious realms\, and captivating stories.\n\n\n \n\n\nInterested in joining the adventure? \nSign up at CML’s front desk for the next Gather Your Party – Session Zero or call us at 601-798-5081. We hope to see you soon\, adventurer!
URL:https://pearlriver.lib.ms.us/event/gather-your-party-6/2024-10-26/
LOCATION:Holland Hall @ CML\, 900 Goodyear Boulevard\, Picayune\, MS\, 39466\, United States
CATEGORIES:Adults,Crosby Memorial Library,Teens
ATTACH;FMTTYPE=image/png:https://pearlriver.lib.ms.us/wp-content/uploads/2023/05/DND-Website.png
ORGANIZER;CN="Victoria Kingrey":MAILTO:cmlteens@outlook.com
END:VEVENT
BEGIN:VEVENT
DTSTART;TZID=America/Chicago:20241029T100000
DTEND;TZID=America/Chicago:20241029T110000
DTSTAMP:20260419T194431
CREATED:20241021T183847Z
LAST-MODIFIED:20241113T151514Z
UID:10002907-1730196000-1730199600@pearlriver.lib.ms.us
SUMMARY:Heaven Bound
DESCRIPTION:
URL:https://pearlriver.lib.ms.us/event/heaven-bound-9/2024-10-29/
LOCATION:Holland Hall @ CML\, 900 Goodyear Boulevard\, Picayune\, MS\, 39466\, United States
CATEGORIES:Crosby Memorial Library,General
ATTACH;FMTTYPE=image/png:https://pearlriver.lib.ms.us/wp-content/uploads/2024/01/6.png
END:VEVENT
BEGIN:VEVENT
DTSTART;TZID=America/Chicago:20241031T133000
DTEND;TZID=America/Chicago:20241031T143000
DTSTAMP:20260419T194431
CREATED:20240917T213251Z
LAST-MODIFIED:20240917T213251Z
UID:10002858-1730381400-1730385000@pearlriver.lib.ms.us
SUMMARY:Random Readers' Book Club!
DESCRIPTION:This month’s title is: \nHalloween Free Read!\nIt came from the library!\nThe Random Readers’ Book Club will be discussing free read books! Bring a book of your choosing full of spooks\, frights\, or just things that put you in the Halloween spirit. Refreshments will be served. \nIf you’re new to the Random Readers’ Book Club and are interested in joining\, give us a call or stop by the Crosby Memorial Library to be added to the reserve lists!
URL:https://pearlriver.lib.ms.us/event/random-readers-book-club-19/
LOCATION:Holland Hall @ CML\, 900 Goodyear Boulevard\, Picayune\, MS\, 39466\, United States
CATEGORIES:Adults,Crosby Memorial Library
ATTACH;FMTTYPE=image/png:https://pearlriver.lib.ms.us/wp-content/uploads/2024/01/3.png
END:VEVENT
END:VCALENDAR