BEGIN:VCALENDAR
VERSION:2.0
PRODID:-//Pearl River County Library System - ECPv6.15.20//NONSGML v1.0//EN
CALSCALE:GREGORIAN
METHOD:PUBLISH
X-ORIGINAL-URL:https://pearlriver.lib.ms.us
X-WR-CALDESC:Events for Pearl River County Library System
REFRESH-INTERVAL;VALUE=DURATION:PT1H
X-Robots-Tag:noindex
X-PUBLISHED-TTL:PT1H
BEGIN:VTIMEZONE
TZID:America/Chicago
BEGIN:DAYLIGHT
TZOFFSETFROM:-0600
TZOFFSETTO:-0500
TZNAME:CDT
DTSTART:20250309T080000
END:DAYLIGHT
BEGIN:STANDARD
TZOFFSETFROM:-0500
TZOFFSETTO:-0600
TZNAME:CST
DTSTART:20251102T070000
END:STANDARD
BEGIN:DAYLIGHT
TZOFFSETFROM:-0600
TZOFFSETTO:-0500
TZNAME:CDT
DTSTART:20260308T080000
END:DAYLIGHT
BEGIN:STANDARD
TZOFFSETFROM:-0500
TZOFFSETTO:-0600
TZNAME:CST
DTSTART:20261101T070000
END:STANDARD
BEGIN:DAYLIGHT
TZOFFSETFROM:-0600
TZOFFSETTO:-0500
TZNAME:CDT
DTSTART:20270314T080000
END:DAYLIGHT
BEGIN:STANDARD
TZOFFSETFROM:-0500
TZOFFSETTO:-0600
TZNAME:CST
DTSTART:20271107T070000
END:STANDARD
END:VTIMEZONE
BEGIN:VEVENT
DTSTART;TZID=America/Chicago:20260518T170000
DTEND;TZID=America/Chicago:20260518T183000
DTSTAMP:20260420T113806
CREATED:20260220T215611Z
LAST-MODIFIED:20260220T215611Z
UID:10004554-1779123600-1779129000@pearlriver.lib.ms.us
SUMMARY:Literary Lounge!
DESCRIPTION:Decoupage Workshop\nCut. Paste. Create. \nReady to transform the ordinary into something extraordinary? Join us for a hands-on decoupage workshop and learn how to layer paper\, patterns\, and creativity into a one-of-a-kind piece. ✂️✨ \nWe’ll guide you through the basics while you craft a beautiful project to take home. It’s relaxing\, creative\, and perfect for welcoming spring with a fresh artistic touch. \nGlue\, layer\, create — repeat. 🌷 \nAbout Literary Lounge:You may notice a small change! Our former CML Literary Lounge events are now presented in partnership with the Friends of CML. By joining forces\, we’re able to support one another\, strengthen our programming\, and offer even more engaging experiences for our community. Thank you for supporting both CML and our Friends group! ✨ \nThis program is available to patrons 19+!
URL:https://pearlriver.lib.ms.us/event/literary-lounge-17/
LOCATION:Holland Hall @ CML\, 900 Goodyear Boulevard\, Picayune\, MS\, 39466\, United States
CATEGORIES:Adults,Crosby Memorial Library
ATTACH;FMTTYPE=image/png:https://pearlriver.lib.ms.us/wp-content/uploads/2026/02/Literary-Lounge-1.png
END:VEVENT
END:VCALENDAR