BEGIN:VCALENDAR
VERSION:2.0
PRODID:-//Pearl River County Library System - ECPv6.15.20//NONSGML v1.0//EN
CALSCALE:GREGORIAN
METHOD:PUBLISH
X-ORIGINAL-URL:https://pearlriver.lib.ms.us
X-WR-CALDESC:Events for Pearl River County Library System
REFRESH-INTERVAL;VALUE=DURATION:PT1H
X-Robots-Tag:noindex
X-PUBLISHED-TTL:PT1H
BEGIN:VTIMEZONE
TZID:UTC
BEGIN:STANDARD
TZOFFSETFROM:+0000
TZOFFSETTO:+0000
TZNAME:UTC
DTSTART:20230101T000000
END:STANDARD
END:VTIMEZONE
BEGIN:VEVENT
DTSTART;TZID=UTC:20240521T100000
DTEND;TZID=UTC:20240521T120000
DTSTAMP:20260419T215203
CREATED:20240322T022421Z
LAST-MODIFIED:20240322T022421Z
UID:10002420-1716285600-1716292800@pearlriver.lib.ms.us
SUMMARY:True Crime
DESCRIPTION:w/ Dr. Leah Holmes!
URL:https://pearlriver.lib.ms.us/event/true-crime-2/
LOCATION:Holland Hall @ CML\, 900 Goodyear Boulevard\, Picayune\, MS\, 39466\, United States
CATEGORIES:Crosby Memorial Library,General
ATTACH;FMTTYPE=image/png:https://pearlriver.lib.ms.us/wp-content/uploads/2024/02/CML-Friends.png
END:VEVENT
BEGIN:VEVENT
DTSTART;TZID=UTC:20240521T120000
DTEND;TZID=UTC:20240521T140000
DTSTAMP:20260419T215203
CREATED:20240306T011620Z
LAST-MODIFIED:20240306T011620Z
UID:10002401-1716292800-1716300000@pearlriver.lib.ms.us
SUMMARY:Home School Book Club
DESCRIPTION:
URL:https://pearlriver.lib.ms.us/event/home-school-book-club-6/
LOCATION:Poplarville Public Library\, 202 W Beers St\, Poplarville\, MS\, 39470\, United States
CATEGORIES:General,Poplarville Public Library,Teens
END:VEVENT
BEGIN:VEVENT
DTSTART;TZID=UTC:20240521T173000
DTEND;TZID=UTC:20240521T193000
DTSTAMP:20260419T215203
CREATED:20240312T231108Z
LAST-MODIFIED:20240312T231108Z
UID:10002414-1716312600-1716319800@pearlriver.lib.ms.us
SUMMARY:MS Department of Human Services
DESCRIPTION:
URL:https://pearlriver.lib.ms.us/event/ms-department-of-human-services/
LOCATION:Poplarville Public Library\, 202 W Beers St\, Poplarville\, MS\, 39470\, United States
CATEGORIES:Adults,General,Poplarville Public Library
END:VEVENT
END:VCALENDAR