BEGIN:VCALENDAR
VERSION:2.0
PRODID:-//Pearl River County Library System - ECPv6.15.20//NONSGML v1.0//EN
CALSCALE:GREGORIAN
METHOD:PUBLISH
X-ORIGINAL-URL:https://pearlriver.lib.ms.us
X-WR-CALDESC:Events for Pearl River County Library System
REFRESH-INTERVAL;VALUE=DURATION:PT1H
X-Robots-Tag:noindex
X-PUBLISHED-TTL:PT1H
BEGIN:VTIMEZONE
TZID:America/Chicago
BEGIN:DAYLIGHT
TZOFFSETFROM:-0600
TZOFFSETTO:-0500
TZNAME:CDT
DTSTART:20230312T080000
END:DAYLIGHT
BEGIN:STANDARD
TZOFFSETFROM:-0500
TZOFFSETTO:-0600
TZNAME:CST
DTSTART:20231105T070000
END:STANDARD
BEGIN:DAYLIGHT
TZOFFSETFROM:-0600
TZOFFSETTO:-0500
TZNAME:CDT
DTSTART:20240310T080000
END:DAYLIGHT
BEGIN:STANDARD
TZOFFSETFROM:-0500
TZOFFSETTO:-0600
TZNAME:CST
DTSTART:20241103T070000
END:STANDARD
BEGIN:DAYLIGHT
TZOFFSETFROM:-0600
TZOFFSETTO:-0500
TZNAME:CDT
DTSTART:20250309T080000
END:DAYLIGHT
BEGIN:STANDARD
TZOFFSETFROM:-0500
TZOFFSETTO:-0600
TZNAME:CST
DTSTART:20251102T070000
END:STANDARD
END:VTIMEZONE
BEGIN:VTIMEZONE
TZID:UTC
BEGIN:STANDARD
TZOFFSETFROM:+0000
TZOFFSETTO:+0000
TZNAME:UTC
DTSTART:20230101T000000
END:STANDARD
END:VTIMEZONE
BEGIN:VEVENT
DTSTART;TZID=America/Chicago:20241118T090000
DTEND;TZID=America/Chicago:20241119T170000
DTSTAMP:20260419T125709
CREATED:20241021T201024Z
LAST-MODIFIED:20241021T202139Z
UID:10002908-1731920400-1732035600@pearlriver.lib.ms.us
SUMMARY:Friends of the Library's Annual Silent Auction
DESCRIPTION:The Friends of Poplarville Public Library will be doing a “Chinese Silent Auction” this year.  Tickets are $1.00 each and can be purchased at the circulation desk. \nThe Silent Auction will close at 5:00 pm on Friday\, December 13\, 2024. \nFor more information\, please contact the library for more information at 601-795-8411. \n  \n 
URL:https://pearlriver.lib.ms.us/event/friends-of-the-librarys-annual-silent-auction-2/
LOCATION:Meeting Room @PPL
CATEGORIES:General,Poplarville Public Library
ATTACH;FMTTYPE=image/png:https://pearlriver.lib.ms.us/wp-content/uploads/2024/09/PPL-Friends-of-the-Library.png
END:VEVENT
BEGIN:VEVENT
DTSTART;TZID=America/Chicago:20241118T130000
DTEND;TZID=America/Chicago:20241118T140000
DTSTAMP:20260419T125709
CREATED:20241025T143122Z
LAST-MODIFIED:20241106T164836Z
UID:10002964-1731934800-1731938400@pearlriver.lib.ms.us
SUMMARY:Mississippi State Department of Health
DESCRIPTION:Mr. Kristopher Pigg\, will be providing Free Blood Pressure checks and explaining to people about their numbers and the free workshop he offers to teach them to accurately check and record their own BP at home.
URL:https://pearlriver.lib.ms.us/event/mississippi-state-department-of-health/
LOCATION:Meeting Room @PPL\, 202 West Beers Street\, Poplarville\, MS\, 39470\, United States
CATEGORIES:Adults,General,Poplarville Public Library
END:VEVENT
BEGIN:VEVENT
DTSTART;TZID=UTC:20241118T133000
DTEND;TZID=UTC:20241118T150000
DTSTAMP:20260419T125709
CREATED:20241112T173935Z
LAST-MODIFIED:20241112T173935Z
UID:10003153-1731936600-1731942000@pearlriver.lib.ms.us
SUMMARY:CML Friends Board Meeting
DESCRIPTION:Friends of the Libraries Event\n  \n 
URL:https://pearlriver.lib.ms.us/event/cml-friends-board-meeting-2-2-4/2024-11-18/
LOCATION:Holland Hall @ CML\, 900 Goodyear Boulevard\, Picayune\, MS\, 39466\, United States
CATEGORIES:Crosby Memorial Library,General
ATTACH;FMTTYPE=image/png:https://pearlriver.lib.ms.us/wp-content/uploads/2024/02/CML-Friends.png
END:VEVENT
END:VCALENDAR