BEGIN:VCALENDAR
VERSION:2.0
PRODID:-//Pearl River County Library System - ECPv6.15.20//NONSGML v1.0//EN
CALSCALE:GREGORIAN
METHOD:PUBLISH
X-WR-CALNAME:Pearl River County Library System
X-ORIGINAL-URL:https://pearlriver.lib.ms.us
X-WR-CALDESC:Events for Pearl River County Library System
REFRESH-INTERVAL;VALUE=DURATION:PT1H
X-Robots-Tag:noindex
X-PUBLISHED-TTL:PT1H
BEGIN:VTIMEZONE
TZID:UTC
BEGIN:STANDARD
TZOFFSETFROM:+0000
TZOFFSETTO:+0000
TZNAME:UTC
DTSTART:20220101T000000
END:STANDARD
END:VTIMEZONE
BEGIN:VEVENT
DTSTART;TZID=UTC:20231107T140000
DTEND;TZID=UTC:20231107T150000
DTSTAMP:20260422T144355
CREATED:20231027T191659Z
LAST-MODIFIED:20231027T191659Z
UID:10001752-1699365600-1699369200@pearlriver.lib.ms.us
SUMMARY:Lego Club
DESCRIPTION:
URL:https://pearlriver.lib.ms.us/event/lego-club-6/
LOCATION:Poplarville Public Library\, 202 W Beers St\, Poplarville\, MS\, 39470\, United States
CATEGORIES:Children,Poplarville Public Library
END:VEVENT
BEGIN:VEVENT
DTSTART;TZID=UTC:20231107T120000
DTEND;TZID=UTC:20231107T140000
DTSTAMP:20260422T144355
CREATED:20231025T005921Z
LAST-MODIFIED:20231027T191750Z
UID:10001743-1699358400-1699365600@pearlriver.lib.ms.us
SUMMARY:Home School Book Club
DESCRIPTION:
URL:https://pearlriver.lib.ms.us/event/home-school-book-club/
LOCATION:Poplarville Public Library\, 202 W Beers St\, Poplarville\, MS\, 39470\, United States
CATEGORIES:Children,Poplarville Public Library,Teens
END:VEVENT
BEGIN:VEVENT
DTSTART;TZID=UTC:20231107T103000
DTEND;TZID=UTC:20231107T113000
DTSTAMP:20260422T144355
CREATED:20230628T005322Z
LAST-MODIFIED:20230628T005322Z
UID:10001226-1699353000-1699356600@pearlriver.lib.ms.us
SUMMARY:Fall Story Time
DESCRIPTION:
URL:https://pearlriver.lib.ms.us/event/fall-story-time-8/
LOCATION:MS
CATEGORIES:Children,Poplarville Public Library
END:VEVENT
BEGIN:VEVENT
DTSTART;TZID=UTC:20231106T130000
DTEND;TZID=UTC:20231106T150000
DTSTAMP:20260422T144355
CREATED:20230811T233000Z
LAST-MODIFIED:20230831T200042Z
UID:10001320-1699275600-1699282800@pearlriver.lib.ms.us
SUMMARY:Chess Club
DESCRIPTION:
URL:https://pearlriver.lib.ms.us/event/prchea-chess-club-2/2023-11-06/
LOCATION:Poplarville Public Library\, 202 W Beers St\, Poplarville\, MS\, 39470\, United States
CATEGORIES:Children,Poplarville Public Library,Teens
END:VEVENT
BEGIN:VEVENT
DTSTART;TZID=UTC:20231102T100000
DTEND;TZID=UTC:20231102T113000
DTSTAMP:20260422T144355
CREATED:20230628T005903Z
LAST-MODIFIED:20230628T005903Z
UID:10001230-1698919200-1698924600@pearlriver.lib.ms.us
SUMMARY:Craft Day
DESCRIPTION:
URL:https://pearlriver.lib.ms.us/event/craft-day/
LOCATION:MS
CATEGORIES:Adults,Poplarville Public Library
END:VEVENT
BEGIN:VEVENT
DTSTART;TZID=UTC:20231031T160000
DTEND;TZID=UTC:20231031T170000
DTSTAMP:20260422T144355
CREATED:20230628T005058Z
LAST-MODIFIED:20230628T005058Z
UID:10001225-1698768000-1698771600@pearlriver.lib.ms.us
SUMMARY:Halloween Costume Contest
DESCRIPTION:
URL:https://pearlriver.lib.ms.us/event/halloween-costume-contest/
LOCATION:MS
CATEGORIES:Children,Poplarville Public Library
END:VEVENT
BEGIN:VEVENT
DTSTART;TZID=UTC:20231031T103000
DTEND;TZID=UTC:20231031T113000
DTSTAMP:20260422T144355
CREATED:20230628T005017Z
LAST-MODIFIED:20230628T005017Z
UID:10001224-1698748200-1698751800@pearlriver.lib.ms.us
SUMMARY:Fall Story Time
DESCRIPTION:
URL:https://pearlriver.lib.ms.us/event/fall-story-time-7/
LOCATION:MS
CATEGORIES:Children,Poplarville Public Library
END:VEVENT
BEGIN:VEVENT
DTSTART;TZID=UTC:20231026T100000
DTEND;TZID=UTC:20231026T120000
DTSTAMP:20260422T144355
CREATED:20230907T214629Z
LAST-MODIFIED:20230907T214629Z
UID:10001466-1698314400-1698321600@pearlriver.lib.ms.us
SUMMARY:Dominoes
DESCRIPTION:
URL:https://pearlriver.lib.ms.us/event/dominoes-2/
LOCATION:Poplarville Public Library\, 202 W Beers St\, Poplarville\, MS\, 39470\, United States
CATEGORIES:Adults,Poplarville Public Library
END:VEVENT
BEGIN:VEVENT
DTSTART;TZID=UTC:20231024T160000
DTEND;TZID=UTC:20231024T170000
DTSTAMP:20260422T144355
CREATED:20230628T004939Z
LAST-MODIFIED:20230628T004939Z
UID:10001223-1698163200-1698166800@pearlriver.lib.ms.us
SUMMARY:Fall Story Time
DESCRIPTION:
URL:https://pearlriver.lib.ms.us/event/fall-story-time-6/
LOCATION:MS
CATEGORIES:Children,Poplarville Public Library
END:VEVENT
BEGIN:VEVENT
DTSTART;TZID=UTC:20231024T143000
DTEND;TZID=UTC:20231024T160000
DTSTAMP:20260422T144355
CREATED:20230719T014512Z
LAST-MODIFIED:20230831T195947Z
UID:10001283-1698157800-1698163200@pearlriver.lib.ms.us
SUMMARY:Home School Crochet Class PRCCHEA
DESCRIPTION:
URL:https://pearlriver.lib.ms.us/event/home-school-crochet-class-prchea-3/
LOCATION:MS
CATEGORIES:Children,Poplarville Public Library
END:VEVENT
BEGIN:VEVENT
DTSTART;TZID=UTC:20231024T130000
DTEND;TZID=UTC:20231024T140000
DTSTAMP:20260422T144355
CREATED:20231010T234959Z
LAST-MODIFIED:20231010T235045Z
UID:10001735-1698152400-1698156000@pearlriver.lib.ms.us
SUMMARY:PRCCHEA Debate Club
DESCRIPTION:
URL:https://pearlriver.lib.ms.us/event/prcchea-debate-club-3/
LOCATION:MS
CATEGORIES:Children,Poplarville Public Library
END:VEVENT
BEGIN:VEVENT
DTSTART;TZID=UTC:20231024T103000
DTEND;TZID=UTC:20231024T113000
DTSTAMP:20260422T144355
CREATED:20230628T004854Z
LAST-MODIFIED:20230628T004854Z
UID:10001222-1698143400-1698147000@pearlriver.lib.ms.us
SUMMARY:Fall Story Time
DESCRIPTION:
URL:https://pearlriver.lib.ms.us/event/fall-story-time-5/
LOCATION:MS
CATEGORIES:Children,Poplarville Public Library
END:VEVENT
BEGIN:VEVENT
DTSTART;TZID=UTC:20231019T140000
DTEND;TZID=UTC:20231019T150000
DTSTAMP:20260422T144355
CREATED:20230814T234838Z
LAST-MODIFIED:20230814T234838Z
UID:10001403-1697724000-1697727600@pearlriver.lib.ms.us
SUMMARY:Lego Club
DESCRIPTION:
URL:https://pearlriver.lib.ms.us/event/lego-club/2023-10-19/
LOCATION:Poplarville Public Library\, 202 W Beers St\, Poplarville\, MS\, 39470\, United States
CATEGORIES:Children,Poplarville Public Library,Teens
END:VEVENT
BEGIN:VEVENT
DTSTART;TZID=UTC:20231019T100000
DTEND;TZID=UTC:20231019T110000
DTSTAMP:20260422T144355
CREATED:20230628T003434Z
LAST-MODIFIED:20230628T003434Z
UID:10001215-1697709600-1697713200@pearlriver.lib.ms.us
SUMMARY:Learn to Write Your Family History with Mary Beth Magee
DESCRIPTION:
URL:https://pearlriver.lib.ms.us/event/learn-to-write-your-family-history-with-mary-beth-magee/
LOCATION:MS
CATEGORIES:Adults,Poplarville Public Library
END:VEVENT
BEGIN:VEVENT
DTSTART;TZID=UTC:20231017T160000
DTEND;TZID=UTC:20231017T170000
DTSTAMP:20260422T144355
CREATED:20230628T004814Z
LAST-MODIFIED:20230628T004814Z
UID:10001221-1697558400-1697562000@pearlriver.lib.ms.us
SUMMARY:Fall Story Time
DESCRIPTION:
URL:https://pearlriver.lib.ms.us/event/fall-story-time-4/
LOCATION:MS
CATEGORIES:Children,Poplarville Public Library
END:VEVENT
BEGIN:VEVENT
DTSTART;TZID=UTC:20231017T130000
DTEND;TZID=UTC:20231017T140000
DTSTAMP:20260422T144355
CREATED:20230814T235642Z
LAST-MODIFIED:20230814T235642Z
UID:10001408-1697547600-1697551200@pearlriver.lib.ms.us
SUMMARY:Friends of Poplarville Public Library
DESCRIPTION:
URL:https://pearlriver.lib.ms.us/event/friends-of-poplarville-public-library-3/
LOCATION:Poplarville Public Library\, 202 W Beers St\, Poplarville\, MS\, 39470\, United States
CATEGORIES:Adults,Poplarville Public Library
END:VEVENT
BEGIN:VEVENT
DTSTART;TZID=UTC:20231017T103000
DTEND;TZID=UTC:20231017T113000
DTSTAMP:20260422T144355
CREATED:20230628T004738Z
LAST-MODIFIED:20230628T005207Z
UID:10001220-1697538600-1697542200@pearlriver.lib.ms.us
SUMMARY:Fall Story Time
DESCRIPTION:
URL:https://pearlriver.lib.ms.us/event/fall-story-time-3/
LOCATION:MS
CATEGORIES:Children,Poplarville Public Library
END:VEVENT
BEGIN:VEVENT
DTSTART;TZID=UTC:20231017T100000
DTEND;TZID=UTC:20231017T180000
DTSTAMP:20260422T144355
CREATED:20231004T031052Z
LAST-MODIFIED:20231004T031052Z
UID:10001734-1697536800-1697565600@pearlriver.lib.ms.us
SUMMARY:Friends of the Poplarville Public Library Open House
DESCRIPTION:
URL:https://pearlriver.lib.ms.us/event/friends-of-the-poplarville-public-library-open-house/
LOCATION:Poplarville Public Library\, 202 W Beers St\, Poplarville\, MS\, 39470\, United States
CATEGORIES:Adults,General,Poplarville Public Library
END:VEVENT
BEGIN:VEVENT
DTSTART;TZID=UTC:20231012T100000
DTEND;TZID=UTC:20231012T120000
DTSTAMP:20260422T144355
CREATED:20230628T003322Z
LAST-MODIFIED:20230722T000326Z
UID:10001213-1697104800-1697112000@pearlriver.lib.ms.us
SUMMARY:2nd Thursday Book Club PPl
DESCRIPTION:
URL:https://pearlriver.lib.ms.us/event/ppl-book-club-5/
LOCATION:MS
CATEGORIES:Adults,Poplarville Public Library
END:VEVENT
BEGIN:VEVENT
DTSTART;TZID=UTC:20231010T170000
DTEND;TZID=UTC:20231010T180000
DTSTAMP:20260422T144355
CREATED:20230814T235801Z
LAST-MODIFIED:20230814T235801Z
UID:10001409-1696957200-1696960800@pearlriver.lib.ms.us
SUMMARY:Poplarville Public Library Advisory Board
DESCRIPTION:
URL:https://pearlriver.lib.ms.us/event/poplarville-public-library-advisory-board/
LOCATION:Poplarville Public Library\, 202 W Beers St\, Poplarville\, MS\, 39470\, United States
CATEGORIES:Adults,Poplarville Public Library
END:VEVENT
BEGIN:VEVENT
DTSTART;TZID=UTC:20231010T103000
DTEND;TZID=UTC:20231010T113000
DTSTAMP:20260422T144355
CREATED:20230628T004603Z
LAST-MODIFIED:20230628T004603Z
UID:10001218-1696933800-1696937400@pearlriver.lib.ms.us
SUMMARY:Fall Story Time
DESCRIPTION:
URL:https://pearlriver.lib.ms.us/event/fall-story-time/
LOCATION:MS
CATEGORIES:Children,Poplarville Public Library
END:VEVENT
BEGIN:VEVENT
DTSTART;TZID=UTC:20231002T130000
DTEND;TZID=UTC:20231002T150000
DTSTAMP:20260422T144355
CREATED:20230811T233000Z
LAST-MODIFIED:20230831T200042Z
UID:10001319-1696251600-1696258800@pearlriver.lib.ms.us
SUMMARY:Chess Club
DESCRIPTION:
URL:https://pearlriver.lib.ms.us/event/prchea-chess-club-2/2023-10-02/
LOCATION:Poplarville Public Library\, 202 W Beers St\, Poplarville\, MS\, 39470\, United States
CATEGORIES:Children,Poplarville Public Library,Teens
END:VEVENT
BEGIN:VEVENT
DTSTART;TZID=UTC:20230928T133000
DTEND;TZID=UTC:20230928T143000
DTSTAMP:20260422T144355
CREATED:20230926T234106Z
LAST-MODIFIED:20230926T234259Z
UID:10001596-1695907800-1695911400@pearlriver.lib.ms.us
SUMMARY:Private Meeting
DESCRIPTION:
URL:https://pearlriver.lib.ms.us/event/private-meeting/
LOCATION:Poplarville Public Library\, 202 W Beers St\, Poplarville\, MS\, 39470\, United States
CATEGORIES:Poplarville Public Library
END:VEVENT
BEGIN:VEVENT
DTSTART;TZID=UTC:20230928T100000
DTEND;TZID=UTC:20230928T120000
DTSTAMP:20260422T144355
CREATED:20230818T000113Z
LAST-MODIFIED:20230818T000113Z
UID:10001413-1695895200-1695902400@pearlriver.lib.ms.us
SUMMARY:Coffee & Coloring
DESCRIPTION:
URL:https://pearlriver.lib.ms.us/event/coffee-coloring-2/
LOCATION:Poplarville Public Library\, 202 W Beers St\, Poplarville\, MS\, 39470\, United States
CATEGORIES:Adults,Poplarville Public Library
END:VEVENT
BEGIN:VEVENT
DTSTART;TZID=UTC:20230926T143000
DTEND;TZID=UTC:20230926T160000
DTSTAMP:20260422T144355
CREATED:20230719T014332Z
LAST-MODIFIED:20230831T200120Z
UID:10001282-1695738600-1695744000@pearlriver.lib.ms.us
SUMMARY:Home School Crochet Class PRCCHEA
DESCRIPTION:
URL:https://pearlriver.lib.ms.us/event/home-school-crochet-class-prchea-2/
LOCATION:MS
CATEGORIES:Children,Poplarville Public Library
END:VEVENT
BEGIN:VEVENT
DTSTART;TZID=UTC:20230926T130000
DTEND;TZID=UTC:20230926T140000
DTSTAMP:20260422T144355
CREATED:20230831T203549Z
LAST-MODIFIED:20230831T203549Z
UID:10001460-1695733200-1695736800@pearlriver.lib.ms.us
SUMMARY:PRCCHEA Debate Club
DESCRIPTION:
URL:https://pearlriver.lib.ms.us/event/prcchea-debate-club-2/
LOCATION:Poplarville Public Library\, 202 W Beers St\, Poplarville\, MS\, 39470\, United States
CATEGORIES:Children,Poplarville Public Library,Teens
END:VEVENT
BEGIN:VEVENT
DTSTART;TZID=UTC:20230921T140000
DTEND;TZID=UTC:20230921T150000
DTSTAMP:20260422T144355
CREATED:20230814T234838Z
LAST-MODIFIED:20230814T234838Z
UID:10001402-1695304800-1695308400@pearlriver.lib.ms.us
SUMMARY:Lego Club
DESCRIPTION:
URL:https://pearlriver.lib.ms.us/event/lego-club/2023-09-21/
LOCATION:Poplarville Public Library\, 202 W Beers St\, Poplarville\, MS\, 39470\, United States
CATEGORIES:Children,Poplarville Public Library,Teens
END:VEVENT
BEGIN:VEVENT
DTSTART;TZID=UTC:20230921T093000
DTEND;TZID=UTC:20230921T113000
DTSTAMP:20260422T144355
CREATED:20230628T002410Z
LAST-MODIFIED:20230630T000745Z
UID:10001211-1695288600-1695295800@pearlriver.lib.ms.us
SUMMARY:Art Class with Kay Kammer
DESCRIPTION:
URL:https://pearlriver.lib.ms.us/event/ppl-book-club-3/
LOCATION:Poplarville Public Library\, 202 W Beers St\, Poplarville\, MS\, 39470\, United States
CATEGORIES:Adults,Poplarville Public Library
END:VEVENT
BEGIN:VEVENT
DTSTART;TZID=UTC:20230919T173000
DTEND;TZID=UTC:20230919T200000
DTSTAMP:20260422T144355
CREATED:20230830T000013Z
LAST-MODIFIED:20230830T010907Z
UID:10001458-1695144600-1695153600@pearlriver.lib.ms.us
SUMMARY:Mississippi Department of Human Services Childcare Training
DESCRIPTION:
URL:https://pearlriver.lib.ms.us/event/mbhs-childcare-training/
LOCATION:Poplarville Public Library\, 202 W Beers St\, Poplarville\, MS\, 39470\, United States
CATEGORIES:Poplarville Public Library
END:VEVENT
BEGIN:VEVENT
DTSTART;TZID=UTC:20230914T100000
DTEND;TZID=UTC:20230914T120000
DTSTAMP:20260422T144355
CREATED:20230628T003226Z
LAST-MODIFIED:20230628T003226Z
UID:10001212-1694685600-1694692800@pearlriver.lib.ms.us
SUMMARY:PPL Book Club
DESCRIPTION:
URL:https://pearlriver.lib.ms.us/event/ppl-book-club-4/
LOCATION:MS
CATEGORIES:Adults,Poplarville Public Library
END:VEVENT
END:VCALENDAR