BEGIN:VCALENDAR
VERSION:2.0
PRODID:-//Pearl River County Library System - ECPv6.15.20//NONSGML v1.0//EN
CALSCALE:GREGORIAN
METHOD:PUBLISH
X-ORIGINAL-URL:https://pearlriver.lib.ms.us
X-WR-CALDESC:Events for Pearl River County Library System
REFRESH-INTERVAL;VALUE=DURATION:PT1H
X-Robots-Tag:noindex
X-PUBLISHED-TTL:PT1H
BEGIN:VTIMEZONE
TZID:America/Chicago
BEGIN:DAYLIGHT
TZOFFSETFROM:-0600
TZOFFSETTO:-0500
TZNAME:CDT
DTSTART:20240310T080000
END:DAYLIGHT
BEGIN:STANDARD
TZOFFSETFROM:-0500
TZOFFSETTO:-0600
TZNAME:CST
DTSTART:20241103T070000
END:STANDARD
BEGIN:DAYLIGHT
TZOFFSETFROM:-0600
TZOFFSETTO:-0500
TZNAME:CDT
DTSTART:20250309T080000
END:DAYLIGHT
BEGIN:STANDARD
TZOFFSETFROM:-0500
TZOFFSETTO:-0600
TZNAME:CST
DTSTART:20251102T070000
END:STANDARD
BEGIN:DAYLIGHT
TZOFFSETFROM:-0600
TZOFFSETTO:-0500
TZNAME:CDT
DTSTART:20260308T080000
END:DAYLIGHT
BEGIN:STANDARD
TZOFFSETFROM:-0500
TZOFFSETTO:-0600
TZNAME:CST
DTSTART:20261101T070000
END:STANDARD
END:VTIMEZONE
BEGIN:VEVENT
DTSTART;TZID=America/Chicago:20251107T170000
DTEND;TZID=America/Chicago:20251107T180000
DTSTAMP:20260420T075532
CREATED:20250821T211009Z
LAST-MODIFIED:20250827T162552Z
UID:10004067-1762534800-1762538400@pearlriver.lib.ms.us
SUMMARY:Teen Activity Night!
DESCRIPTION:Mario Games \nLevel up your game night with Mario fun! \nGrab a controller and get ready for some friendly competition! From Mario Kart races to wild party games\, it’s all about fast fun\, crazy challenges\, and plenty of laughs. Bring your best skills (and maybe a little trash talk). You can bring your own switch and games or play with ours! 🎮 \nThis program is available to patrons 12-18!
URL:https://pearlriver.lib.ms.us/event/teen-activity-night-18/
LOCATION:Holland Hall @ CML\, 900 Goodyear Boulevard\, Picayune\, MS\, 39466\, United States
CATEGORIES:Crosby Memorial Library,Teens
ATTACH;FMTTYPE=image/png:https://pearlriver.lib.ms.us/wp-content/uploads/2025/04/CML-Teens.png
ORGANIZER;CN="Victoria Kingrey":MAILTO:cmlteens@outlook.com
END:VEVENT
BEGIN:VEVENT
DTSTART;TZID=America/Chicago:20251121T170000
DTEND;TZID=America/Chicago:20251121T180000
DTSTAMP:20260420T075532
CREATED:20250821T211943Z
LAST-MODIFIED:20250827T162606Z
UID:10004068-1763744400-1763748000@pearlriver.lib.ms.us
SUMMARY:Teen Activity Night!
DESCRIPTION:Intro to Drawing: Chibis \nBig eyes\, small bodies\, endless cuteness! \nLove anime or manga? Come learn how to draw your own adorable “chibi” characters! We’ll break it down step by step so even beginners can create fun\, big-eyed\, small-bodied cuties. 🎨✏️ \nThis program is available to patrons 12-18!
URL:https://pearlriver.lib.ms.us/event/teen-activity-night-19/
LOCATION:Holland Hall @ CML\, 900 Goodyear Boulevard\, Picayune\, MS\, 39466\, United States
CATEGORIES:Crosby Memorial Library,Teens
ATTACH;FMTTYPE=image/png:https://pearlriver.lib.ms.us/wp-content/uploads/2025/04/CML-Teens.png
ORGANIZER;CN="Victoria Kingrey":MAILTO:cmlteens@outlook.com
END:VEVENT
BEGIN:VEVENT
DTSTART;TZID=America/Chicago:20251124T143000
DTEND;TZID=America/Chicago:20251124T153000
DTSTAMP:20260420T075532
CREATED:20251103T155444Z
LAST-MODIFIED:20251103T155444Z
UID:10004223-1763994600-1763998200@pearlriver.lib.ms.us
SUMMARY:Teen Quest
DESCRIPTION:Building connections through FUN and WACKY challenges. \nFree to all teens age 11 – 18. \nSnacks and drinks will be provided. \n  \n  \nFor more information please call the library at 601-795-8411.
URL:https://pearlriver.lib.ms.us/event/teen-quest/
LOCATION:Meeting Room @PPL\, 202 West Beers Street\, Poplarville\, MS\, 39470\, United States
CATEGORIES:General,Poplarville Public Library,Teens
ATTACH;FMTTYPE=image/jpeg:https://pearlriver.lib.ms.us/wp-content/uploads/2025/08/Teen-Header-.jpg
END:VEVENT
END:VCALENDAR