BEGIN:VCALENDAR
VERSION:2.0
PRODID:-//Pearl River County Library System - ECPv6.15.20//NONSGML v1.0//EN
CALSCALE:GREGORIAN
METHOD:PUBLISH
X-ORIGINAL-URL:https://pearlriver.lib.ms.us
X-WR-CALDESC:Events for Pearl River County Library System
REFRESH-INTERVAL;VALUE=DURATION:PT1H
X-Robots-Tag:noindex
X-PUBLISHED-TTL:PT1H
BEGIN:VTIMEZONE
TZID:America/Chicago
BEGIN:DAYLIGHT
TZOFFSETFROM:-0600
TZOFFSETTO:-0500
TZNAME:CDT
DTSTART:20250309T080000
END:DAYLIGHT
BEGIN:STANDARD
TZOFFSETFROM:-0500
TZOFFSETTO:-0600
TZNAME:CST
DTSTART:20251102T070000
END:STANDARD
BEGIN:DAYLIGHT
TZOFFSETFROM:-0600
TZOFFSETTO:-0500
TZNAME:CDT
DTSTART:20260308T080000
END:DAYLIGHT
BEGIN:STANDARD
TZOFFSETFROM:-0500
TZOFFSETTO:-0600
TZNAME:CST
DTSTART:20261101T070000
END:STANDARD
BEGIN:DAYLIGHT
TZOFFSETFROM:-0600
TZOFFSETTO:-0500
TZNAME:CDT
DTSTART:20270314T080000
END:DAYLIGHT
BEGIN:STANDARD
TZOFFSETFROM:-0500
TZOFFSETTO:-0600
TZNAME:CST
DTSTART:20271107T070000
END:STANDARD
END:VTIMEZONE
BEGIN:VEVENT
DTSTART;TZID=America/Chicago:20260623T100000
DTEND;TZID=America/Chicago:20260623T113000
DTSTAMP:20260423T210641
CREATED:20260421T205628Z
LAST-MODIFIED:20260421T214525Z
UID:10004646-1782208800-1782214200@pearlriver.lib.ms.us
SUMMARY:SRP - Photo Clinic - Teen Program
DESCRIPTION:Have you ever wanted to learn how to take great pictures? This photo clinic will focus on building skills and confidence through teaching camera\,\,\, settings\, composition\, and digital editing. \nThe program is free to attend\, and all the supplies will be provided. \nBe sure to check out the Pearl River County Library Systems webpage @https://pearlriver.lib.ms.us/  and Poplarville Public Library’s Facebook page to stay informed of any upcoming programs @https://www.facebook.com/profile.php?id=61550585216976 \nIf you have any questions\, please feel free to reach out to Mrs. Donna Taylor @601-795-8411 or email her @ppladults@pearlriver.lib.ms.us. \n\n\n\n 
URL:https://pearlriver.lib.ms.us/event/srp-photo-clinic-teen-program/
LOCATION:Meeting Room @PPL\, 202 West Beers Street\, Poplarville\, MS\, 39470\, United States
CATEGORIES:Poplarville Public Library,Summer Reading Program 2026,Teens
ATTACH;FMTTYPE=image/jpeg:https://pearlriver.lib.ms.us/wp-content/uploads/2026/04/CSLP_Slogan_Graphic_Horizontal-2.jpg
END:VEVENT
END:VCALENDAR