BEGIN:VCALENDAR
VERSION:2.0
PRODID:-//Pearl River County Library System - ECPv6.15.20//NONSGML v1.0//EN
CALSCALE:GREGORIAN
METHOD:PUBLISH
X-ORIGINAL-URL:https://pearlriver.lib.ms.us
X-WR-CALDESC:Events for Pearl River County Library System
REFRESH-INTERVAL;VALUE=DURATION:PT1H
X-Robots-Tag:noindex
X-PUBLISHED-TTL:PT1H
BEGIN:VTIMEZONE
TZID:America/Chicago
BEGIN:DAYLIGHT
TZOFFSETFROM:-0600
TZOFFSETTO:-0500
TZNAME:CDT
DTSTART:20240310T080000
END:DAYLIGHT
BEGIN:STANDARD
TZOFFSETFROM:-0500
TZOFFSETTO:-0600
TZNAME:CST
DTSTART:20241103T070000
END:STANDARD
BEGIN:DAYLIGHT
TZOFFSETFROM:-0600
TZOFFSETTO:-0500
TZNAME:CDT
DTSTART:20250309T080000
END:DAYLIGHT
BEGIN:STANDARD
TZOFFSETFROM:-0500
TZOFFSETTO:-0600
TZNAME:CST
DTSTART:20251102T070000
END:STANDARD
BEGIN:DAYLIGHT
TZOFFSETFROM:-0600
TZOFFSETTO:-0500
TZNAME:CDT
DTSTART:20260308T080000
END:DAYLIGHT
BEGIN:STANDARD
TZOFFSETFROM:-0500
TZOFFSETTO:-0600
TZNAME:CST
DTSTART:20261101T070000
END:STANDARD
BEGIN:DAYLIGHT
TZOFFSETFROM:-0600
TZOFFSETTO:-0500
TZNAME:CDT
DTSTART:20270314T080000
END:DAYLIGHT
BEGIN:STANDARD
TZOFFSETFROM:-0500
TZOFFSETTO:-0600
TZNAME:CST
DTSTART:20271107T070000
END:STANDARD
END:VTIMEZONE
BEGIN:VEVENT
DTSTART;TZID=America/Chicago:20251212T170000
DTEND;TZID=America/Chicago:20251212T180000
DTSTAMP:20260421T175812
CREATED:20251119T012429Z
LAST-MODIFIED:20251216T220251Z
UID:10004252-1765558800-1765562400@pearlriver.lib.ms.us
SUMMARY:Teen Activity Night
DESCRIPTION:Video Game Night \nLet’s play! \nCome play video games with friends! \n💡A teen-only event for ages 12-18!
URL:https://pearlriver.lib.ms.us/event/teen-activity-night-20/
LOCATION:Holland Hall @ CML\, 900 Goodyear Boulevard\, Picayune\, MS\, 39466\, United States
CATEGORIES:Crosby Memorial Library,Teens
ATTACH;FMTTYPE=image/png:https://pearlriver.lib.ms.us/wp-content/uploads/2025/04/CML-Teens.png
ORGANIZER;CN="Victoria Kingrey":MAILTO:cmlteens@outlook.com
END:VEVENT
BEGIN:VEVENT
DTSTART;TZID=America/Chicago:20260116T170000
DTEND;TZID=America/Chicago:20260116T180000
DTSTAMP:20260421T175812
CREATED:20251119T012551Z
LAST-MODIFIED:20251119T012551Z
UID:10004253-1768582800-1768586400@pearlriver.lib.ms.us
SUMMARY:Teen Activity Night!
DESCRIPTION:🎨 Painting Night \nYour canvas\, your creativity. \nDrop in for an open painting night! We provide the canvases and paint—you bring the imagination and create something uniquely you. \n💡A teen-only event for ages 12-18! \n\n📌  To help us prepare materials and plan for everyone\, registration for this event is required. Signing up is simple—just speak with any CML Circulation Staff member during your next visit\, or call us at 601-798-5081 and we’ll get you set up!
URL:https://pearlriver.lib.ms.us/event/teen-activity-night-21/
LOCATION:Holland Hall @ CML\, 900 Goodyear Boulevard\, Picayune\, MS\, 39466\, United States
CATEGORIES:Crosby Memorial Library,Teens
ATTACH;FMTTYPE=image/png:https://pearlriver.lib.ms.us/wp-content/uploads/2025/04/CML-Teens.png
ORGANIZER;CN="Victoria Kingrey":MAILTO:cmlteens@outlook.com
END:VEVENT
BEGIN:VEVENT
DTSTART;TZID=America/Chicago:20260223T143000
DTEND;TZID=America/Chicago:20260223T170000
DTSTAMP:20260421T175812
CREATED:20251223T165713Z
LAST-MODIFIED:20251223T165755Z
UID:10004389-1771857000-1771866000@pearlriver.lib.ms.us
SUMMARY:Outsmarted!
DESCRIPTION:Outsmarted – combines a traditional board game with the power of the internet\, presenting thousands of questions in many varied categories. To play the game you must have at least one internet-connected\, compatible device. This revolutionary\, app-driven board game puts your family & friends in the Hot Seat of a TV Quiz Show. Win the rings. Conquer the final round. Prove your the smartest. Can you beat the clock? Or will you be Outsmarted? \nThis program is for Tweens and Teens and is free to attend. \nFollow the library on Facebook for all upcoming programs @https://www.facebook.com/profile.php?id=61550585216976 \nFor more information call 601 795 8411 and speak with Mrs. Donna Taylor or email her @ppladults@pearlriver.lib.ms.us \n  \n 
URL:https://pearlriver.lib.ms.us/event/outsmarted-3/
LOCATION:Meeting Room @PPL\, 202 West Beers Street\, Poplarville\, MS\, 39470\, United States
CATEGORIES:Poplarville Public Library,Teens
ATTACH;FMTTYPE=image/jpeg:https://pearlriver.lib.ms.us/wp-content/uploads/2025/08/Teen-Header-.jpg
END:VEVENT
BEGIN:VEVENT
DTSTART;TZID=America/Chicago:20260227T170000
DTEND;TZID=America/Chicago:20260227T180000
DTSTAMP:20260421T175812
CREATED:20251119T012831Z
LAST-MODIFIED:20251119T012831Z
UID:10004256-1772211600-1772215200@pearlriver.lib.ms.us
SUMMARY:Teen Activity Night!
DESCRIPTION:🎲🎮 Free Play Games \nYour move. Your match. Your fun. \nHang out and play a mix of board games and video games! Whether you’re into strategy\, party games\, or co-op challenges\, there’s something for everyone. \n💡A teen-only event for ages 12-18!
URL:https://pearlriver.lib.ms.us/event/teen-activity-night-24/
LOCATION:Holland Hall @ CML\, 900 Goodyear Boulevard\, Picayune\, MS\, 39466\, United States
CATEGORIES:Crosby Memorial Library,Teens
ATTACH;FMTTYPE=image/png:https://pearlriver.lib.ms.us/wp-content/uploads/2025/04/CML-Teens.png
ORGANIZER;CN="Victoria Kingrey":MAILTO:cmlteens@outlook.com
END:VEVENT
BEGIN:VEVENT
DTSTART;TZID=America/Chicago:20260406T143000
DTEND;TZID=America/Chicago:20260406T170000
DTSTAMP:20260421T175812
CREATED:20251223T170856Z
LAST-MODIFIED:20251223T171006Z
UID:10004391-1775485800-1775494800@pearlriver.lib.ms.us
SUMMARY:Magazine Art!
DESCRIPTION:Magazine art refers to art created specifically for a magazine format\, making the publication itself the artwork\, often by artists who produce their own magazines or by using magazine elements like clippings in collage\, but it also broadly covers editorial illustrations and the visual design of art magazines themselves\, showcasing contemporary art for audiences.  \nMagazine art bridges fine art with popular media\, making creative expression accessible\, contextualized\, and consumable in periodical form\, from a single illustration to an entire publication.  \nThis program is for Tweens and Teen and free to attend. \nFollow the library on Facebook for all upcoming programs @https://www.facebook.com/profile.php?id=61550585216976 \nFor more information call 601 795 8411 and speak with Mrs. Donna Taylor or email her @ppladults@pearlriver.lib.ms.us
URL:https://pearlriver.lib.ms.us/event/magazine-art/
LOCATION:Meeting Room @PPL\, 202 West Beers Street\, Poplarville\, MS\, 39470\, United States
CATEGORIES:Poplarville Public Library,Teens
ATTACH;FMTTYPE=image/jpeg:https://pearlriver.lib.ms.us/wp-content/uploads/2025/08/Teen-Header-.jpg
END:VEVENT
BEGIN:VEVENT
DTSTART;TZID=America/Chicago:20260407T153000
DTEND;TZID=America/Chicago:20260407T163000
DTSTAMP:20260421T175812
CREATED:20260410T132421Z
LAST-MODIFIED:20260410T132421Z
UID:10004629-1775575800-1775579400@pearlriver.lib.ms.us
SUMMARY:Brodie's Teen Fitness Challenge
DESCRIPTION:Be stronger\, get better\, and get fit at Poplarville Public Library with Self-Defense\, Hands & Kicking Techniques\, and Conditioning. \nFor ages 10-18 and free to the public. \n 
URL:https://pearlriver.lib.ms.us/event/brodies-teen-fitness-challenge/
LOCATION:Meeting Room @PPL\, 202 West Beers Street\, Poplarville\, MS\, 39470\, United States
CATEGORIES:Poplarville Public Library,Teens
ATTACH;FMTTYPE=image/jpeg:https://pearlriver.lib.ms.us/wp-content/uploads/2025/08/Teen-Header-.jpg
END:VEVENT
BEGIN:VEVENT
DTSTART;TZID=America/Chicago:20260611T140000
DTEND;TZID=America/Chicago:20260611T150000
DTSTAMP:20260421T175812
CREATED:20260421T203057Z
LAST-MODIFIED:20260421T212850Z
UID:10004644-1781186400-1781190000@pearlriver.lib.ms.us
SUMMARY:SRP - SPCA - Teen Program
DESCRIPTION:The Pearl River County SPCA will be at the library with a presentation that will focus on humane education\, animal socialization\, and community service.  You will learn about responsible pet ownership and how to adopt a pet from the SPCA. \nBe sure to check out the Pearl River County Library Systems webpage @https://pearlriver.lib.ms.us/  and Poplarville Public Library’s Facebook page to stay informed of any upcoming programs @https://www.facebook.com/profile.php?id=61550585216976 \nIf you have any questions\, please feel free to reach out to Mrs. Donna Taylor @601-795-8411 or email her @ppladults@pearlriver.lib.ms.us. \n 
URL:https://pearlriver.lib.ms.us/event/srp-teen-program/
LOCATION:Meeting Room @PPL\, 202 West Beers Street\, Poplarville\, MS\, 39470\, United States
CATEGORIES:Poplarville Public Library,Summer Reading Program 2026,Teens
ATTACH;FMTTYPE=image/jpeg:https://pearlriver.lib.ms.us/wp-content/uploads/2026/04/CSLP_Slogan_Graphic_Horizontal-2.jpg
END:VEVENT
BEGIN:VEVENT
DTSTART;TZID=America/Chicago:20260623T100000
DTEND;TZID=America/Chicago:20260623T113000
DTSTAMP:20260421T175812
CREATED:20260421T205628Z
LAST-MODIFIED:20260421T214525Z
UID:10004646-1782208800-1782214200@pearlriver.lib.ms.us
SUMMARY:SRP - Photo Clinic - Teen Program
DESCRIPTION:Have you ever wanted to learn how to take great pictures? This photo clinic will focus on building skills and confidence through teaching camera\,\,\, settings\, composition\, and digital editing. \nThe program is free to attend\, and all the supplies will be provided. \nBe sure to check out the Pearl River County Library Systems webpage @https://pearlriver.lib.ms.us/  and Poplarville Public Library’s Facebook page to stay informed of any upcoming programs @https://www.facebook.com/profile.php?id=61550585216976 \nIf you have any questions\, please feel free to reach out to Mrs. Donna Taylor @601-795-8411 or email her @ppladults@pearlriver.lib.ms.us. \n\n\n\n 
URL:https://pearlriver.lib.ms.us/event/srp-photo-clinic-teen-program/
LOCATION:Meeting Room @PPL\, 202 West Beers Street\, Poplarville\, MS\, 39470\, United States
CATEGORIES:Poplarville Public Library,Summer Reading Program 2026,Teens
ATTACH;FMTTYPE=image/jpeg:https://pearlriver.lib.ms.us/wp-content/uploads/2026/04/CSLP_Slogan_Graphic_Horizontal-2.jpg
END:VEVENT
BEGIN:VEVENT
DTSTART;TZID=America/Chicago:20260709T140000
DTEND;TZID=America/Chicago:20260709T160000
DTSTAMP:20260421T175812
CREATED:20260421T211045Z
LAST-MODIFIED:20260421T211539Z
UID:10004648-1783605600-1783612800@pearlriver.lib.ms.us
SUMMARY:SRP - Minute to Win It - Teen Program
DESCRIPTION:Are you competitive?  If yes\, then the game “Minute to Win It” is the game for you and your friends.  Minute to Win It games are fast-paced\, 60-second challenges using household items like cups\, ping pong balls\, and cookies to test dexterity\, speed\, and skill. \nSo\, are you ready?  On your mark\, get set\, go! \nThe program is free to attend\, and all the supplies will be provided. \nBe sure to check out the Pearl River County Library Systems webpage @https://pearlriver.lib.ms.us/  and Poplarville Public Library’s Facebook page to stay informed of any upcoming programs @https://www.facebook.com/profile.php?id=61550585216976 \nIf you have any questions\, please feel free to reach out to Mrs. Donna Taylor @601-795-8411 or email her @ppladults@pearlriver.lib.ms.us. \n 
URL:https://pearlriver.lib.ms.us/event/srp-minute-to-win-it-teen-program/
LOCATION:Meeting Room @PPL\, 202 West Beers Street\, Poplarville\, MS\, 39470\, United States
CATEGORIES:Poplarville Public Library,Summer Reading Program 2026,Teens
ATTACH;FMTTYPE=image/jpeg:https://pearlriver.lib.ms.us/wp-content/uploads/2026/04/CSLP_Slogan_Graphic_Horizontal-2.jpg
END:VEVENT
END:VCALENDAR