BEGIN:VCALENDAR
VERSION:2.0
PRODID:-//Pearl River County Library System - ECPv6.15.20//NONSGML v1.0//EN
CALSCALE:GREGORIAN
METHOD:PUBLISH
X-WR-CALNAME:Pearl River County Library System
X-ORIGINAL-URL:https://pearlriver.lib.ms.us
X-WR-CALDESC:Events for Pearl River County Library System
REFRESH-INTERVAL;VALUE=DURATION:PT1H
X-Robots-Tag:noindex
X-PUBLISHED-TTL:PT1H
BEGIN:VTIMEZONE
TZID:America/Chicago
BEGIN:DAYLIGHT
TZOFFSETFROM:-0600
TZOFFSETTO:-0500
TZNAME:CDT
DTSTART:20250309T080000
END:DAYLIGHT
BEGIN:STANDARD
TZOFFSETFROM:-0500
TZOFFSETTO:-0600
TZNAME:CST
DTSTART:20251102T070000
END:STANDARD
BEGIN:DAYLIGHT
TZOFFSETFROM:-0600
TZOFFSETTO:-0500
TZNAME:CDT
DTSTART:20260308T080000
END:DAYLIGHT
BEGIN:STANDARD
TZOFFSETFROM:-0500
TZOFFSETTO:-0600
TZNAME:CST
DTSTART:20261101T070000
END:STANDARD
BEGIN:DAYLIGHT
TZOFFSETFROM:-0600
TZOFFSETTO:-0500
TZNAME:CDT
DTSTART:20270314T080000
END:DAYLIGHT
BEGIN:STANDARD
TZOFFSETFROM:-0500
TZOFFSETTO:-0600
TZNAME:CST
DTSTART:20271107T070000
END:STANDARD
END:VTIMEZONE
BEGIN:VTIMEZONE
TZID:UTC
BEGIN:STANDARD
TZOFFSETFROM:+0000
TZOFFSETTO:+0000
TZNAME:UTC
DTSTART:20250101T000000
END:STANDARD
END:VTIMEZONE
BEGIN:VEVENT
DTSTART;TZID=America/Chicago:20260713T103000
DTEND;TZID=America/Chicago:20260713T113000
DTSTAMP:20260421T184904
CREATED:20251223T231218Z
LAST-MODIFIED:20251223T231804Z
UID:10004408-1783938600-1783942200@pearlriver.lib.ms.us
SUMMARY:SRP 2026 - Unearth a Story - Activity Day
DESCRIPTION:Summer Reading Program will be filled with loads of fun and activities for children ages 6-11 years old. \nGet ready for a summer packed with fun\, learning\, and adventure! Every event is part of the Pearl River County Library System’s Unearth a Story Summer Reading Program. Kids\, teens\, and adults can read\, explore\, and win awesome prizes all summer long!  \nCheck out our Facebook page for updates @https://www.facebook.com/profile.php?id=61550585216976
URL:https://pearlriver.lib.ms.us/event/srp-2026-unearth-a-story-activity-day-12/
LOCATION:Meeting Room @PPL\, 202 West Beers Street\, Poplarville\, MS\, 39470\, United States
CATEGORIES:Children,General,Poplarville Public Library,Summer Reading Program 2026
END:VEVENT
BEGIN:VEVENT
DTSTART;TZID=America/Chicago:20260713T143000
DTEND;TZID=America/Chicago:20260713T153000
DTSTAMP:20260421T184904
CREATED:20251223T230742Z
LAST-MODIFIED:20251223T230742Z
UID:10004403-1783953000-1783956600@pearlriver.lib.ms.us
SUMMARY:SRP 2026 - Unearth a Story - Activity Day
DESCRIPTION:Summer Reading Program will be filled with loads of fun and activities for children ages 6-11 years old. \nGet ready for a summer packed with fun\, learning\, and adventure! Every event is part of the Pearl River County Library System’s Unearth a Story Summer Reading Program. Kids\, teens\, and adults can read\, explore\, and win awesome prizes all summer long!  \nCheck out our Facebook page for updates @https://www.facebook.com/profile.php?id=61550585216976
URL:https://pearlriver.lib.ms.us/event/srp-2026-unearth-a-story-activity-day-7/
LOCATION:Meeting Room @PPL\, 202 West Beers Street\, Poplarville\, MS\, 39470\, United States
CATEGORIES:Children,General,Poplarville Public Library,Summer Reading Program 2026
ATTACH;FMTTYPE=image/png:https://pearlriver.lib.ms.us/wp-content/uploads/2024/04/AD.png
END:VEVENT
BEGIN:VEVENT
DTSTART;TZID=America/Chicago:20260716T100000
DTEND;TZID=America/Chicago:20260716T113000
DTSTAMP:20260421T184904
CREATED:20260421T213900Z
LAST-MODIFIED:20260421T213900Z
UID:10004650-1784196000-1784201400@pearlriver.lib.ms.us
SUMMARY:SRP - US History Trivia- Adult Program
DESCRIPTION:Are you a history buff?  Come test your knowledge of US History and learn about key moments in history as well as a dynamic way to explore major events\, iconic moments\, and hidden stories that shaped the country. \nThe program is free to attend. \nBe sure to check out the Pearl River County Library Systems webpage @https://pearlriver.lib.ms.us/  and Poplarville Public Library’s Facebook page to stay informed of any upcoming programs @https://www.facebook.com/profile.php?id=61550585216976 \nIf you have any questions\, please feel free to reach out to Mrs. Donna Taylor @601-795-8411 or email her @ppladults@pearlriver.lib.ms.us.
URL:https://pearlriver.lib.ms.us/event/srp-us-history-trivia-adult-program/
LOCATION:Meeting Room @PPL\, 202 West Beers Street\, Poplarville\, MS\, 39470\, United States
CATEGORIES:Adults,Poplarville Public Library,Summer Reading Program 2026
ATTACH;FMTTYPE=image/jpeg:https://pearlriver.lib.ms.us/wp-content/uploads/2026/04/CSLP_Slogan_Graphic_Horizontal-2.jpg
END:VEVENT
BEGIN:VEVENT
DTSTART;TZID=America/Chicago:20260716T173000
DTEND;TZID=America/Chicago:20260716T183000
DTSTAMP:20260421T184904
CREATED:20260406T165030Z
LAST-MODIFIED:20260406T165030Z
UID:10004625-1784223000-1784226600@pearlriver.lib.ms.us
SUMMARY:Kathy's Creative Art - Art Show
DESCRIPTION:
URL:https://pearlriver.lib.ms.us/event/kathys-creative-art-art-show/
LOCATION:Holland Hall @ CML\, 900 Goodyear Boulevard\, Picayune\, MS\, 39466\, United States
CATEGORIES:Crosby Memorial Library
ATTACH;FMTTYPE=image/png:https://pearlriver.lib.ms.us/wp-content/uploads/2024/01/6.png
END:VEVENT
BEGIN:VEVENT
DTSTART;TZID=America/Chicago:20260717T103000
DTEND;TZID=America/Chicago:20260717T110000
DTSTAMP:20260421T184904
CREATED:20251223T233201Z
LAST-MODIFIED:20251223T233201Z
UID:10004415-1784284200-1784286000@pearlriver.lib.ms.us
SUMMARY:SRP 2026 - Unearth a Story - StoryTime
DESCRIPTION:Summer Reading Program will be filled with loads of fun and activities for children ages 5 and under. \nGet ready for a summer packed with fun\, learning\, and adventure! Every event is part of the Pearl River County Library System’s Unearth a Story Summer Reading Program. Kids\, teens\, and adults can read\, explore\, and win awesome prizes all summer long!  \nCheck out our Facebook page for updates @https://www.facebook.com/profile.php?id=61550585216976
URL:https://pearlriver.lib.ms.us/event/srp-2026-unearth-a-story-storytime-6/
LOCATION:Meeting Room @PPL\, 202 West Beers Street\, Poplarville\, MS\, 39470\, United States
CATEGORIES:Children,General,Poplarville Public Library,Summer Reading Program 2026
ATTACH;FMTTYPE=image/png:https://pearlriver.lib.ms.us/wp-content/uploads/2024/04/ST.png
END:VEVENT
BEGIN:VEVENT
DTSTART;VALUE=DATE:20260801
DTEND;VALUE=DATE:20260809
DTSTAMP:20260421T184904
CREATED:20260420T192520Z
LAST-MODIFIED:20260420T194834Z
UID:10004631-1785542400-1786233599@pearlriver.lib.ms.us
SUMMARY:Meeting Room Unavailable
DESCRIPTION:The meeting room is unavailable for use at this time as our Friends Prepare for their annual book sale! \nWe apologize for any inconvenience
URL:https://pearlriver.lib.ms.us/event/meeting-room-unavailable/
LOCATION:Holland Hall @ CML\, 900 Goodyear Boulevard\, Picayune\, MS\, 39466\, United States
CATEGORIES:Crosby Memorial Library,General
END:VEVENT
BEGIN:VEVENT
DTSTART;TZID=America/Chicago:20260809T140000
DTEND;TZID=America/Chicago:20260809T170000
DTSTAMP:20260421T184904
CREATED:20260420T202249Z
LAST-MODIFIED:20260420T202249Z
UID:10004634-1786284000-1786294800@pearlriver.lib.ms.us
SUMMARY:Friends Book Sale - Early Preview For Friend's Members
DESCRIPTION:An early preview of the book sale open to all members of the Friends of CML. Not a member\, but want to come to the early preview? Memberships will be available at the doors!
URL:https://pearlriver.lib.ms.us/event/friends-book-sale-early-preview-for-friends-members/
LOCATION:Holland Hall @ CML\, 900 Goodyear Boulevard\, Picayune\, MS\, 39466\, United States
CATEGORIES:Crosby Memorial Library,General
ATTACH;FMTTYPE=image/png:https://pearlriver.lib.ms.us/wp-content/uploads/2024/02/CML-Friends.png
END:VEVENT
BEGIN:VEVENT
DTSTART;VALUE=DATE:20260810
DTEND;VALUE=DATE:20260816
DTSTAMP:20260421T184904
CREATED:20260420T192746Z
LAST-MODIFIED:20260421T190219Z
UID:10004633-1786320000-1786838399@pearlriver.lib.ms.us
SUMMARY:Friends of CML Annual Book Sale!
DESCRIPTION:Join us for the Friends of the Crosby Memorial Library \nAnnual Book Sale!\n@ Crosby Memorial Library in Holland Hall \nThe annual book sale is our Friends’ biggest fundraiser of each year. All funds support your local library. That means money for books\, free programs for the public\, and much\, much more! \n\nBooksale Dates and Times:\n\n\n\nDate\nTime\n\n\nMonday August 10\n9a – 6p\n\n\nTuesday August 11\n9a – 6p\n\n\nWednesday August 12\n9a – 6p\n\n\nThursday August 13\n9a – 6p\n\n\nFriday August 14\n9a – 6p\n\n\nSaturday August 15\n9a – 6p\n\n\n\n  \n\nFinal Two Days of Deals!\nDon’t forget to come by on Friday (4/14) and Saturday (4/15) for bonus deals! \nFriday: $1 per book | Sunday: $1 per foot \nPile them high and we’ll measure your savings! \nNot a friend yet? Memberships will be available at the door!
URL:https://pearlriver.lib.ms.us/event/friends-of-cml-annual-book-sale/
LOCATION:Holland Hall @ CML\, 900 Goodyear Boulevard\, Picayune\, MS\, 39466\, United States
CATEGORIES:Crosby Memorial Library,General
ATTACH;FMTTYPE=image/png:https://pearlriver.lib.ms.us/wp-content/uploads/2024/02/CML-Friends.png
END:VEVENT
BEGIN:VEVENT
DTSTART;TZID=America/Chicago:20260812T130000
DTEND;TZID=America/Chicago:20260812T153000
DTSTAMP:20260421T184904
CREATED:20260421T190335Z
LAST-MODIFIED:20260421T190413Z
UID:10004174-1786539600-1786548600@pearlriver.lib.ms.us
SUMMARY:PRC Historical Society Meeting
DESCRIPTION:
URL:https://pearlriver.lib.ms.us/event/prc-historical-society-meeting-4-2/
LOCATION:Holland Hall @ CML\, 900 Goodyear Boulevard\, Picayune\, MS\, 39466\, United States
CATEGORIES:Crosby Memorial Library
END:VEVENT
BEGIN:VEVENT
DTSTART;TZID=UTC:20260813T100000
DTEND;TZID=UTC:20260813T120000
DTSTAMP:20260421T184904
CREATED:20250508T220921Z
LAST-MODIFIED:20250508T220922Z
UID:10003721-1786615200-1786622400@pearlriver.lib.ms.us
SUMMARY:2nd Thursday Book Club
DESCRIPTION:
URL:https://pearlriver.lib.ms.us/event/2nd-thursday-book-club-5-2-2/2026-08-13/
LOCATION:Poplarville Public Library\, 202 W Beers St\, Poplarville\, MS\, 39470\, United States
CATEGORIES:Adults,General,Poplarville Public Library
ATTACH;FMTTYPE=image/png:https://pearlriver.lib.ms.us/wp-content/uploads/2024/08/PPL-Bookclub.png
END:VEVENT
BEGIN:VEVENT
DTSTART;VALUE=DATE:20260816
DTEND;VALUE=DATE:20260823
DTSTAMP:20260421T184904
CREATED:20260420T192643Z
LAST-MODIFIED:20260420T195033Z
UID:10004632-1786838400-1787443199@pearlriver.lib.ms.us
SUMMARY:Meeting Room Unavailable
DESCRIPTION:The meeting room is unavailable for use at this time! \nWe apologize for any inconvenience!
URL:https://pearlriver.lib.ms.us/event/meeting-room-unavailable-2/
LOCATION:Holland Hall @ CML\, 900 Goodyear Boulevard\, Picayune\, MS\, 39466\, United States
CATEGORIES:Crosby Memorial Library,General
END:VEVENT
BEGIN:VEVENT
DTSTART;TZID=America/Chicago:20260818T173000
DTEND;TZID=America/Chicago:20260818T183000
DTSTAMP:20260421T184904
CREATED:20251030T231008Z
LAST-MODIFIED:20260111T223252Z
UID:10004209-1787074200-1787077800@pearlriver.lib.ms.us
SUMMARY:PRCLS Board of Trustees Meeting
DESCRIPTION:
URL:https://pearlriver.lib.ms.us/event/prcls-board-of-trustees-meeting-7/2026-08-18/
LOCATION:Meeting Room @PPL\, 202 West Beers Street\, Poplarville\, MS\, 39470\, United States
CATEGORIES:Poplarville Public Library
ATTACH;FMTTYPE=image/png:https://pearlriver.lib.ms.us/wp-content/uploads/2024/01/BOT.png
END:VEVENT
BEGIN:VEVENT
DTSTART;VALUE=DATE:20260907
DTEND;VALUE=DATE:20260908
DTSTAMP:20260421T184904
CREATED:20251030T233353Z
LAST-MODIFIED:20251030T233353Z
UID:10004216-1788739200-1788825599@pearlriver.lib.ms.us
SUMMARY:Library Closed!
DESCRIPTION:Both branches of the Pearl River County Library System will be closed in observance of Labor Day.
URL:https://pearlriver.lib.ms.us/event/library-closed-32/
LOCATION:MS
CATEGORIES:Library Closure
ATTACH;FMTTYPE=image/png:https://pearlriver.lib.ms.us/wp-content/uploads/2024/01/Closed.png
END:VEVENT
BEGIN:VEVENT
DTSTART;TZID=America/Chicago:20260909T110000
DTEND;TZID=America/Chicago:20260909T133000
DTSTAMP:20260421T184904
CREATED:20251015T210041Z
LAST-MODIFIED:20251015T210041Z
UID:10004175-1788951600-1788960600@pearlriver.lib.ms.us
SUMMARY:PRC Historical Society Meeting
DESCRIPTION:
URL:https://pearlriver.lib.ms.us/event/prc-historical-society-meeting-4/2026-09-09/
LOCATION:Holland Hall @ CML\, 900 Goodyear Boulevard\, Picayune\, MS\, 39466\, United States
CATEGORIES:Crosby Memorial Library
END:VEVENT
BEGIN:VEVENT
DTSTART;TZID=UTC:20260910T100000
DTEND;TZID=UTC:20260910T120000
DTSTAMP:20260421T184905
CREATED:20250508T220921Z
LAST-MODIFIED:20250508T220922Z
UID:10003722-1789034400-1789041600@pearlriver.lib.ms.us
SUMMARY:2nd Thursday Book Club
DESCRIPTION:
URL:https://pearlriver.lib.ms.us/event/2nd-thursday-book-club-5-2-2/2026-09-10/
LOCATION:Poplarville Public Library\, 202 W Beers St\, Poplarville\, MS\, 39470\, United States
CATEGORIES:Adults,General,Poplarville Public Library
ATTACH;FMTTYPE=image/png:https://pearlriver.lib.ms.us/wp-content/uploads/2024/08/PPL-Bookclub.png
END:VEVENT
BEGIN:VEVENT
DTSTART;TZID=America/Chicago:20260915T173000
DTEND;TZID=America/Chicago:20260915T183000
DTSTAMP:20260421T184905
CREATED:20251030T230903Z
LAST-MODIFIED:20260111T223138Z
UID:10004203-1789493400-1789497000@pearlriver.lib.ms.us
SUMMARY:PRCLS Board of Trustees Meeting
DESCRIPTION:
URL:https://pearlriver.lib.ms.us/event/prcls-board-of-trustees-meeting-4/2026-09-15/
LOCATION:Holland Hall @ CML\, 900 Goodyear Boulevard\, Picayune\, MS\, 39466\, United States
CATEGORIES:Crosby Memorial Library
ATTACH;FMTTYPE=image/png:https://pearlriver.lib.ms.us/wp-content/uploads/2024/01/BOT.png
END:VEVENT
BEGIN:VEVENT
DTSTART;VALUE=DATE:20260925
DTEND;VALUE=DATE:20260926
DTSTAMP:20260421T184905
CREATED:20260218T161301Z
LAST-MODIFIED:20260218T161301Z
UID:10004548-1790294400-1790380799@pearlriver.lib.ms.us
SUMMARY:Holland Hall is Unavailable
DESCRIPTION:
URL:https://pearlriver.lib.ms.us/event/holland-hall-is-unavailable-5/
LOCATION:MS
CATEGORIES:Crosby Memorial Library
END:VEVENT
BEGIN:VEVENT
DTSTART;TZID=America/Chicago:20260926T090000
DTEND;TZID=America/Chicago:20260926T163000
DTSTAMP:20260421T184905
CREATED:20260218T155613Z
LAST-MODIFIED:20260218T155613Z
UID:10004547-1790413200-1790440200@pearlriver.lib.ms.us
SUMMARY:Picayune Writers Group Annual Writers' Symposium
DESCRIPTION:
URL:https://pearlriver.lib.ms.us/event/picayune-writers-group-annual-writers-symposium/
LOCATION:Holland Hall @ CML\, 900 Goodyear Boulevard\, Picayune\, MS\, 39466\, United States
CATEGORIES:Crosby Memorial Library
END:VEVENT
BEGIN:VEVENT
DTSTART;TZID=UTC:20261008T100000
DTEND;TZID=UTC:20261008T120000
DTSTAMP:20260421T184905
CREATED:20250508T220921Z
LAST-MODIFIED:20250508T220922Z
UID:10003723-1791453600-1791460800@pearlriver.lib.ms.us
SUMMARY:2nd Thursday Book Club
DESCRIPTION:
URL:https://pearlriver.lib.ms.us/event/2nd-thursday-book-club-5-2-2/2026-10-08/
LOCATION:Poplarville Public Library\, 202 W Beers St\, Poplarville\, MS\, 39470\, United States
CATEGORIES:Adults,General,Poplarville Public Library
ATTACH;FMTTYPE=image/png:https://pearlriver.lib.ms.us/wp-content/uploads/2024/08/PPL-Bookclub.png
END:VEVENT
BEGIN:VEVENT
DTSTART;TZID=America/Chicago:20261014T110000
DTEND;TZID=America/Chicago:20261014T133000
DTSTAMP:20260421T184905
CREATED:20251015T210041Z
LAST-MODIFIED:20251015T210041Z
UID:10004176-1791975600-1791984600@pearlriver.lib.ms.us
SUMMARY:PRC Historical Society Meeting
DESCRIPTION:
URL:https://pearlriver.lib.ms.us/event/prc-historical-society-meeting-4/2026-10-14/
LOCATION:Holland Hall @ CML\, 900 Goodyear Boulevard\, Picayune\, MS\, 39466\, United States
CATEGORIES:Crosby Memorial Library
END:VEVENT
BEGIN:VEVENT
DTSTART;VALUE=DATE:20261111
DTEND;VALUE=DATE:20261112
DTSTAMP:20260421T184905
CREATED:20251030T233535Z
LAST-MODIFIED:20251030T233535Z
UID:10004217-1794355200-1794441599@pearlriver.lib.ms.us
SUMMARY:Library Closed!
DESCRIPTION:Both branches of the Pearl River County Library System will be closed in observance of Veteran’s Day.
URL:https://pearlriver.lib.ms.us/event/library-closed-33/
LOCATION:MS
CATEGORIES:Library Closure
ATTACH;FMTTYPE=image/png:https://pearlriver.lib.ms.us/wp-content/uploads/2024/01/Closed.png
END:VEVENT
BEGIN:VEVENT
DTSTART;TZID=America/Chicago:20261111T110000
DTEND;TZID=America/Chicago:20261111T133000
DTSTAMP:20260421T184905
CREATED:20251015T210041Z
LAST-MODIFIED:20251015T210041Z
UID:10004177-1794394800-1794403800@pearlriver.lib.ms.us
SUMMARY:PRC Historical Society Meeting
DESCRIPTION:
URL:https://pearlriver.lib.ms.us/event/prc-historical-society-meeting-4/2026-11-11/
LOCATION:Holland Hall @ CML\, 900 Goodyear Boulevard\, Picayune\, MS\, 39466\, United States
CATEGORIES:Crosby Memorial Library
END:VEVENT
BEGIN:VEVENT
DTSTART;TZID=UTC:20261112T100000
DTEND;TZID=UTC:20261112T120000
DTSTAMP:20260421T184905
CREATED:20250508T220921Z
LAST-MODIFIED:20250508T220922Z
UID:10003724-1794477600-1794484800@pearlriver.lib.ms.us
SUMMARY:2nd Thursday Book Club
DESCRIPTION:
URL:https://pearlriver.lib.ms.us/event/2nd-thursday-book-club-5-2-2/2026-11-12/
LOCATION:Poplarville Public Library\, 202 W Beers St\, Poplarville\, MS\, 39470\, United States
CATEGORIES:Adults,General,Poplarville Public Library
ATTACH;FMTTYPE=image/png:https://pearlriver.lib.ms.us/wp-content/uploads/2024/08/PPL-Bookclub.png
END:VEVENT
BEGIN:VEVENT
DTSTART;VALUE=DATE:20261126
DTEND;VALUE=DATE:20261128
DTSTAMP:20260421T184905
CREATED:20251030T233702Z
LAST-MODIFIED:20251030T233702Z
UID:10004218-1795651200-1795823999@pearlriver.lib.ms.us
SUMMARY:Library Closed!
DESCRIPTION:Both branches of the Pearl River County Library System will be closed in observance of Thanksgiving.
URL:https://pearlriver.lib.ms.us/event/library-closed-34/
LOCATION:MS
CATEGORIES:Library Closure
ATTACH;FMTTYPE=image/png:https://pearlriver.lib.ms.us/wp-content/uploads/2024/01/Closed.png
END:VEVENT
BEGIN:VEVENT
DTSTART;TZID=America/Chicago:20261209T110000
DTEND;TZID=America/Chicago:20261209T133000
DTSTAMP:20260421T184905
CREATED:20251015T210041Z
LAST-MODIFIED:20251015T210041Z
UID:10004178-1796814000-1796823000@pearlriver.lib.ms.us
SUMMARY:PRC Historical Society Meeting
DESCRIPTION:
URL:https://pearlriver.lib.ms.us/event/prc-historical-society-meeting-4/2026-12-09/
LOCATION:Holland Hall @ CML\, 900 Goodyear Boulevard\, Picayune\, MS\, 39466\, United States
CATEGORIES:Crosby Memorial Library
END:VEVENT
BEGIN:VEVENT
DTSTART;TZID=UTC:20261210T100000
DTEND;TZID=UTC:20261210T120000
DTSTAMP:20260421T184905
CREATED:20250508T220921Z
LAST-MODIFIED:20250508T220922Z
UID:10003725-1796896800-1796904000@pearlriver.lib.ms.us
SUMMARY:2nd Thursday Book Club
DESCRIPTION:
URL:https://pearlriver.lib.ms.us/event/2nd-thursday-book-club-5-2-2/2026-12-10/
LOCATION:Poplarville Public Library\, 202 W Beers St\, Poplarville\, MS\, 39470\, United States
CATEGORIES:Adults,General,Poplarville Public Library
ATTACH;FMTTYPE=image/png:https://pearlriver.lib.ms.us/wp-content/uploads/2024/08/PPL-Bookclub.png
END:VEVENT
BEGIN:VEVENT
DTSTART;VALUE=DATE:20261224
DTEND;VALUE=DATE:20261226
DTSTAMP:20260421T184905
CREATED:20251030T233754Z
LAST-MODIFIED:20251030T233754Z
UID:10004219-1798070400-1798243199@pearlriver.lib.ms.us
SUMMARY:Library Closed!
DESCRIPTION:Both branches of the Pearl River County Library System will be closed in observance of Christmas.
URL:https://pearlriver.lib.ms.us/event/library-closed-35/
LOCATION:MS
CATEGORIES:Library Closure
ATTACH;FMTTYPE=image/png:https://pearlriver.lib.ms.us/wp-content/uploads/2024/01/Closed.png
END:VEVENT
BEGIN:VEVENT
DTSTART;TZID=UTC:20270114T100000
DTEND;TZID=UTC:20270114T120000
DTSTAMP:20260421T184905
CREATED:20250508T220921Z
LAST-MODIFIED:20250508T220922Z
UID:10003726-1799920800-1799928000@pearlriver.lib.ms.us
SUMMARY:2nd Thursday Book Club
DESCRIPTION:
URL:https://pearlriver.lib.ms.us/event/2nd-thursday-book-club-5-2-2/2027-01-14/
LOCATION:Poplarville Public Library\, 202 W Beers St\, Poplarville\, MS\, 39470\, United States
CATEGORIES:Adults,General,Poplarville Public Library
ATTACH;FMTTYPE=image/png:https://pearlriver.lib.ms.us/wp-content/uploads/2024/08/PPL-Bookclub.png
END:VEVENT
BEGIN:VEVENT
DTSTART;TZID=UTC:20270211T100000
DTEND;TZID=UTC:20270211T120000
DTSTAMP:20260421T184905
CREATED:20250508T220921Z
LAST-MODIFIED:20250508T220922Z
UID:10003727-1802340000-1802347200@pearlriver.lib.ms.us
SUMMARY:2nd Thursday Book Club
DESCRIPTION:
URL:https://pearlriver.lib.ms.us/event/2nd-thursday-book-club-5-2-2/2027-02-11/
LOCATION:Poplarville Public Library\, 202 W Beers St\, Poplarville\, MS\, 39470\, United States
CATEGORIES:Adults,General,Poplarville Public Library
ATTACH;FMTTYPE=image/png:https://pearlriver.lib.ms.us/wp-content/uploads/2024/08/PPL-Bookclub.png
END:VEVENT
BEGIN:VEVENT
DTSTART;TZID=UTC:20270311T100000
DTEND;TZID=UTC:20270311T120000
DTSTAMP:20260421T184905
CREATED:20250508T220921Z
LAST-MODIFIED:20250508T220922Z
UID:10003728-1804759200-1804766400@pearlriver.lib.ms.us
SUMMARY:2nd Thursday Book Club
DESCRIPTION:
URL:https://pearlriver.lib.ms.us/event/2nd-thursday-book-club-5-2-2/2027-03-11/
LOCATION:Poplarville Public Library\, 202 W Beers St\, Poplarville\, MS\, 39470\, United States
CATEGORIES:Adults,General,Poplarville Public Library
ATTACH;FMTTYPE=image/png:https://pearlriver.lib.ms.us/wp-content/uploads/2024/08/PPL-Bookclub.png
END:VEVENT
END:VCALENDAR