BEGIN:VCALENDAR
VERSION:2.0
PRODID:-//Pearl River County Library System - ECPv6.15.20//NONSGML v1.0//EN
CALSCALE:GREGORIAN
METHOD:PUBLISH
X-WR-CALNAME:Pearl River County Library System
X-ORIGINAL-URL:https://pearlriver.lib.ms.us
X-WR-CALDESC:Events for Pearl River County Library System
REFRESH-INTERVAL;VALUE=DURATION:PT1H
X-Robots-Tag:noindex
X-PUBLISHED-TTL:PT1H
BEGIN:VTIMEZONE
TZID:UTC
BEGIN:STANDARD
TZOFFSETFROM:+0000
TZOFFSETTO:+0000
TZNAME:UTC
DTSTART:20230101T000000
END:STANDARD
END:VTIMEZONE
BEGIN:VEVENT
DTSTART;TZID=UTC:20240227T123000
DTEND;TZID=UTC:20240227T133000
DTSTAMP:20260421T070241
CREATED:20240103T031248Z
LAST-MODIFIED:20240103T031248Z
UID:10001957-1709037000-1709040600@pearlriver.lib.ms.us
SUMMARY:PRCCHEA Crochet
DESCRIPTION:
URL:https://pearlriver.lib.ms.us/event/prcchea-crochet-2/
LOCATION:Poplarville Public Library\, 202 W Beers St\, Poplarville\, MS\, 39470\, United States
CATEGORIES:Children,General,Poplarville Public Library,Teens
END:VEVENT
BEGIN:VEVENT
DTSTART;TZID=UTC:20240227T103000
DTEND;TZID=UTC:20240227T113000
DTSTAMP:20260421T070241
CREATED:20231206T040709Z
LAST-MODIFIED:20240127T034534Z
UID:10001840-1709029800-1709033400@pearlriver.lib.ms.us
SUMMARY:Spring Storytime
DESCRIPTION:
URL:https://pearlriver.lib.ms.us/event/spring-storytime/2024-02-27/
LOCATION:Poplarville Public Library\, 202 W Beers St\, Poplarville\, MS\, 39470\, United States
CATEGORIES:Children,General,Poplarville Public Library
END:VEVENT
BEGIN:VEVENT
DTSTART;TZID=UTC:20240226T100000
DTEND;TZID=UTC:20240226T120000
DTSTAMP:20260421T070241
CREATED:20240126T011338Z
LAST-MODIFIED:20240126T011338Z
UID:10002079-1708941600-1708948800@pearlriver.lib.ms.us
SUMMARY:Dominoes
DESCRIPTION:
URL:https://pearlriver.lib.ms.us/event/dominoes-4/
LOCATION:Poplarville Public Library\, 202 W Beers St\, Poplarville\, MS\, 39470\, United States
CATEGORIES:Adults,General,Poplarville Public Library
END:VEVENT
BEGIN:VEVENT
DTSTART;TZID=UTC:20240223T130000
DTEND;TZID=UTC:20240223T143000
DTSTAMP:20260421T070241
CREATED:20240126T043821Z
LAST-MODIFIED:20240127T033039Z
UID:10002083-1708693200-1708698600@pearlriver.lib.ms.us
SUMMARY:Pokemon Club Ages 8 and up
DESCRIPTION:
URL:https://pearlriver.lib.ms.us/event/pokemon-club-ages-8-and-up/
LOCATION:Poplarville Public Library\, 202 W Beers St\, Poplarville\, MS\, 39470\, United States
CATEGORIES:Children,General,Poplarville Public Library,Teens
END:VEVENT
BEGIN:VEVENT
DTSTART;TZID=UTC:20240223T100000
DTEND;TZID=UTC:20240223T110000
DTSTAMP:20260421T070241
CREATED:20240206T220627Z
LAST-MODIFIED:20240206T220627Z
UID:10002254-1708682400-1708686000@pearlriver.lib.ms.us
SUMMARY:Poplarville Preschool Class
DESCRIPTION:
URL:https://pearlriver.lib.ms.us/event/poplarville-preschool-class/
LOCATION:Poplarville Public Library\, 202 W Beers St\, Poplarville\, MS\, 39470\, United States
CATEGORIES:General,Poplarville Public Library
END:VEVENT
BEGIN:VEVENT
DTSTART;TZID=UTC:20240222T130000
DTEND;TZID=UTC:20240222T160000
DTSTAMP:20260421T070241
CREATED:20240112T032307Z
LAST-MODIFIED:20240209T215509Z
UID:10002037-1708606800-1708617600@pearlriver.lib.ms.us
SUMMARY:Home School Dungeons & Dragons Teens
DESCRIPTION:
URL:https://pearlriver.lib.ms.us/event/home-school-dungeons-dragons-teens-2/
LOCATION:Poplarville Public Library\, 202 W Beers St\, Poplarville\, MS\, 39470\, United States
CATEGORIES:General,Poplarville Public Library,Teens
END:VEVENT
BEGIN:VEVENT
DTSTART;TZID=UTC:20240222T100000
DTEND;TZID=UTC:20240222T120000
DTSTAMP:20260421T070241
CREATED:20231201T020544Z
LAST-MODIFIED:20240127T034248Z
UID:10001828-1708596000-1708603200@pearlriver.lib.ms.us
SUMMARY:Coffee & Coloring
DESCRIPTION:
URL:https://pearlriver.lib.ms.us/event/coffee-coloring-4/
LOCATION:Poplarville Public Library\, 202 W Beers St\, Poplarville\, MS\, 39470\, United States
CATEGORIES:Adults,General,Poplarville Public Library
END:VEVENT
BEGIN:VEVENT
DTSTART;TZID=UTC:20240220T180000
DTEND;TZID=UTC:20240220T200000
DTSTAMP:20260421T070241
CREATED:20240119T040133Z
LAST-MODIFIED:20240119T040133Z
UID:10002059-1708452000-1708459200@pearlriver.lib.ms.us
SUMMARY:MS DHS
DESCRIPTION:
URL:https://pearlriver.lib.ms.us/event/ms-dhs/
LOCATION:Poplarville Public Library\, 202 W Beers St\, Poplarville\, MS\, 39470\, United States
CATEGORIES:Adults,General,Poplarville Public Library
END:VEVENT
BEGIN:VEVENT
DTSTART;TZID=UTC:20240220T160000
DTEND;TZID=UTC:20240220T170000
DTSTAMP:20260421T070241
CREATED:20231206T040949Z
LAST-MODIFIED:20240127T034451Z
UID:10001845-1708444800-1708448400@pearlriver.lib.ms.us
SUMMARY:Spring Storytime
DESCRIPTION:
URL:https://pearlriver.lib.ms.us/event/spring-storytime-2/2024-02-20/
LOCATION:Poplarville Public Library\, 202 W Beers St\, Poplarville\, MS\, 39470\, United States
CATEGORIES:Children,General,Poplarville Public Library
END:VEVENT
BEGIN:VEVENT
DTSTART;TZID=UTC:20240220T103000
DTEND;TZID=UTC:20240220T113000
DTSTAMP:20260421T070241
CREATED:20231206T040709Z
LAST-MODIFIED:20240127T034534Z
UID:10001839-1708425000-1708428600@pearlriver.lib.ms.us
SUMMARY:Spring Storytime
DESCRIPTION:
URL:https://pearlriver.lib.ms.us/event/spring-storytime/2024-02-20/
LOCATION:Poplarville Public Library\, 202 W Beers St\, Poplarville\, MS\, 39470\, United States
CATEGORIES:Children,General,Poplarville Public Library
END:VEVENT
BEGIN:VEVENT
DTSTART;TZID=UTC:20240215T173000
DTEND;TZID=UTC:20240215T183000
DTSTAMP:20260421T070241
CREATED:20240113T023915Z
LAST-MODIFIED:20240127T033716Z
UID:10002041-1708018200-1708021800@pearlriver.lib.ms.us
SUMMARY:Self Defense Class
DESCRIPTION:
URL:https://pearlriver.lib.ms.us/event/self-defense-class/2024-02-15/
LOCATION:Poplarville Public Library\, 202 W Beers St\, Poplarville\, MS\, 39470\, United States
CATEGORIES:Adults,General,Poplarville Public Library,Teens
END:VEVENT
BEGIN:VEVENT
DTSTART;TZID=UTC:20240215T140000
DTEND;TZID=UTC:20240215T150000
DTSTAMP:20260421T070241
CREATED:20231004T024520Z
LAST-MODIFIED:20240127T034317Z
UID:10001730-1708005600-1708009200@pearlriver.lib.ms.us
SUMMARY:Lego Club
DESCRIPTION:
URL:https://pearlriver.lib.ms.us/event/lego-club-3/
LOCATION:Poplarville Public Library\, 202 W Beers St\, Poplarville\, MS\, 39470\, United States
CATEGORIES:Children,General,Poplarville Public Library
END:VEVENT
BEGIN:VEVENT
DTSTART;TZID=UTC:20240215T093000
DTEND;TZID=UTC:20240215T110000
DTSTAMP:20260421T070241
CREATED:20231229T033816Z
LAST-MODIFIED:20231229T033816Z
UID:10001954-1707989400-1707994800@pearlriver.lib.ms.us
SUMMARY:Paint Class with Kay Kammer
DESCRIPTION:
URL:https://pearlriver.lib.ms.us/event/paint-class-with-kay-kammer/
LOCATION:Poplarville Public Library\, 202 W Beers St\, Poplarville\, MS\, 39470\, United States
CATEGORIES:Adults,General,Poplarville Public Library
END:VEVENT
BEGIN:VEVENT
DTSTART;TZID=UTC:20240213T160000
DTEND;TZID=UTC:20240213T170000
DTSTAMP:20260421T070241
CREATED:20231206T040949Z
LAST-MODIFIED:20240127T034451Z
UID:10001844-1707840000-1707843600@pearlriver.lib.ms.us
SUMMARY:Spring Storytime
DESCRIPTION:
URL:https://pearlriver.lib.ms.us/event/spring-storytime-2/2024-02-13/
LOCATION:Poplarville Public Library\, 202 W Beers St\, Poplarville\, MS\, 39470\, United States
CATEGORIES:Children,General,Poplarville Public Library
END:VEVENT
BEGIN:VEVENT
DTSTART;TZID=UTC:20240213T143000
DTEND;TZID=UTC:20240213T153000
DTSTAMP:20260421T070241
CREATED:20231201T020406Z
LAST-MODIFIED:20231229T032913Z
UID:10001827-1707834600-1707838200@pearlriver.lib.ms.us
SUMMARY:Home School Debate Club PRCCHEA
DESCRIPTION:
URL:https://pearlriver.lib.ms.us/event/home-school-debate-club-prcchea-3/
LOCATION:Poplarville Public Library\, 202 W Beers St\, Poplarville\, MS\, 39470\, United States
CATEGORIES:Children,General,Poplarville Public Library,Teens
END:VEVENT
BEGIN:VEVENT
DTSTART;TZID=UTC:20240213T130000
DTEND;TZID=UTC:20240213T140000
DTSTAMP:20260421T070241
CREATED:20231218T223017Z
LAST-MODIFIED:20231218T223017Z
UID:10001898-1707829200-1707832800@pearlriver.lib.ms.us
SUMMARY:Friends of the Poplarville Public Library Meeting
DESCRIPTION:
URL:https://pearlriver.lib.ms.us/event/friends-of-the-poplarville-public-library-meeting-2/2024-02-13/
LOCATION:Poplarville Public Library\, 202 W Beers St\, Poplarville\, MS\, 39470\, United States
CATEGORIES:Adults,General,Poplarville Public Library
END:VEVENT
BEGIN:VEVENT
DTSTART;TZID=UTC:20240213T110000
DTEND;TZID=UTC:20240213T120000
DTSTAMP:20260421T070241
CREATED:20231004T023101Z
LAST-MODIFIED:20240127T034949Z
UID:10001609-1707822000-1707825600@pearlriver.lib.ms.us
SUMMARY:Poplarville Writer's Group
DESCRIPTION:
URL:https://pearlriver.lib.ms.us/event/poplarville-writers-group/2024-02-13/
LOCATION:Poplarville Public Library\, 202 W Beers St\, Poplarville\, MS\, 39470\, United States
CATEGORIES:Adults,General,Poplarville Public Library
END:VEVENT
BEGIN:VEVENT
DTSTART;TZID=UTC:20240213T103000
DTEND;TZID=UTC:20240213T113000
DTSTAMP:20260421T070241
CREATED:20231206T040709Z
LAST-MODIFIED:20240127T034534Z
UID:10001838-1707820200-1707823800@pearlriver.lib.ms.us
SUMMARY:Spring Storytime
DESCRIPTION:
URL:https://pearlriver.lib.ms.us/event/spring-storytime/2024-02-13/
LOCATION:Poplarville Public Library\, 202 W Beers St\, Poplarville\, MS\, 39470\, United States
CATEGORIES:Children,General,Poplarville Public Library
END:VEVENT
BEGIN:VEVENT
DTSTART;TZID=UTC:20240209T140000
DTEND;TZID=UTC:20240209T160000
DTSTAMP:20260421T070241
CREATED:20240105T041642Z
LAST-MODIFIED:20240105T041642Z
UID:10001971-1707487200-1707494400@pearlriver.lib.ms.us
SUMMARY:Poplarville Garden Club
DESCRIPTION:
URL:https://pearlriver.lib.ms.us/event/poplarville-garden-club-2/
LOCATION:Poplarville Public Library\, 202 W Beers St\, Poplarville\, MS\, 39470\, United States
CATEGORIES:Adults,General,Poplarville Public Library
END:VEVENT
BEGIN:VEVENT
DTSTART;TZID=UTC:20240208T130000
DTEND;TZID=UTC:20240208T150000
DTSTAMP:20260421T070241
CREATED:20240112T032019Z
LAST-MODIFIED:20240112T032019Z
UID:10002035-1707397200-1707404400@pearlriver.lib.ms.us
SUMMARY:Home School Dungeons & Dragons Teens
DESCRIPTION:
URL:https://pearlriver.lib.ms.us/event/home-school-dungeons-dragons-teens/
LOCATION:Poplarville Public Library\, 202 W Beers St\, Poplarville\, MS\, 39470\, United States
CATEGORIES:General,Poplarville Public Library,Teens
END:VEVENT
BEGIN:VEVENT
DTSTART;TZID=UTC:20240208T100000
DTEND;TZID=UTC:20240208T120000
DTSTAMP:20260421T070241
CREATED:20240127T035450Z
LAST-MODIFIED:20240127T035501Z
UID:10001672-1707386400-1707393600@pearlriver.lib.ms.us
SUMMARY:2nd Thursday Book Club
DESCRIPTION:
URL:https://pearlriver.lib.ms.us/event/2nd-thursday-book-club-2/
LOCATION:Poplarville Public Library\, 202 W Beers St\, Poplarville\, MS\, 39470\, United States
CATEGORIES:Adults,General,Poplarville Public Library
END:VEVENT
BEGIN:VEVENT
DTSTART;TZID=UTC:20240206T160000
DTEND;TZID=UTC:20240206T170000
DTSTAMP:20260421T070241
CREATED:20231206T040949Z
LAST-MODIFIED:20240127T034451Z
UID:10001843-1707235200-1707238800@pearlriver.lib.ms.us
SUMMARY:Spring Storytime
DESCRIPTION:
URL:https://pearlriver.lib.ms.us/event/spring-storytime-2/2024-02-06/
LOCATION:Poplarville Public Library\, 202 W Beers St\, Poplarville\, MS\, 39470\, United States
CATEGORIES:Children,General,Poplarville Public Library
END:VEVENT
BEGIN:VEVENT
DTSTART;TZID=UTC:20240206T123000
DTEND;TZID=UTC:20240206T140000
DTSTAMP:20260421T070241
CREATED:20240120T034630Z
LAST-MODIFIED:20240120T034630Z
UID:10002063-1707222600-1707228000@pearlriver.lib.ms.us
SUMMARY:Home School Book Club
DESCRIPTION:
URL:https://pearlriver.lib.ms.us/event/home-school-book-club-4/
LOCATION:Poplarville Public Library\, 202 W Beers St\, Poplarville\, MS\, 39470\, United States
CATEGORIES:General,Poplarville Public Library,Teens
END:VEVENT
BEGIN:VEVENT
DTSTART;TZID=UTC:20240206T103000
DTEND;TZID=UTC:20240206T113000
DTSTAMP:20260421T070241
CREATED:20231206T040709Z
LAST-MODIFIED:20240127T034534Z
UID:10001837-1707215400-1707219000@pearlriver.lib.ms.us
SUMMARY:Spring Storytime
DESCRIPTION:
URL:https://pearlriver.lib.ms.us/event/spring-storytime/2024-02-06/
LOCATION:Poplarville Public Library\, 202 W Beers St\, Poplarville\, MS\, 39470\, United States
CATEGORIES:Children,General,Poplarville Public Library
END:VEVENT
BEGIN:VEVENT
DTSTART;TZID=UTC:20240205T130000
DTEND;TZID=UTC:20240205T150000
DTSTAMP:20260421T070241
CREATED:20231004T024309Z
LAST-MODIFIED:20231204T233521Z
UID:10001729-1707138000-1707145200@pearlriver.lib.ms.us
SUMMARY:Home School Chess Club
DESCRIPTION:
URL:https://pearlriver.lib.ms.us/event/home-school-chess-club-2/
LOCATION:Poplarville Public Library\, 202 W Beers St\, Poplarville\, MS\, 39470\, United States
CATEGORIES:Children,General,Poplarville Public Library
END:VEVENT
BEGIN:VEVENT
DTSTART;TZID=UTC:20240201T173000
DTEND;TZID=UTC:20240201T183000
DTSTAMP:20260421T070241
CREATED:20240113T023915Z
LAST-MODIFIED:20240127T033716Z
UID:10002040-1706808600-1706812200@pearlriver.lib.ms.us
SUMMARY:Self Defense Class
DESCRIPTION:
URL:https://pearlriver.lib.ms.us/event/self-defense-class/2024-02-01/
LOCATION:Poplarville Public Library\, 202 W Beers St\, Poplarville\, MS\, 39470\, United States
CATEGORIES:Adults,General,Poplarville Public Library,Teens
END:VEVENT
BEGIN:VEVENT
DTSTART;TZID=UTC:20240201T110000
DTEND;TZID=UTC:20240201T130000
DTSTAMP:20260421T070241
CREATED:20231103T194442Z
LAST-MODIFIED:20240127T034646Z
UID:10001757-1706785200-1706792400@pearlriver.lib.ms.us
SUMMARY:Cookbook Club
DESCRIPTION:Cook a dish from your favorite cookbook or try something new.  It can be one of your own or one you borrow from the library.  Just be sure to sign up with what type of dish you’ll be bringing\, whether a main dish\, side or dessert.  Then bring your dish and the cookbook it came from to the library\, and we’ll share a meal and talk about our experiences with the cookbook and learn if there’s something new we might want to try.  We look forward to this unique experience and hope to see you there.
URL:https://pearlriver.lib.ms.us/event/cookbook-club/
LOCATION:Poplarville Public Library\, 202 W Beers St\, Poplarville\, MS\, 39470\, United States
CATEGORIES:Adults,General,Poplarville Public Library
END:VEVENT
BEGIN:VEVENT
DTSTART;TZID=UTC:20240125T130000
DTEND;TZID=UTC:20240125T150000
DTSTAMP:20260421T070241
CREATED:20240112T031531Z
LAST-MODIFIED:20240112T032621Z
UID:10002034-1706187600-1706194800@pearlriver.lib.ms.us
SUMMARY:Home School Dungeons & Dragons for Teens
DESCRIPTION:
URL:https://pearlriver.lib.ms.us/event/home-school-dungeons-dragons-3/
LOCATION:Poplarville Public Library\, 202 W Beers St\, Poplarville\, MS\, 39470\, United States
CATEGORIES:Children,General,Poplarville Public Library
END:VEVENT
BEGIN:VEVENT
DTSTART;TZID=UTC:20240125T100000
DTEND;TZID=UTC:20240125T120000
DTSTAMP:20260421T070241
CREATED:20231201T014853Z
LAST-MODIFIED:20231201T014853Z
UID:10001821-1706176800-1706184000@pearlriver.lib.ms.us
SUMMARY:Dominoes
DESCRIPTION:
URL:https://pearlriver.lib.ms.us/event/dominoes-3/
LOCATION:Poplarville Public Library\, 202 W Beers St\, Poplarville\, MS\, 39470\, United States
CATEGORIES:Adults,General,Poplarville Public Library
END:VEVENT
BEGIN:VEVENT
DTSTART;TZID=UTC:20240123T180000
DTEND;TZID=UTC:20240123T200000
DTSTAMP:20260421T070241
CREATED:20231230T034023Z
LAST-MODIFIED:20240105T013043Z
UID:10001955-1706032800-1706040000@pearlriver.lib.ms.us
SUMMARY:MDHS
DESCRIPTION:
URL:https://pearlriver.lib.ms.us/event/mdhs/
LOCATION:Poplarville Public Library\, 202 W Beers St\, Poplarville\, MS\, 39470\, United States
CATEGORIES:Adults,General,Poplarville Public Library
END:VEVENT
END:VCALENDAR